Back to Multiple platform build/check report for BioC 3.14
AB[C]DEFGHIJKLMNOPQRSTUVWXYZ

This page was generated on 2021-09-20 12:05:03 -0400 (Mon, 20 Sep 2021).

BUILD BIN results for CNORfeeder on riesling1

To the developers/maintainers of the CNORfeeder package:
- Please allow up to 24 hours (and sometimes 48 hours) for your latest push to git@git.bioconductor.org:packages/CNORfeeder.git to
reflect on this report. See How and When does the builder pull? When will my changes propagate? here for more information.
- Make sure to use the following settings in order to reproduce any error or warning you see on this page.

raw results

Package 341/2029HostnameOS / ArchINSTALLBUILDCHECKBUILD BIN
CNORfeeder 1.33.0  (landing page)
E.Gjerga
Snapshot Date: 2021-09-19 14:50:04 -0400 (Sun, 19 Sep 2021)
git_url: https://git.bioconductor.org/packages/CNORfeeder
git_branch: master
git_last_commit: 3557575
git_last_commit_date: 2021-05-19 11:58:14 -0400 (Wed, 19 May 2021)
nebbiolo2Linux (Ubuntu 20.04.2 LTS) / x86_64  OK    OK    OK  UNNEEDED, same version is already published
riesling1Windows Server 2019 Standard / x64  OK    OK    OK    OK  UNNEEDED, same version is already published
merida1macOS 10.14.6 Mojave / x86_64  OK    OK    OK    OK  UNNEEDED, same version is already published

Summary

Package: CNORfeeder
Version: 1.33.0
Command: rm -rf CNORfeeder.buildbin-libdir && mkdir CNORfeeder.buildbin-libdir && D:\biocbuild\bbs-3.14-bioc\R\bin\R.exe CMD INSTALL --merge-multiarch --build --library=CNORfeeder.buildbin-libdir CNORfeeder_1.33.0.tar.gz
StartedAt: 2021-09-20 04:15:24 -0400 (Mon, 20 Sep 2021)
EndedAt: 2021-09-20 04:19:24 -0400 (Mon, 20 Sep 2021)
EllapsedTime: 239.6 seconds
RetCode: 0
Status:   OK  
PackageFile: CNORfeeder_1.33.0.zip
PackageFileSize: 2.051 MiB

Command output

##############################################################################
##############################################################################
###
### Running command:
###
###   rm -rf CNORfeeder.buildbin-libdir && mkdir CNORfeeder.buildbin-libdir && D:\biocbuild\bbs-3.14-bioc\R\bin\R.exe CMD INSTALL --merge-multiarch --build --library=CNORfeeder.buildbin-libdir CNORfeeder_1.33.0.tar.gz
###
##############################################################################
##############################################################################



install for i386

* installing *source* package 'CNORfeeder' ...
** using staged installation
** R
** data
** inst
** byte-compile and prepare package for lazy loading
** help
*** installing help indices
  converting help for package 'CNORfeeder'
    finding HTML links ... done
    Binference                              html  
    finding level-2 HTML links ... done

    CNORfeeder-package                      html  
    MIinference                             html  
    PPINigraph                              html  
    UniprotIDdream                          html  
    buildFeederObjectDynamic                html  
    cnolist                                 html  
    database                                html  
    feederObject                            html  
    gaBinaryT1W                             html  
    identifyMisfitIndices                   html  
    indices                                 html  
    integrateLinks                          html  
    integratedModel                         html  
    linksRanking                            html  
    makeBTables                             html  
    mapBTables2model                        html  
    mapDDN2model                            html  
    model                                   html  
    runDynamicFeeder                        html  
    simData                                 html  
    weighting                               html  
** building package indices
** installing vignettes
** testing if installed package can be loaded from temporary location
** testing if installed package can be loaded from final location
** testing if installed package keeps a record of temporary installation path

install for x64

* installing *source* package 'CNORfeeder' ...
** testing if installed package can be loaded
* MD5 sums
packaged installation of 'CNORfeeder' as CNORfeeder_1.33.0.zip
* DONE (CNORfeeder)