Back to Multiple platform build/check report for BioC 3.14
AB[C]DEFGHIJKLMNOPQRSTUVWXYZ

This page was generated on 2021-09-22 12:04:17 -0400 (Wed, 22 Sep 2021).

All results for package CNORfeeder

To the developers/maintainers of the CNORfeeder package:
- Please allow up to 24 hours (and sometimes 48 hours) for your latest push to git@git.bioconductor.org:packages/CNORfeeder.git to
reflect on this report. See How and When does the builder pull? When will my changes propagate? here for more information.
- Make sure to use the following settings in order to reproduce any error or warning you see on this page.

raw results

Package 341/2029HostnameOS / ArchINSTALLBUILDCHECKBUILD BIN
CNORfeeder 1.33.0  (landing page)
E.Gjerga
Snapshot Date: 2021-09-21 14:50:05 -0400 (Tue, 21 Sep 2021)
git_url: https://git.bioconductor.org/packages/CNORfeeder
git_branch: master
git_last_commit: 3557575
git_last_commit_date: 2021-05-19 11:58:14 -0400 (Wed, 19 May 2021)
nebbiolo2Linux (Ubuntu 20.04.2 LTS) / x86_64  OK    OK    OK  UNNEEDED, same version is already published
riesling1Windows Server 2019 Standard / x64  OK    OK    OK    OK  UNNEEDED, same version is already published
merida1macOS 10.14.6 Mojave / x86_64  OK    OK    OK    OK  UNNEEDED, same version is already published