Back to Multiple platform build/check report for BioC 3.14
AB[C]DEFGHIJKLMNOPQRSTUVWXYZ

This page was generated on 2021-10-25 14:06:10 -0400 (Mon, 25 Oct 2021).

BUILD BIN results for CNORdt on riesling1

To the developers/maintainers of the CNORdt package:
- Please allow up to 24 hours (and sometimes 48 hours) for your latest push to git@git.bioconductor.org:packages/CNORdt.git to
reflect on this report. See How and When does the builder pull? When will my changes propagate? here for more information.
- Make sure to use the following settings in order to reproduce any error or warning you see on this page.

raw results

Package 351/2083HostnameOS / ArchINSTALLBUILDCHECKBUILD BIN
CNORdt 1.35.0  (landing page)
A. MacNamara
Snapshot Date: 2021-10-24 14:50:04 -0400 (Sun, 24 Oct 2021)
git_url: https://git.bioconductor.org/packages/CNORdt
git_branch: master
git_last_commit: 8652727
git_last_commit_date: 2021-05-19 11:54:09 -0400 (Wed, 19 May 2021)
nebbiolo2Linux (Ubuntu 20.04.2 LTS) / x86_64  OK    OK    OK  UNNEEDED, same version is already published
riesling1Windows Server 2019 Standard / x64  OK    OK    OK    OK  UNNEEDED, same version is already published
merida1macOS 10.14.6 Mojave / x86_64  OK    OK    OK    OK  UNNEEDED, same version is already published
machv2macOS 10.14.6 Mojave / x86_64  OK    OK    OK    OK  

Summary

Package: CNORdt
Version: 1.35.0
Command: rm -rf CNORdt.buildbin-libdir && mkdir CNORdt.buildbin-libdir && D:\biocbuild\bbs-3.14-bioc\R\bin\R.exe CMD INSTALL --merge-multiarch --build --library=CNORdt.buildbin-libdir CNORdt_1.35.0.tar.gz
StartedAt: 2021-10-25 04:57:33 -0400 (Mon, 25 Oct 2021)
EndedAt: 2021-10-25 05:01:37 -0400 (Mon, 25 Oct 2021)
EllapsedTime: 243.7 seconds
RetCode: 0
Status:   OK  
PackageFile: CNORdt_1.35.0.zip
PackageFileSize: 275.5 KiB

Command output

##############################################################################
##############################################################################
###
### Running command:
###
###   rm -rf CNORdt.buildbin-libdir && mkdir CNORdt.buildbin-libdir && D:\biocbuild\bbs-3.14-bioc\R\bin\R.exe CMD INSTALL --merge-multiarch --build --library=CNORdt.buildbin-libdir CNORdt_1.35.0.tar.gz
###
##############################################################################
##############################################################################



install for i386

* installing *source* package 'CNORdt' ...
** using staged installation
** libs
"C:/rtools40/mingw32/bin/"gcc  -I"D:/biocbuild/bbs-3.14-bioc/R/include" -DNDEBUG     -I"C:/extsoft/include"     -O2 -Wall  -std=gnu99 -mfpmath=sse -msse2 -mstackrealign  -c simulatorDT.c -o simulatorDT.o
simulatorDT.c: In function 'simulatorDT':
simulatorDT.c:55:6: warning: unused variable 'nTimes' [-Wunused-variable]
  int nTimes = INTEGER(nTimes_in)[0];
      ^~~~~~
simulatorDT.c:53:6: warning: unused variable 'nSignals' [-Wunused-variable]
  int nSignals = INTEGER(nSignals_in)[0];
      ^~~~~~~~
C:/rtools40/mingw32/bin/gcc -shared -s -static-libgcc -o CNORdt.dll tmp.def simulatorDT.o -LC:/extsoft/lib/i386 -LC:/extsoft/lib -LD:/biocbuild/bbs-3.14-bioc/R/bin/i386 -lR
installing to D:/biocbuild/bbs-3.14-bioc/meat/CNORdt.buildbin-libdir/00LOCK-CNORdt/00new/CNORdt/libs/i386
** R
** data
** inst
** byte-compile and prepare package for lazy loading
** help
*** installing help indices
  converting help for package 'CNORdt'
    finding HTML links ... done
    CNOlistPB                               html  
    computeScoreDT                          html  
    convert2array                           html  
    cutAndPlotResultsDT                     html  
    finding level-2 HTML links ... done

    gaBinaryDT                              html  
    getFitDT                                html  
    modelPB                                 html  
    simulatorDT                             html  
** building package indices
** installing vignettes
** testing if installed package can be loaded from temporary location
** testing if installed package can be loaded from final location
** testing if installed package keeps a record of temporary installation path

install for x64

* installing *source* package 'CNORdt' ...
** libs
"C:/rtools40/mingw64/bin/"gcc  -I"D:/biocbuild/bbs-3.14-bioc/R/include" -DNDEBUG     -I"C:/extsoft/include"     -O2 -Wall  -std=gnu99 -mfpmath=sse -msse2 -mstackrealign  -c simulatorDT.c -o simulatorDT.o
simulatorDT.c: In function 'simulatorDT':
simulatorDT.c:55:6: warning: unused variable 'nTimes' [-Wunused-variable]
  int nTimes = INTEGER(nTimes_in)[0];
      ^~~~~~
simulatorDT.c:53:6: warning: unused variable 'nSignals' [-Wunused-variable]
  int nSignals = INTEGER(nSignals_in)[0];
      ^~~~~~~~
C:/rtools40/mingw64/bin/gcc -shared -s -static-libgcc -o CNORdt.dll tmp.def simulatorDT.o -LC:/extsoft/lib/x64 -LC:/extsoft/lib -LD:/biocbuild/bbs-3.14-bioc/R/bin/x64 -lR
installing to D:/biocbuild/bbs-3.14-bioc/meat/CNORdt.buildbin-libdir/CNORdt/libs/x64
** testing if installed package can be loaded
* MD5 sums
packaged installation of 'CNORdt' as CNORdt_1.35.0.zip
* DONE (CNORdt)