Back to Multiple platform build/check report for BioC 3.20:   simplified   long
AB[C]DEFGHIJKLMNOPQRSTUVWXYZ

This page was generated on 2024-05-15 13:46:29 -0400 (Wed, 15 May 2024).

HostnameOSArch (*)R versionInstalled pkgs
nebbiolo2Linux (Ubuntu 22.04.3 LTS)x86_644.4.0 RC (2024-04-16 r86468) -- "Puppy Cup" 4663
kunpeng2Linux (openEuler 22.03 LTS-SP1)aarch644.4.0 beta (2024-04-15 r86425) -- "Puppy Cup" 4480
Click on any hostname to see more info about the system (e.g. compilers)      (*) as reported by 'uname -p', except on Windows and Mac OS X

Package 373/2230HostnameOS / ArchINSTALLBUILDCHECKBUILD BIN
CMA 1.63.0  (landing page)
Roman Hornung
Snapshot Date: 2024-05-13 14:05:07 -0400 (Mon, 13 May 2024)
git_url: https://git.bioconductor.org/packages/CMA
git_branch: devel
git_last_commit: 6991900
git_last_commit_date: 2024-04-30 10:18:11 -0400 (Tue, 30 Apr 2024)
nebbiolo2Linux (Ubuntu 22.04.3 LTS) / x86_64  OK    OK    OK  UNNEEDED, same version is already published
kunpeng2Linux (openEuler 22.03 LTS-SP1) / aarch64  OK    OK    OK  
kjohnson1macOS 13.6.6 Ventura / arm64see weekly results here

CHECK results for CMA on kunpeng2


To the developers/maintainers of the CMA package:
- Allow up to 24 hours (and sometimes 48 hours) for your latest push to git@git.bioconductor.org:packages/CMA.git to reflect on this report. See Troubleshooting Build Report for more information.
- Use the following Renviron settings to reproduce errors and warnings.
- If 'R CMD check' started to fail recently on the Linux builder(s) over a missing dependency, add the missing dependency to 'Suggests:' in your DESCRIPTION file. See Renviron.bioc for more information.
- See Martin Grigorov's blog post for how to debug Linux ARM64 related issues on a x86_64 host.

raw results


Summary

Package: CMA
Version: 1.62.0
Command: /home/biocbuild/R/R-beta-2024-04-15_r86425/bin/R CMD check --install=check:CMA.install-out.txt --library=/home/biocbuild/R/R-beta-2024-04-15_r86425/site-library --no-vignettes --timings CMA_1.62.0.tar.gz
StartedAt: 2024-05-09 05:58:37 -0000 (Thu, 09 May 2024)
EndedAt: 2024-05-09 05:59:40 -0000 (Thu, 09 May 2024)
EllapsedTime: 63.1 seconds
RetCode: 0
Status:   OK  
CheckDir: CMA.Rcheck
Warnings: 0

Command output

##############################################################################
##############################################################################
###
### Running command:
###
###   /home/biocbuild/R/R-beta-2024-04-15_r86425/bin/R CMD check --install=check:CMA.install-out.txt --library=/home/biocbuild/R/R-beta-2024-04-15_r86425/site-library --no-vignettes --timings CMA_1.62.0.tar.gz
###
##############################################################################
##############################################################################


* using log directory ‘/home/biocbuild/bbs-3.19-bioc/meat/CMA.Rcheck’
* using R version 4.4.0 beta (2024-04-15 r86425)
* using platform: aarch64-unknown-linux-gnu
* R was compiled by
    gcc (GCC) 10.3.1
    GNU Fortran (GCC) 10.3.1
* running under: openEuler 22.03 (LTS-SP1)
* using session charset: UTF-8
* using option ‘--no-vignettes’
* checking for file ‘CMA/DESCRIPTION’ ... OK
* checking extension type ... Package
* this is package ‘CMA’ version ‘1.62.0’
* checking package namespace information ... OK
* checking package dependencies ... OK
* checking if this is a source package ... OK
* checking if there is a namespace ... OK
* checking for hidden files and directories ... OK
* checking for portable file names ... OK
* checking for sufficient/correct file permissions ... OK
* checking whether package ‘CMA’ can be installed ... OK
* checking installed package size ... OK
* checking package directory ... OK
* checking ‘build’ directory ... OK
* checking DESCRIPTION meta-information ... OK
* checking top-level files ... OK
* checking for left-over files ... OK
* checking index information ... OK
* checking package subdirectories ... OK
* checking code files for non-ASCII characters ... OK
* checking R files for syntax errors ... OK
* checking whether the package can be loaded ... OK
* checking whether the package can be loaded with stated dependencies ... OK
* checking whether the package can be unloaded cleanly ... OK
* checking whether the namespace can be loaded with stated dependencies ... OK
* checking whether the namespace can be unloaded cleanly ... OK
* checking loading without being on the library search path ... OK
* checking dependencies in R code ... NOTE
'library' or 'require' calls in package code:
  ‘MASS’ ‘class’ ‘corpcor’ ‘e1071’ ‘gbm’ ‘glmnet’ ‘limma’ ‘mgcv’
  ‘mvtnorm’ ‘nnet’ ‘plsgenomics’ ‘randomForest’ ‘st’
  Please use :: or requireNamespace() instead.
  See section 'Suggested packages' in the 'Writing R Extensions' manual.
* checking S3 generic/method consistency ... OK
* checking replacement functions ... OK
* checking foreign function calls ... OK
* checking R code for possible problems ... NOTE
ROCinternal: no visible binding for global variable ‘xlab’
ROCinternal: no visible binding for global variable ‘ylab’
ROCinternal: no visible binding for global variable ‘main’
ROCinternal: no visible binding for global variable ‘lwd’
ROCinternal: no visible global function definition for ‘box’
ROCinternal: no visible global function definition for ‘text’
characterplot: no visible global function definition for ‘points’
limmatest: no visible global function definition for ‘lmFit’
limmatest: no visible global function definition for ‘contrasts.fit’
limmatest: no visible global function definition for ‘eBayes’
limmatest: no visible global function definition for ‘classifyTestsF’
plotprob: no visible global function definition for ‘axis’
plotprob: no visible global function definition for ‘points’
plotprob: no visible global function definition for ‘abline’
plotprob: no visible global function definition for ‘text’
rfe: no visible binding for global variable ‘cost’
rfe: no visible binding for global variable ‘svm’
Planarplot,matrix-numeric-missing: no visible global function
  definition for ‘points’
boxplot,evaloutput: no visible binding for global variable ‘main’
compare,list: no visible global function definition for ‘par’
compare,list: no visible global function definition for
  ‘dev.interactive’
compare,list: no visible binding for global variable ‘main’
fdaCMA,matrix-numeric-missing: no visible global function definition
  for ‘points’
flexdaCMA,matrix-numeric-missing: no visible global function definition
  for ‘gam’
flexdaCMA,matrix-numeric-missing: no visible global function definition
  for ‘points’
gbmCMA,matrix-numeric-missing: no visible binding for global variable
  ‘n.minobsinnode’
gbmCMA,matrix-numeric-missing: no visible binding for global variable
  ‘bag.fraction’
gbmCMA,matrix-numeric-missing: no visible binding for global variable
  ‘n.trees’
gbmCMA,matrix-numeric-missing: no visible binding for global variable
  ‘verbose’
gbmCMA,matrix-numeric-missing: no visible binding for global variable
  ‘gbm.fit’
knnCMA,matrix-numeric-missing: no visible global function definition
  for ‘knn’
ldaCMA,matrix-numeric-missing: no visible global function definition
  for ‘lda’
nnetCMA,matrix-numeric-missing: no visible binding for global variable
  ‘size’
nnetCMA,matrix-numeric-missing: no visible binding for global variable
  ‘MaxNWts’
nnetCMA,matrix-numeric-missing: no visible global function definition
  for ‘class.ind’
plot,genesel-missing: no visible binding for global variable ‘xlab’
plot,genesel-missing: no visible binding for global variable ‘ylab’
plot,genesel-missing: no visible binding for global variable ‘main’
plot,genesel-missing: no visible binding for global variable ‘cex.lab’
plot,genesel-missing: no visible binding for global variable ‘ylim’
plot,genesel-missing: no visible binding for global variable ‘barplot’
plot,genesel-missing: no visible global function definition for ‘par’
plot,genesel-missing: no visible global function definition for
  ‘dev.interactive’
plot,tuningresult-missing: no visible binding for global variable
  ‘main’
plot,tuningresult-missing: no visible binding for global variable
  ‘xlab’
plot,tuningresult-missing: no visible binding for global variable
  ‘ylab’
plot,tuningresult-missing: no visible binding for global variable
  ‘ylim’
plot,tuningresult-missing: no visible binding for global variable
  ‘lines’
plot,tuningresult-missing: no visible global function definition for
  ‘abline’
plot,tuningresult-missing: no visible binding for global variable
  ‘contour’
plot,tuningresult-missing: no visible global function definition for
  ‘points’
pls_ldaCMA,matrix-numeric-missing: no visible global function
  definition for ‘pls.regression’
pls_ldaCMA,matrix-numeric-missing: no visible global function
  definition for ‘transformy’
pls_ldaCMA,matrix-numeric-missing: no visible global function
  definition for ‘lda’
pls_lrCMA,matrix-numeric-missing: no visible global function definition
  for ‘pls.regression’
pls_lrCMA,matrix-numeric-missing: no visible global function definition
  for ‘transformy’
pls_rfCMA,matrix-numeric-missing: no visible global function definition
  for ‘pls.regression’
pls_rfCMA,matrix-numeric-missing: no visible global function definition
  for ‘transformy’
pls_rfCMA,matrix-numeric-missing: no visible global function definition
  for ‘randomForest’
prediction,data.frame-missing-data.frame-formula: no visible global
  function definition for ‘predicition’
qdaCMA,matrix-numeric-missing: no visible global function definition
  for ‘qda’
rfCMA,matrix-numeric-missing: no visible global function definition for
  ‘randomForest’
shrinkldaCMA,matrix-numeric-missing: no visible global function
  definition for ‘cov.shrink’
svmCMA,matrix-numeric-missing: no visible binding for global variable
  ‘cost’
weighted.mcr,character-character-numeric-character-matrix-numeric: no
  visible global function definition for ‘make.positive.definite’
weighted.mcr,character-character-numeric-character-matrix-numeric: no
  visible global function definition for ‘pmvnorm’
weighted.mcr,character-character-numeric-character-matrix-numeric: no
  visible global function definition for ‘rmvnorm’
wmc,matrix-numeric-numeric: no visible global function definition for
  ‘make.positive.definite’
wmc,matrix-numeric-numeric: no visible global function definition for
  ‘pmvnorm’
wmc,matrix-numeric-numeric: no visible global function definition for
  ‘rmvnorm’
Undefined global functions or variables:
  MaxNWts abline axis bag.fraction barplot box cex.lab class.ind
  classifyTestsF contour contrasts.fit cost cov.shrink dev.interactive
  eBayes gam gbm.fit knn lda lines lmFit lwd main
  make.positive.definite n.minobsinnode n.trees par pls.regression
  pmvnorm points predicition qda randomForest rmvnorm size svm text
  transformy verbose xlab ylab ylim
Consider adding
  importFrom("grDevices", "dev.interactive")
  importFrom("graphics", "abline", "axis", "barplot", "box", "contour",
             "lines", "par", "points", "text")
to your NAMESPACE file.
* checking Rd files ... NOTE
checkRd: (-1) learningsets-class.Rd:28: Lost braces in \itemize; meant \describe ?
* checking Rd metadata ... OK
* checking Rd cross-references ... OK
* checking for missing documentation entries ... OK
* checking for code/documentation mismatches ... OK
* checking Rd \usage sections ... OK
* checking Rd contents ... OK
* checking for unstated dependencies in examples ... OK
* checking contents of ‘data’ directory ... OK
* checking data for non-ASCII characters ... OK
* checking data for ASCII and uncompressed saves ... OK
* checking files in ‘vignettes’ ... OK
* checking examples ... OK
* checking for unstated dependencies in vignettes ... OK
* checking package vignettes ... OK
* checking running R code from vignettes ... SKIPPED
* checking re-building of vignette outputs ... SKIPPED
* checking PDF version of manual ... OK
* DONE

Status: 3 NOTEs
See
  ‘/home/biocbuild/bbs-3.19-bioc/meat/CMA.Rcheck/00check.log’
for details.


Installation output

CMA.Rcheck/00install.out

##############################################################################
##############################################################################
###
### Running command:
###
###   /home/biocbuild/R/R-beta-2024-04-15_r86425/bin/R CMD INSTALL CMA
###
##############################################################################
##############################################################################


* installing to library ‘/home/biocbuild/R/R-beta-2024-04-15_r86425/site-library’
* installing *source* package ‘CMA’ ...
** using staged installation
** R
** data
** byte-compile and prepare package for lazy loading
** help
*** installing help indices
** building package indices
** installing vignettes
** testing if installed package can be loaded from temporary location
** testing if installed package can be loaded from final location
** testing if installed package keeps a record of temporary installation path
* DONE (CMA)

Tests output


Example timings

CMA.Rcheck/CMA-Ex.timings

nameusersystemelapsed
ElasticNetCMA1.6980.0871.794
GeneSelection0.1590.0080.167
GenerateLearningsets0.0110.0000.011
LassoCMA0.2710.0120.282
Planarplot0.2890.0040.293
classification000
compBoostCMA1.2880.0001.293
compare000
dldaCMA0.1610.0000.161
evaluation0.1220.0000.122
fdaCMA0.0820.0000.083
flexdaCMA0.1620.0000.163
gbmCMA2.1200.0082.132
golub0.0250.0000.024
khan0.0310.0040.035
knnCMA0.1630.0000.165
ldaCMA0.0010.0000.000
nnetCMA0.0550.0040.059
pknnCMA0.3340.0040.339
plrCMA0.2660.0040.271
pls_ldaCMA0.0010.0000.000
pls_lrCMA0.9910.0121.031
pls_rfCMA0.0540.0000.054
pnnCMA0.0370.0040.041
prediction000
qdaCMA0.0890.0040.096
rfCMA0.0580.0000.058
scdaCMA0.1060.0080.114
shrinkldaCMA0.0860.0080.094
svmCMA0.5140.0080.523
tune000
weighted_mcr2.6710.0832.763