Back to Multiple platform build/check report for BioC 3.14
AB[C]DEFGHIJKLMNOPQRSTUVWXYZ

This page was generated on 2021-06-22 12:05:50 -0400 (Tue, 22 Jun 2021).

INSTALL results for CHRONOS on riesling1

To the developers/maintainers of the CHRONOS package:
- Please allow up to 24 hours (and sometimes 48 hours) for your latest push to git@git.bioconductor.org:packages/CHRONOS.git to
reflect on this report. See How and When does the builder pull? When will my changes propagate? here for more information.
- Make sure to use the following settings in order to reproduce any error or warning you see on this page.

raw results

Package 301/1993HostnameOS / ArchINSTALLBUILDCHECKBUILD BIN
CHRONOS 1.21.0  (landing page)
Panos Balomenos
Snapshot Date: 2021-06-21 14:50:06 -0400 (Mon, 21 Jun 2021)
URL: https://git.bioconductor.org/packages/CHRONOS
Branch: master
Last Commit: 18a775c
Last Changed Date: 2021-05-19 12:20:19 -0400 (Wed, 19 May 2021)
nebbiolo2Linux (Ubuntu 20.04.2 LTS) / x86_64  OK    ERROR  skipped
riesling1Windows Server 2019 Standard / x64  OK    OK    OK    OK  UNNEEDED, same version is already published
merida1macOS 10.14.6 Mojave / x86_64  OK    ERROR  skippedskipped

Summary

Package: CHRONOS
Version: 1.21.0
Command: D:\biocbuild\bbs-3.14-bioc\R\bin\R.exe --arch x64 CMD INSTALL --no-multiarch CHRONOS
StartedAt: 2021-06-21 17:04:38 -0400 (Mon, 21 Jun 2021)
EndedAt: 2021-06-21 17:07:17 -0400 (Mon, 21 Jun 2021)
EllapsedTime: 159.2 seconds
RetCode: 0
Status:   OK  

Command output

##############################################################################
##############################################################################
###
### Running command:
###
###   D:\biocbuild\bbs-3.14-bioc\R\bin\R.exe --arch x64 CMD INSTALL --no-multiarch CHRONOS
###
##############################################################################
##############################################################################


* installing to library 'D:/biocbuild/bbs-3.14-bioc/R/library'
* installing *source* package 'CHRONOS' ...
** using staged installation
** R
** inst
** byte-compile and prepare package for lazy loading
** help
*** installing help indices
  converting help for package 'CHRONOS'
    finding HTML links ... done
    CHRONOSrun                              html  
    convertMiRNANomenclature                html  
    convertNomenclature                     html  
    createPathwayGraphs                     html  
    downloadKEGGPathwayList                 html  
    downloadMiRecords                       html  
    downloadPathways                        html  
    extractLinearSubpathways                html  
    extractNonLinearSubpathways             html  
    getEdgeTypes                            html  
    importExpressions                       html  
    pathwayMeasures                         html  
    scoreSubpathways                        html  
    subpathwayKEGGmap                       html  
    subpathwayMiRNAs                        html  
    visualizeResults                        html  
** building package indices
** installing vignettes
** testing if installed package can be loaded from temporary location
** testing if installed package can be loaded from final location
** testing if installed package keeps a record of temporary installation path
* DONE (CHRONOS)
Making 'packages.html' ... done