Back to Multiple platform build/check report for BioC 3.14
AB[C]DEFGHIJKLMNOPQRSTUVWXYZ

CHECK results for CHRONOS on riesling1

This page was generated on 2021-06-12 12:04:59 -0400 (Sat, 12 Jun 2021).

Package 301/1993HostnameOS / ArchINSTALLBUILDCHECKBUILD BIN
CHRONOS 1.21.0  (landing page)
Panos Balomenos
Snapshot Date: 2021-06-11 14:50:09 -0400 (Fri, 11 Jun 2021)
URL: https://git.bioconductor.org/packages/CHRONOS
Branch: master
Last Commit: 18a775c
Last Changed Date: 2021-05-19 12:20:19 -0400 (Wed, 19 May 2021)
nebbiolo2Linux (Ubuntu 20.04.2 LTS) / x86_64  OK    ERROR  skipped
riesling1Windows Server 2019 Standard / x64  OK    OK    OK    OK  UNNEEDED, same version is already published
merida1macOS 10.14.6 Mojave / x86_64  OK    ERROR  skippedskipped
To the developers/maintainers of the CHRONOS package:
- Please allow up to 24 hours (and sometimes 48 hours) for your latest push to git@git.bioconductor.org:packages/CHRONOS.git to
reflect on this report. See How and When does the builder pull? When will my changes propagate? here for more information.
- Make sure to use the following settings in order to reproduce any error or warning you see on this page.

Summary

Package: CHRONOS
Version: 1.21.0
Command: D:\biocbuild\bbs-3.14-bioc\R\bin\R.exe --arch x64 CMD check --no-multiarch --install=check:CHRONOS.install-out.txt --library=D:\biocbuild\bbs-3.14-bioc\R\library --no-vignettes --timings CHRONOS_1.21.0.tar.gz
StartedAt: 2021-06-11 23:38:02 -0400 (Fri, 11 Jun 2021)
EndedAt: 2021-06-11 23:42:18 -0400 (Fri, 11 Jun 2021)
EllapsedTime: 256.4 seconds
RetCode: 0
Status:   OK   
CheckDir: CHRONOS.Rcheck
Warnings: 0

Command output

##############################################################################
##############################################################################
###
### Running command:
###
###   D:\biocbuild\bbs-3.14-bioc\R\bin\R.exe --arch x64 CMD check --no-multiarch --install=check:CHRONOS.install-out.txt --library=D:\biocbuild\bbs-3.14-bioc\R\library --no-vignettes --timings CHRONOS_1.21.0.tar.gz
###
##############################################################################
##############################################################################


* using log directory 'D:/biocbuild/bbs-3.14-bioc/meat/CHRONOS.Rcheck'
* using R version 4.1.0 (2021-05-18)
* using platform: x86_64-w64-mingw32 (64-bit)
* using session charset: ISO8859-1
* using option '--no-vignettes'
* checking for file 'CHRONOS/DESCRIPTION' ... OK
* this is package 'CHRONOS' version '1.21.0'
* checking package namespace information ... OK
* checking package dependencies ... OK
* checking if this is a source package ... OK
* checking if there is a namespace ... OK
* checking for hidden files and directories ... NOTE
Found the following hidden files and directories:
  .BBSoptions
These were most likely included in error. See section 'Package
structure' in the 'Writing R Extensions' manual.
* checking for portable file names ... OK
* checking whether package 'CHRONOS' can be installed ... OK
* checking installed package size ... OK
* checking package directory ... OK
* checking 'build' directory ... OK
* checking DESCRIPTION meta-information ... OK
* checking top-level files ... OK
* checking for left-over files ... OK
* checking index information ... OK
* checking package subdirectories ... OK
* checking R files for non-ASCII characters ... OK
* checking R files for syntax errors ... OK
* checking whether the package can be loaded ... OK
* checking whether the package can be loaded with stated dependencies ... OK
* checking whether the package can be unloaded cleanly ... OK
* checking whether the namespace can be loaded with stated dependencies ... OK
* checking whether the namespace can be unloaded cleanly ... OK
* checking dependencies in R code ... OK
* checking S3 generic/method consistency ... OK
* checking replacement functions ... OK
* checking foreign function calls ... OK
* checking R code for possible problems ... OK
* checking Rd files ... OK
* checking Rd metadata ... OK
* checking Rd cross-references ... OK
* checking for missing documentation entries ... OK
* checking for code/documentation mismatches ... OK
* checking Rd \usage sections ... OK
* checking Rd contents ... OK
* checking for unstated dependencies in examples ... OK
* checking files in 'vignettes' ... OK
* checking examples ... OK
* checking for unstated dependencies in 'tests' ... OK
* checking tests ...
  Running 'runTests.R'
 OK
* checking for unstated dependencies in vignettes ... OK
* checking package vignettes in 'inst/doc' ... OK
* checking running R code from vignettes ... SKIPPED
* checking re-building of vignette outputs ... SKIPPED
* checking PDF version of manual ... OK
* DONE

Status: 1 NOTE
See
  'D:/biocbuild/bbs-3.14-bioc/meat/CHRONOS.Rcheck/00check.log'
for details.



Installation output

CHRONOS.Rcheck/00install.out

##############################################################################
##############################################################################
###
### Running command:
###
###   D:\biocbuild\bbs-3.14-bioc\R\bin\R.exe --arch x64 CMD INSTALL --no-multiarch CHRONOS
###
##############################################################################
##############################################################################


* installing to library 'D:/biocbuild/bbs-3.14-bioc/R/library'
* installing *source* package 'CHRONOS' ...
** using staged installation
** R
** inst
** byte-compile and prepare package for lazy loading
** help
*** installing help indices
  converting help for package 'CHRONOS'
    finding HTML links ... done
    CHRONOSrun                              html  
    convertMiRNANomenclature                html  
    convertNomenclature                     html  
    createPathwayGraphs                     html  
    downloadKEGGPathwayList                 html  
    downloadMiRecords                       html  
    downloadPathways                        html  
    extractLinearSubpathways                html  
    extractNonLinearSubpathways             html  
    getEdgeTypes                            html  
    importExpressions                       html  
    pathwayMeasures                         html  
    scoreSubpathways                        html  
    subpathwayKEGGmap                       html  
    subpathwayMiRNAs                        html  
    visualizeResults                        html  
** building package indices
** installing vignettes
** testing if installed package can be loaded from temporary location
** testing if installed package can be loaded from final location
** testing if installed package keeps a record of temporary installation path
* DONE (CHRONOS)
Making 'packages.html' ... done

Tests output

CHRONOS.Rcheck/tests/runTests.Rout


R version 4.1.0 (2021-05-18) -- "Camp Pontanezen"
Copyright (C) 2021 The R Foundation for Statistical Computing
Platform: x86_64-w64-mingw32/x64 (64-bit)

R is free software and comes with ABSOLUTELY NO WARRANTY.
You are welcome to redistribute it under certain conditions.
Type 'license()' or 'licence()' for distribution details.

R is a collaborative project with many contributors.
Type 'contributors()' for more information and
'citation()' on how to cite R or R packages in publications.

Type 'demo()' for some demos, 'help()' for on-line help, or
'help.start()' for an HTML browser interface to help.
Type 'q()' to quit R.

> BiocGenerics:::testPackage('CHRONOS')
Testing test_CHRONOSrun...Importing entrezgene data...done.
Importing miRNA data...done.
Downloading files...done.
Creating adjacency matrices...done.
Extracting Linear Subpathways...done.
	#98 subpathways initially
Calculating subscores...done.
	#21 subpathways after subscore.
Calculating mirscores......end.
Extracting Non Linear Subpathways...done.
	#24 subpathways initially
Calculating subscores...done.
	#19 subpathways after subscore.
Calculating mirscores......end.
done.
Testing test_pathwayToGraph...Creating adjacency matrices...done.
done.
Testing test_subExtractionLinear...Importing entrezgene data...done.
Extracting Linear Subpathways...done.
done.
Testing test_subExtractionNonLinear...Importing entrezgene data...done.
Extracting Non Linear Subpathways...done.
done.
Testing test_subRefinement...Importing entrezgene data...done.
Importing miRNA data...done.
	#98 subpathways initially
Calculating subscores...done.
	#21 subpathways after subscore.
Calculating mirscores......end.
done.
Testing test_subVisualization...Importing entrezgene data...done.
Summarising scores...done.
Summarising scores...done.
done.


RUNIT TEST PROTOCOL -- Fri Jun 11 23:39:50 2021 
*********************************************** 
Number of test functions: 6 
Number of errors: 0 
Number of failures: 0 

 
1 Test Suite : 
CHRONOS RUnit Tests - 6 test functions, 0 errors, 0 failures
Number of test functions: 6 
Number of errors: 0 
Number of failures: 0 
> 
> 
> proc.time()
   user  system elapsed 
   6.39    0.68    9.92 

Example timings

CHRONOS.Rcheck/CHRONOS-Ex.timings

nameusersystemelapsed
CHRONOSrun1.280.171.34
convertMiRNANomenclature000
convertNomenclature000
createPathwayGraphs0.30.00.3
downloadKEGGPathwayList0.010.000.01
downloadMiRecords0.020.020.03
downloadPathways000
extractLinearSubpathways0.360.000.28
extractNonLinearSubpathways0.140.010.18
getEdgeTypes000
importExpressions0.060.020.07
pathwayMeasures0.130.000.13
scoreSubpathways0.070.000.08
subpathwayKEGGmap0.030.000.03
subpathwayMiRNAs1.020.081.09
visualizeResults0.200.031.63