Back to Multiple platform build/check report for BioC 3.15
AB[C]DEFGHIJKLMNOPQRSTUVWXYZ

This page was generated on 2021-11-26 14:04:53 -0500 (Fri, 26 Nov 2021).

CHECK results for CATALYST on riesling1

To the developers/maintainers of the CATALYST package:
- Please allow up to 24 hours (and sometimes 48 hours) for your latest push to git@git.bioconductor.org:packages/CATALYST.git to
reflect on this report. See How and When does the builder pull? When will my changes propagate? here for more information.
- Make sure to use the following settings in order to reproduce any error or warning you see on this page.

raw results

Package 245/2068HostnameOS / ArchINSTALLBUILDCHECKBUILD BIN
CATALYST 1.19.0  (landing page)
Helena L. Crowell
Snapshot Date: 2021-11-25 14:50:11 -0500 (Thu, 25 Nov 2021)
git_url: https://git.bioconductor.org/packages/CATALYST
git_branch: master
git_last_commit: 4988576
git_last_commit_date: 2021-10-26 12:34:36 -0500 (Tue, 26 Oct 2021)
nebbiolo1Linux (Ubuntu 20.04.3 LTS) / x86_64  OK    OK    OK  UNNEEDED, same version is already published
riesling1Windows Server 2019 Standard / x64  OK    OK    OK    OK  
merida1macOS 10.14.6 Mojave / x86_64  OK    OK    OK    OK  UNNEEDED, same version is already published

Summary

Package: CATALYST
Version: 1.19.0
Command: D:\biocbuild\bbs-3.15-bioc\R\bin\R.exe CMD check --force-multiarch --install=check:CATALYST.install-out.txt --library=D:\biocbuild\bbs-3.15-bioc\R\library --no-vignettes --timings CATALYST_1.19.0.tar.gz
StartedAt: 2021-11-26 00:42:03 -0500 (Fri, 26 Nov 2021)
EndedAt: 2021-11-26 00:53:12 -0500 (Fri, 26 Nov 2021)
EllapsedTime: 668.9 seconds
RetCode: 0
Status:   OK  
CheckDir: CATALYST.Rcheck
Warnings: 0

Command output

##############################################################################
##############################################################################
###
### Running command:
###
###   D:\biocbuild\bbs-3.15-bioc\R\bin\R.exe CMD check --force-multiarch --install=check:CATALYST.install-out.txt --library=D:\biocbuild\bbs-3.15-bioc\R\library --no-vignettes --timings CATALYST_1.19.0.tar.gz
###
##############################################################################
##############################################################################


* using log directory 'D:/biocbuild/bbs-3.15-bioc/meat/CATALYST.Rcheck'
* using R Under development (unstable) (2021-11-21 r81221)
* using platform: x86_64-w64-mingw32 (64-bit)
* using session charset: ISO8859-1
* using option '--no-vignettes'
* checking for file 'CATALYST/DESCRIPTION' ... OK
* checking extension type ... Package
* this is package 'CATALYST' version '1.19.0'
* package encoding: UTF-8
* checking package namespace information ... OK
* checking package dependencies ... OK
* checking if this is a source package ... OK
* checking if there is a namespace ... OK
* checking for hidden files and directories ... OK
* checking for portable file names ... OK
* checking whether package 'CATALYST' can be installed ... OK
* checking installed package size ... OK
* checking package directory ... OK
* checking 'build' directory ... OK
* checking DESCRIPTION meta-information ... OK
* checking top-level files ... OK
* checking for left-over files ... OK
* checking index information ... OK
* checking package subdirectories ... OK
* checking R files for non-ASCII characters ... OK
* checking R files for syntax errors ... OK
* checking whether the package can be loaded ... OK
* checking whether the package can be loaded with stated dependencies ... OK
* checking whether the package can be unloaded cleanly ... OK
* checking whether the namespace can be loaded with stated dependencies ... OK
* checking whether the namespace can be unloaded cleanly ... OK
* checking dependencies in R code ... OK
* checking S3 generic/method consistency ... OK
* checking replacement functions ... OK
* checking foreign function calls ... OK
* checking R code for possible problems ... OK
* checking Rd files ... OK
* checking Rd metadata ... OK
* checking Rd cross-references ... OK
* checking for missing documentation entries ... OK
* checking for code/documentation mismatches ... OK
* checking Rd \usage sections ... OK
* checking Rd contents ... OK
* checking for unstated dependencies in examples ... OK
* checking contents of 'data' directory ... OK
* checking data for non-ASCII characters ... OK
* checking LazyData ... OK
* checking data for ASCII and uncompressed saves ... OK
* checking files in 'vignettes' ... OK
* checking examples ... OK
Examples with CPU (user + system) or elapsed time > 5s
                 user system elapsed
plotDR           9.40   0.08    9.48
plotMultiHeatmap 8.94   0.04    9.00
plotDiffHeatmap  8.44   0.20    8.66
plotPbExprs      8.02   0.05    8.06
sce2fcs          7.35   0.24    8.20
plotExprHeatmap  6.22   0.02    6.25
plotClusterExprs 5.81   0.07    5.91
SCE-accessors    4.50   1.01    5.52
pbMDS            5.11   0.05    5.16
* checking for unstated dependencies in 'tests' ... OK
* checking tests ...
  Running 'testthat.R'
 OK
* checking for unstated dependencies in vignettes ... OK
* checking package vignettes in 'inst/doc' ... OK
* checking running R code from vignettes ... SKIPPED
* checking re-building of vignette outputs ... SKIPPED
* checking PDF version of manual ... OK
* DONE

Status: OK


Installation output

CATALYST.Rcheck/00install.out

##############################################################################
##############################################################################
###
### Running command:
###
###   C:\cygwin\bin\curl.exe -O http://155.52.207.165/BBS/3.15/bioc/src/contrib/CATALYST_1.19.0.tar.gz && rm -rf CATALYST.buildbin-libdir && mkdir CATALYST.buildbin-libdir && D:\biocbuild\bbs-3.15-bioc\R\bin\R.exe CMD INSTALL --merge-multiarch --build --library=CATALYST.buildbin-libdir CATALYST_1.19.0.tar.gz && D:\biocbuild\bbs-3.15-bioc\R\bin\R.exe CMD INSTALL CATALYST_1.19.0.zip && rm CATALYST_1.19.0.tar.gz CATALYST_1.19.0.zip
###
##############################################################################
##############################################################################


  % Total    % Received % Xferd  Average Speed   Time    Time     Time  Current
                                 Dload  Upload   Total   Spent    Left  Speed

  0     0    0     0    0     0      0      0 --:--:-- --:--:-- --:--:--     0
  1 3592k    1 40435    0     0   261k      0  0:00:13 --:--:--  0:00:13  259k
100 3592k  100 3592k    0     0  4451k      0 --:--:-- --:--:-- --:--:-- 4445k
only one architecture so ignoring '--merge-multiarch'
* installing *source* package 'CATALYST' ...
** using staged installation
** R
** data
*** moving datasets to lazyload DB
** inst
** byte-compile and prepare package for lazy loading
** help
*** installing help indices
  converting help for package 'CATALYST'
    finding HTML links ... done
    SCE-accessors                           html  
    finding level-2 HTML links ... done

    adaptSpillmat                           html  
    applyCutoffs                            html  
    assignPrelim                            html  
    clrDR                                   html  
    cluster                                 html  
    compCytof                               html  
    computeSpillmat                         html  
    data                                    html  
    estCutoffs                              html  
    extractClusters                         html  
    filterSCE                               html  
    guessPanel                              html  
    mergeClusters                           html  
    normCytof                               html  
    pbMDS                                   html  
    plotAbundances                          html  
    plotClusterExprs                        html  
    plotClusterHeatmap                      html  
    plotCodes                               html  
    plotCounts                              html  
    plotDR                                  html  
    plotDiffHeatmap                         html  
    plotEvents                              html  
    plotExprHeatmap                         html  
    plotExprs                               html  
    plotFreqHeatmap                         html  
    plotMahal                               html  
    plotMultiHeatmap                        html  
    plotNRS                                 html  
    plotPbExprs                             html  
    plotScatter                             html  
    plotSpillmat                            html  
    plotYields                              html  
    prepData                                html  
    runDR                                   html  
    sce2fcs                                 html  
** building package indices
** installing vignettes
** testing if installed package can be loaded from temporary location
** testing if installed package can be loaded from final location
** testing if installed package keeps a record of temporary installation path
* MD5 sums
packaged installation of 'CATALYST' as CATALYST_1.19.0.zip
* DONE (CATALYST)
* installing to library 'D:/biocbuild/bbs-3.15-bioc/R/library'
package 'CATALYST' successfully unpacked and MD5 sums checked

Tests output

CATALYST.Rcheck/tests/testthat.Rout


R Under development (unstable) (2021-11-21 r81221) -- "Unsuffered Consequences"
Copyright (C) 2021 The R Foundation for Statistical Computing
Platform: x86_64-w64-mingw32/x64 (64-bit)

R is free software and comes with ABSOLUTELY NO WARRANTY.
You are welcome to redistribute it under certain conditions.
Type 'license()' or 'licence()' for distribution details.

R is a collaborative project with many contributors.
Type 'contributors()' for more information and
'citation()' on how to cite R or R packages in publications.

Type 'demo()' for some demos, 'help()' for on-line help, or
'help.start()' for an HTML browser interface to help.
Type 'q()' to quit R.

> library(testthat)
> library(CATALYST)
Loading required package: SingleCellExperiment
Loading required package: SummarizedExperiment
Loading required package: MatrixGenerics
Loading required package: matrixStats

Attaching package: 'MatrixGenerics'

The following objects are masked from 'package:matrixStats':

    colAlls, colAnyNAs, colAnys, colAvgsPerRowSet, colCollapse,
    colCounts, colCummaxs, colCummins, colCumprods, colCumsums,
    colDiffs, colIQRDiffs, colIQRs, colLogSumExps, colMadDiffs,
    colMads, colMaxs, colMeans2, colMedians, colMins, colOrderStats,
    colProds, colQuantiles, colRanges, colRanks, colSdDiffs, colSds,
    colSums2, colTabulates, colVarDiffs, colVars, colWeightedMads,
    colWeightedMeans, colWeightedMedians, colWeightedSds,
    colWeightedVars, rowAlls, rowAnyNAs, rowAnys, rowAvgsPerColSet,
    rowCollapse, rowCounts, rowCummaxs, rowCummins, rowCumprods,
    rowCumsums, rowDiffs, rowIQRDiffs, rowIQRs, rowLogSumExps,
    rowMadDiffs, rowMads, rowMaxs, rowMeans2, rowMedians, rowMins,
    rowOrderStats, rowProds, rowQuantiles, rowRanges, rowRanks,
    rowSdDiffs, rowSds, rowSums2, rowTabulates, rowVarDiffs, rowVars,
    rowWeightedMads, rowWeightedMeans, rowWeightedMedians,
    rowWeightedSds, rowWeightedVars

Loading required package: GenomicRanges
Loading required package: stats4
Loading required package: BiocGenerics

Attaching package: 'BiocGenerics'

The following objects are masked from 'package:stats':

    IQR, mad, sd, var, xtabs

The following objects are masked from 'package:base':

    Filter, Find, Map, Position, Reduce, anyDuplicated, append,
    as.data.frame, basename, cbind, colnames, dirname, do.call,
    duplicated, eval, evalq, get, grep, grepl, intersect, is.unsorted,
    lapply, mapply, match, mget, order, paste, pmax, pmax.int, pmin,
    pmin.int, rank, rbind, rownames, sapply, setdiff, sort, table,
    tapply, union, unique, unsplit, which.max, which.min

Loading required package: S4Vectors

Attaching package: 'S4Vectors'

The following objects are masked from 'package:base':

    I, expand.grid, unname

Loading required package: IRanges

Attaching package: 'IRanges'

The following object is masked from 'package:grDevices':

    windows

Loading required package: GenomeInfoDb
Loading required package: Biobase
Welcome to Bioconductor

    Vignettes contain introductory material; view with
    'browseVignettes()'. To cite Bioconductor, see
    'citation("Biobase")', and for packages 'citation("pkgname")'.


Attaching package: 'Biobase'

The following object is masked from 'package:MatrixGenerics':

    rowMedians

The following objects are masked from 'package:matrixStats':

    anyMissing, rowMedians

> 
> test_check("CATALYST")
[ FAIL 0 | WARN 57 | SKIP 0 | PASS 742 ]
> 
> proc.time()
   user  system elapsed 
 114.54    3.06  118.32 

Example timings

CATALYST.Rcheck/CATALYST-Ex.timings

nameusersystemelapsed
SCE-accessors4.501.015.52
adaptSpillmat3.200.133.33
applyCutoffs1.980.112.09
assignPrelim1.080.001.08
clrDR4.750.214.98
cluster3.240.103.33
compCytof3.560.143.70
computeSpillmat2.980.063.05
data0.000.030.03
estCutoffs2.600.032.63
extractClusters3.830.143.96
filterSCE3.570.073.65
guessPanel0.040.000.03
mergeClusters4.600.094.79
normCytof1.690.061.75
pbMDS5.110.055.16
plotAbundances4.250.054.29
plotClusterExprs5.810.075.91
plotCodes4.370.104.47
plotCounts0.710.000.70
plotDR9.400.089.48
plotDiffHeatmap8.440.208.66
plotEvents1.340.001.34
plotExprHeatmap6.220.026.25
plotExprs3.340.073.42
plotFreqHeatmap3.960.023.99
plotMahal3.340.053.39
plotMultiHeatmap8.940.049.00
plotNRS0.790.020.81
plotPbExprs8.020.058.06
plotScatter3.030.033.06
plotSpillmat2.910.042.96
plotYields3.200.083.28
prepData1.130.031.16
runDR4.360.034.39
sce2fcs7.350.248.20