Index of /checkResults/devel/bioc-LATEST/CATALYST/raw-results

[ICO]NameLast modifiedSizeDescription

[DIR]Parent Directory  -  
[   ]info.dcf20-Jan-2022 01:11 273  
[DIR]merida1/20-Jan-2022 01:11 -  
[DIR]nebbiolo1/20-Jan-2022 01:05 -  
[DIR]palomino3/20-Jan-2022 01:09 -  
[DIR]riesling1/20-Jan-2022 01:07 -