Back to Multiple platform build/check report for BioC 3.15
AB[C]DEFGHIJKLMNOPQRSTUVWXYZ

This page was generated on 2021-11-27 14:05:33 -0500 (Sat, 27 Nov 2021).

BUILD results for CATALYST on merida1

To the developers/maintainers of the CATALYST package:
- Please allow up to 24 hours (and sometimes 48 hours) for your latest push to git@git.bioconductor.org:packages/CATALYST.git to
reflect on this report. See How and When does the builder pull? When will my changes propagate? here for more information.
- Make sure to use the following settings in order to reproduce any error or warning you see on this page.

raw results

Package 245/2068HostnameOS / ArchINSTALLBUILDCHECKBUILD BIN
CATALYST 1.19.0  (landing page)
Helena L. Crowell
Snapshot Date: 2021-11-26 14:50:14 -0500 (Fri, 26 Nov 2021)
git_url: https://git.bioconductor.org/packages/CATALYST
git_branch: master
git_last_commit: 4988576
git_last_commit_date: 2021-10-26 12:34:36 -0500 (Tue, 26 Oct 2021)
nebbiolo1Linux (Ubuntu 20.04.3 LTS) / x86_64  OK    OK    OK  UNNEEDED, same version is already published
riesling1Windows Server 2019 Standard / x64  OK    OK    OK    OK  
merida1macOS 10.14.6 Mojave / x86_64  OK    OK    OK    OK  UNNEEDED, same version is already published

Summary

Package: CATALYST
Version: 1.19.0
Command: /Library/Frameworks/R.framework/Resources/bin/R CMD build --keep-empty-dirs --no-resave-data CATALYST
StartedAt: 2021-11-26 18:58:07 -0500 (Fri, 26 Nov 2021)
EndedAt: 2021-11-26 19:02:41 -0500 (Fri, 26 Nov 2021)
EllapsedTime: 273.6 seconds
RetCode: 0
Status:   OK  
PackageFile: CATALYST_1.19.0.tar.gz
PackageFileSize: 45.8 MiB

Command output

##############################################################################
##############################################################################
###
### Running command:
###
###   /Library/Frameworks/R.framework/Resources/bin/R CMD build --keep-empty-dirs --no-resave-data CATALYST
###
##############################################################################
##############################################################################


* checking for file ‘CATALYST/DESCRIPTION’ ... OK
* preparing ‘CATALYST’:
* checking DESCRIPTION meta-information ... OK
* installing the package to build vignettes
* creating vignettes ... OK
* checking for LF line-endings in source and make files and shell scripts
* checking for empty or unneeded directories
* building ‘CATALYST_1.19.0.tar.gz’
Warning in utils::tar(filepath, pkgname, compression = compression, compression_level = 9L,  :
  storing paths of more than 100 bytes is not portable:
  ‘CATALYST/vignettes/differential_cache/html/plotDiffHeatmap-filter-1_eec8a7addcd30d168e96e5114ff9d93a.RData’
Warning in utils::tar(filepath, pkgname, compression = compression, compression_level = 9L,  :
  storing paths of more than 100 bytes is not portable:
  ‘CATALYST/vignettes/differential_cache/html/plotDiffHeatmap-filter-1_eec8a7addcd30d168e96e5114ff9d93a.rdb’
Warning in utils::tar(filepath, pkgname, compression = compression, compression_level = 9L,  :
  storing paths of more than 100 bytes is not portable:
  ‘CATALYST/vignettes/differential_cache/html/plotDiffHeatmap-filter-1_eec8a7addcd30d168e96e5114ff9d93a.rdx’
Warning in utils::tar(filepath, pkgname, compression = compression, compression_level = 9L,  :
  storing paths of more than 100 bytes is not portable:
  ‘CATALYST/vignettes/differential_cache/html/plotDiffHeatmap-filter-2_1e8324e3e9dd8e872afaa2406d965982.RData’
Warning in utils::tar(filepath, pkgname, compression = compression, compression_level = 9L,  :
  storing paths of more than 100 bytes is not portable:
  ‘CATALYST/vignettes/differential_cache/html/plotDiffHeatmap-filter-2_1e8324e3e9dd8e872afaa2406d965982.rdb’
Warning in utils::tar(filepath, pkgname, compression = compression, compression_level = 9L,  :
  storing paths of more than 100 bytes is not portable:
  ‘CATALYST/vignettes/differential_cache/html/plotDiffHeatmap-filter-2_1e8324e3e9dd8e872afaa2406d965982.rdx’
Warning in utils::tar(filepath, pkgname, compression = compression, compression_level = 9L,  :
  storing paths of more than 100 bytes is not portable:
  ‘CATALYST/vignettes/differential_cache/html/plotDiffHeatmap-pals_f2ba58851856da0978f84445990f4987.RData’
Warning in utils::tar(filepath, pkgname, compression = compression, compression_level = 9L,  :
  storing paths of more than 100 bytes is not portable:
  ‘CATALYST/vignettes/differential_cache/html/plotExprHeatmap-both_5224d0dc9dde18a02c18bf64ecb7e692.RData’
Warning in utils::tar(filepath, pkgname, compression = compression, compression_level = 9L,  :
  storing paths of more than 100 bytes is not portable:
  ‘CATALYST/vignettes/differential_cache/html/plotExprHeatmap-cluster_094870712caa62aedb5c8b752db6889e.RData’
Warning in utils::tar(filepath, pkgname, compression = compression, compression_level = 9L,  :
  storing paths of more than 100 bytes is not portable:
  ‘CATALYST/vignettes/differential_cache/html/plotExprHeatmap-cluster_094870712caa62aedb5c8b752db6889e.rdb’
Warning in utils::tar(filepath, pkgname, compression = compression, compression_level = 9L,  :
  storing paths of more than 100 bytes is not portable:
  ‘CATALYST/vignettes/differential_cache/html/plotExprHeatmap-cluster_094870712caa62aedb5c8b752db6889e.rdx’
Warning in utils::tar(filepath, pkgname, compression = compression, compression_level = 9L,  :
  storing paths of more than 100 bytes is not portable:
  ‘CATALYST/vignettes/differential_cache/html/plotExprHeatmap-complete_1d17b785dc975f03ff995f78e2ddc9eb.RData’
Warning in utils::tar(filepath, pkgname, compression = compression, compression_level = 9L,  :
  storing paths of more than 100 bytes is not portable:
  ‘CATALYST/vignettes/differential_cache/html/plotExprHeatmap-complete_1d17b785dc975f03ff995f78e2ddc9eb.rdb’
Warning in utils::tar(filepath, pkgname, compression = compression, compression_level = 9L,  :
  storing paths of more than 100 bytes is not portable:
  ‘CATALYST/vignettes/differential_cache/html/plotExprHeatmap-complete_1d17b785dc975f03ff995f78e2ddc9eb.rdx’
Warning in utils::tar(filepath, pkgname, compression = compression, compression_level = 9L,  :
  storing paths of more than 100 bytes is not portable:
  ‘CATALYST/vignettes/differential_cache/html/plotExprHeatmap-minimal_4677afd8c2292bc3c4404d8bfd167326.RData’
Warning in utils::tar(filepath, pkgname, compression = compression, compression_level = 9L,  :
  storing paths of more than 100 bytes is not portable:
  ‘CATALYST/vignettes/differential_cache/html/plotExprHeatmap-minimal_4677afd8c2292bc3c4404d8bfd167326.rdb’
Warning in utils::tar(filepath, pkgname, compression = compression, compression_level = 9L,  :
  storing paths of more than 100 bytes is not portable:
  ‘CATALYST/vignettes/differential_cache/html/plotExprHeatmap-minimal_4677afd8c2292bc3c4404d8bfd167326.rdx’
Warning in utils::tar(filepath, pkgname, compression = compression, compression_level = 9L,  :
  storing paths of more than 100 bytes is not portable:
  ‘CATALYST/vignettes/differential_cache/html/plotExprHeatmap-sample_0e03de7c7ddfbaa40bdb9d5d7b248e39.RData’
Warning in utils::tar(filepath, pkgname, compression = compression, compression_level = 9L,  :
  storing paths of more than 100 bytes is not portable:
  ‘CATALYST/vignettes/differential_cache/html/plotExprHeatmap-sample_0e03de7c7ddfbaa40bdb9d5d7b248e39.rdb’
Warning in utils::tar(filepath, pkgname, compression = compression, compression_level = 9L,  :
  storing paths of more than 100 bytes is not portable:
  ‘CATALYST/vignettes/differential_cache/html/plotExprHeatmap-sample_0e03de7c7ddfbaa40bdb9d5d7b248e39.rdx’
Warning in utils::tar(filepath, pkgname, compression = compression, compression_level = 9L,  :
  storing paths of more than 100 bytes is not portable:
  ‘CATALYST/vignettes/differential_cache/html/plotFreqHeatmap-complete_99b4cf49f44a75190683cca555e0018a.RData’
Warning in utils::tar(filepath, pkgname, compression = compression, compression_level = 9L,  :
  storing paths of more than 100 bytes is not portable:
  ‘CATALYST/vignettes/differential_cache/html/plotFreqHeatmap-complete_99b4cf49f44a75190683cca555e0018a.rdb’
Warning in utils::tar(filepath, pkgname, compression = compression, compression_level = 9L,  :
  storing paths of more than 100 bytes is not portable:
  ‘CATALYST/vignettes/differential_cache/html/plotFreqHeatmap-complete_99b4cf49f44a75190683cca555e0018a.rdx’
Warning in utils::tar(filepath, pkgname, compression = compression, compression_level = 9L,  :
  storing paths of more than 100 bytes is not portable:
  ‘CATALYST/vignettes/differential_cache/html/plotFreqHeatmap-minimal_e1d681202b75c496722e0621d1ce8ab8.RData’
Warning in utils::tar(filepath, pkgname, compression = compression, compression_level = 9L,  :
  storing paths of more than 100 bytes is not portable:
  ‘CATALYST/vignettes/differential_cache/html/plotFreqHeatmap-minimal_e1d681202b75c496722e0621d1ce8ab8.rdb’
Warning in utils::tar(filepath, pkgname, compression = compression, compression_level = 9L,  :
  storing paths of more than 100 bytes is not portable:
  ‘CATALYST/vignettes/differential_cache/html/plotFreqHeatmap-minimal_e1d681202b75c496722e0621d1ce8ab8.rdx’
Warning in utils::tar(filepath, pkgname, compression = compression, compression_level = 9L,  :
  storing paths of more than 100 bytes is not portable:
  ‘CATALYST/vignettes/differential_cache/html/plotMedExprs-custom_d2ba3a81ae15121f1b88e5ce42f462fe.RData’
Warning in utils::tar(filepath, pkgname, compression = compression, compression_level = 9L,  :
  storing paths of more than 100 bytes is not portable:
  ‘CATALYST/vignettes/differential_cache/html/plotMultiHeatmap-custom_dac6ab1115eadb018a6a29d35f6f86c4.RData’
Warning in utils::tar(filepath, pkgname, compression = compression, compression_level = 9L,  :
  storing paths of more than 100 bytes is not portable:
  ‘CATALYST/vignettes/differential_cache/html/plotMultiHeatmap-custom_dac6ab1115eadb018a6a29d35f6f86c4.rdb’
Warning in utils::tar(filepath, pkgname, compression = compression, compression_level = 9L,  :
  storing paths of more than 100 bytes is not portable:
  ‘CATALYST/vignettes/differential_cache/html/plotMultiHeatmap-custom_dac6ab1115eadb018a6a29d35f6f86c4.rdx’