Back to Multiple platform build/check report for BioC 3.15
AB[C]DEFGHIJKLMNOPQRSTUVWXYZ

This page was generated on 2021-11-27 14:05:33 -0500 (Sat, 27 Nov 2021).

BUILD BIN results for CATALYST on merida1

To the developers/maintainers of the CATALYST package:
- Please allow up to 24 hours (and sometimes 48 hours) for your latest push to git@git.bioconductor.org:packages/CATALYST.git to
reflect on this report. See How and When does the builder pull? When will my changes propagate? here for more information.
- Make sure to use the following settings in order to reproduce any error or warning you see on this page.

raw results

Package 245/2068HostnameOS / ArchINSTALLBUILDCHECKBUILD BIN
CATALYST 1.19.0  (landing page)
Helena L. Crowell
Snapshot Date: 2021-11-26 14:50:14 -0500 (Fri, 26 Nov 2021)
git_url: https://git.bioconductor.org/packages/CATALYST
git_branch: master
git_last_commit: 4988576
git_last_commit_date: 2021-10-26 12:34:36 -0500 (Tue, 26 Oct 2021)
nebbiolo1Linux (Ubuntu 20.04.3 LTS) / x86_64  OK    OK    OK  UNNEEDED, same version is already published
riesling1Windows Server 2019 Standard / x64  OK    OK    OK    OK  
merida1macOS 10.14.6 Mojave / x86_64  OK    OK    OK    OK  UNNEEDED, same version is already published

Summary

Package: CATALYST
Version: 1.19.0
Command: rm -rf CATALYST.buildbin-libdir && mkdir CATALYST.buildbin-libdir && /Users/biocbuild/BBS/utils/build-universal.sh CATALYST_1.19.0.tar.gz /Library/Frameworks/R.framework/Resources/bin/R CATALYST.buildbin-libdir
StartedAt: 2021-11-27 09:37:13 -0500 (Sat, 27 Nov 2021)
EndedAt: 2021-11-27 09:38:10 -0500 (Sat, 27 Nov 2021)
EllapsedTime: 56.9 seconds
RetCode: 0
Status:   OK  
PackageFile: CATALYST_1.19.0.tgz
PackageFileSize: 10.89 MiB

Command output

##############################################################################
##############################################################################
###
### Running command:
###
###   rm -rf CATALYST.buildbin-libdir && mkdir CATALYST.buildbin-libdir && /Users/biocbuild/BBS/utils/build-universal.sh CATALYST_1.19.0.tar.gz /Library/Frameworks/R.framework/Resources/bin/R CATALYST.buildbin-libdir
###
##############################################################################
##############################################################################


>>>>>>> 
>>>>>>> INSTALLATION WITH 'R CMD INSTALL --preclean --no-multiarch --library=CATALYST.buildbin-libdir CATALYST_1.19.0.tar.gz'
>>>>>>> 

* installing *source* package ‘CATALYST’ ...
** using staged installation
** R
** data
*** moving datasets to lazyload DB
** inst
** byte-compile and prepare package for lazy loading
** help
*** installing help indices
** building package indices
** installing vignettes
** testing if installed package can be loaded from temporary location
** testing if installed package can be loaded from final location
** testing if installed package keeps a record of temporary installation path
* DONE (CATALYST)