Back to Multiple platform build/check report for BioC 3.14
AB[C]DEFGHIJKLMNOPQRSTUVWXYZ

This page was generated on 2021-06-17 12:05:24 -0400 (Thu, 17 Jun 2021).

CHECK results for CAMERA on riesling1

To the developers/maintainers of the CAMERA package:
- Please allow up to 24 hours (and sometimes 48 hours) for your latest push to git@git.bioconductor.org:packages/CAMERA.git to
reflect on this report. See How and When does the builder pull? When will my changes propagate? here for more information.
- Make sure to use the following settings in order to reproduce any error or warning you see on this page.

raw results

Package 227/1993HostnameOS / ArchINSTALLBUILDCHECKBUILD BIN
CAMERA 1.49.0  (landing page)
Steffen Neumann
Snapshot Date: 2021-06-16 14:50:06 -0400 (Wed, 16 Jun 2021)
URL: https://git.bioconductor.org/packages/CAMERA
Branch: master
Last Commit: b8a89bf
Last Changed Date: 2021-05-19 11:42:44 -0400 (Wed, 19 May 2021)
nebbiolo2Linux (Ubuntu 20.04.2 LTS) / x86_64  OK    OK    OK  UNNEEDED, same version is already published
riesling1Windows Server 2019 Standard / x64  OK    OK    OK    OK  NO, package depends on 'xcms' which is not available
merida1macOS 10.14.6 Mojave / x86_64  OK    OK    OK    OK  UNNEEDED, same version is already published

Summary

Package: CAMERA
Version: 1.49.0
Command: D:\biocbuild\bbs-3.14-bioc\R\bin\R.exe CMD check --force-multiarch --install=check:CAMERA.install-out.txt --library=D:\biocbuild\bbs-3.14-bioc\R\library --no-vignettes --timings CAMERA_1.49.0.tar.gz
StartedAt: 2021-06-16 23:21:33 -0400 (Wed, 16 Jun 2021)
EndedAt: 2021-06-16 23:36:01 -0400 (Wed, 16 Jun 2021)
EllapsedTime: 868.0 seconds
RetCode: 0
Status:   OK  
CheckDir: CAMERA.Rcheck
Warnings: 0

Command output

##############################################################################
##############################################################################
###
### Running command:
###
###   D:\biocbuild\bbs-3.14-bioc\R\bin\R.exe CMD check --force-multiarch --install=check:CAMERA.install-out.txt --library=D:\biocbuild\bbs-3.14-bioc\R\library --no-vignettes --timings CAMERA_1.49.0.tar.gz
###
##############################################################################
##############################################################################


* using log directory 'D:/biocbuild/bbs-3.14-bioc/meat/CAMERA.Rcheck'
* using R version 4.1.0 (2021-05-18)
* using platform: x86_64-w64-mingw32 (64-bit)
* using session charset: ISO8859-1
* using option '--no-vignettes'
* checking for file 'CAMERA/DESCRIPTION' ... OK
* this is package 'CAMERA' version '1.49.0'
* checking package namespace information ... OK
* checking package dependencies ... OK
* checking if this is a source package ... OK
* checking if there is a namespace ... OK
* checking for hidden files and directories ... NOTE
Found the following hidden files and directories:
  .travis.yml
These were most likely included in error. See section 'Package
structure' in the 'Writing R Extensions' manual.
* checking for portable file names ... OK
* checking whether package 'CAMERA' can be installed ... OK
* checking installed package size ... NOTE
  installed size is  8.1Mb
  sub-directories of 1Mb or more:
    mzdata      1.7Mb
    quantiles   4.9Mb
* checking package directory ... OK
* checking 'build' directory ... OK
* checking DESCRIPTION meta-information ... NOTE
Malformed Description field: should contain one or more complete sentences.
Packages listed in more than one of Depends, Imports, Suggests, Enhances:
  'methods' 'xcms'
A package should be listed in only one of these fields.
* checking top-level files ... OK
* checking for left-over files ... OK
* checking index information ... OK
* checking package subdirectories ... OK
* checking R files for non-ASCII characters ... OK
* checking R files for syntax errors ... OK
* loading checks for arch 'i386'
** checking whether the package can be loaded ... OK
** checking whether the package can be loaded with stated dependencies ... OK
** checking whether the package can be unloaded cleanly ... OK
** checking whether the namespace can be loaded with stated dependencies ... OK
** checking whether the namespace can be unloaded cleanly ... OK
* loading checks for arch 'x64'
** checking whether the package can be loaded ... OK
** checking whether the package can be loaded with stated dependencies ... OK
** checking whether the package can be unloaded cleanly ... OK
** checking whether the namespace can be loaded with stated dependencies ... OK
** checking whether the namespace can be unloaded cleanly ... OK
* checking dependencies in R code ... NOTE
'library' or 'require' call to 'methods' which was already attached by Depends.
  Please remove these calls from your code.
There are ::: calls to the package's namespace in its code. A package
  almost never needs to use ::: for its own objects:
  'annotateGrp' 'combineHypothese' 'fastMatch' 'naOmit'
* checking S3 generic/method consistency ... OK
* checking replacement functions ... OK
* checking foreign function calls ... NOTE
Foreign function call to a different package:
  .Call("getEIC", ..., PACKAGE = "xcms")
See chapter 'System and foreign language interfaces' in the 'Writing R
Extensions' manual.
* checking R code for possible problems ... NOTE
File 'CAMERA/R/zzz.R':
  .onLoad calls:
    require(methods)

Package startup functions should not change the search path.
See section 'Good practice' in '?.onAttach'.

annotateGrp: no visible global function definition for 'na.omit'
annotateGrpMPI2: no visible binding for global variable
  'papply_commondata'
cleanParallel: no visible global function definition for
  'mpi.close.Rslaves'
cleanParallel: no visible global function definition for 'stopCluster'
compoundQuantiles: no visible global function definition for 'tail'
createHypothese: no visible global function definition for 'cutree'
createHypothese: no visible global function definition for 'hclust'
createHypothese: no visible global function definition for 'dist'
extractfragments: no visible global function definition for 'median'
fast_corr: no visible global function definition for 'pt'
findIsotopesForPS: no visible binding for global variable 'tableMM48'
findKendrickMasses: no visible global function definition for 'rainbow'
findKendrickMasses : <anonymous>: no visible global function definition
  for 'lines'
findNeutralLoss: no visible global function definition for 'dist'
findNeutralLossSpecs : <anonymous>: no visible global function
  definition for 'dist'
fragments2metfrag : <anonymous>: no visible global function definition
  for 'write.table'
fragments2metfusion : <anonymous>: no visible binding for global
  variable 'object'
fragments2metfusion : <anonymous>: no visible global function
  definition for 'write.table'
getIsotopeCluster : <anonymous>: no visible global function definition
  for 'na.omit'
xsAnnotate: no visible global function definition for 'mpi.comm.size'
xsAnnotate: no visible global function definition for
  'mpi.spawn.Rslaves'
xsAnnotate: no visible global function definition for 'makeCluster'
xsAnnotate: no visible binding for global variable 'graphMethod'
findAdducts,xsAnnotate: no visible global function definition for
  'mpi.comm.size'
findAdducts,xsAnnotate: no visible global function definition for
  'xcmsPapply'
findIsotopesWithValidation,xsAnnotate : <anonymous>: no visible global
  function definition for 'median'
getReducedPeaklist,xsAnnotate : <anonymous> : <anonymous>: no visible
  global function definition for 'median'
getReducedPeaklist,xsAnnotate : <anonymous>: no visible global function
  definition for 'prcomp'
getReducedPeaklist,xsAnnotate : <anonymous>: no visible global function
  definition for 'na.omit'
groupComplete,xsAnnotate: no visible global function definition for
  'dist'
groupComplete,xsAnnotate: no visible global function definition for
  'cutree'
groupComplete,xsAnnotate: no visible global function definition for
  'hclust'
groupDen,xsAnnotate: no visible global function definition for
  'density'
groupFWHM,xsAnnotate : <anonymous>: no visible global function
  definition for 'na.omit'
plotEICs,xsAnnotate: no visible global function definition for
  'rainbow'
plotEICs,xsAnnotate: no visible global function definition for
  'na.omit'
plotPeakEICs,xsAnnotate : <anonymous>: no visible binding for global
  variable 'pc'
plotPeakEICs,xsAnnotate: no visible binding for global variable 'pspec'
plotPeakEICs,xsAnnotate: no visible global function definition for
  'rainbow'
plotPeakEICs,xsAnnotate: no visible global function definition for
  'na.omit'
plotPsSpectrum,xsAnnotate: no visible global function definition for
  'median'
plotPsSpectrum,xsAnnotate: no visible global function definition for
  'na.omit'
Undefined global functions or variables:
  cutree density dist graphMethod hclust lines makeCluster median
  mpi.close.Rslaves mpi.comm.size mpi.spawn.Rslaves na.omit object
  papply_commondata pc prcomp pspec pt rainbow stopCluster tableMM48
  tail write.table xcmsPapply
Consider adding
  importFrom("grDevices", "rainbow")
  importFrom("graphics", "lines")
  importFrom("stats", "cutree", "density", "dist", "hclust", "median",
             "na.omit", "prcomp", "pt")
  importFrom("utils", "tail", "write.table")
to your NAMESPACE file.
* checking Rd files ... NOTE
prepare_Rd: findKendrickMasses.Rd:21-22: Dropping empty section \details
* checking Rd metadata ... OK
* checking Rd cross-references ... OK
* checking for missing documentation entries ... OK
* checking for code/documentation mismatches ... OK
* checking Rd \usage sections ... OK
* checking Rd contents ... OK
* checking for unstated dependencies in examples ... OK
* checking contents of 'data' directory ... OK
* checking data for non-ASCII characters ... OK
* checking data for ASCII and uncompressed saves ... OK
* checking line endings in C/C++/Fortran sources/headers ... OK
* checking line endings in Makefiles ... OK
* checking for GNU extensions in Makefiles ... OK
* checking include directives in Makefiles ... OK
* checking compiled code ... NOTE
Note: information on .o files for i386 is not available
Note: information on .o files for x64 is not available
File 'D:/biocbuild/bbs-3.14-bioc/R/library/CAMERA/libs/i386/CAMERA.dll':
  Found 'abort', possibly from 'abort' (C), 'runtime' (Fortran)
File 'D:/biocbuild/bbs-3.14-bioc/R/library/CAMERA/libs/x64/CAMERA.dll':
  Found 'abort', possibly from 'abort' (C), 'runtime' (Fortran)

Compiled code should not call entry points which might terminate R nor
write to stdout/stderr instead of to the console, nor use Fortran I/O
nor system RNGs. The detected symbols are linked into the code but
might come from libraries and not actually be called.

See 'Writing portable packages' in the 'Writing R Extensions' manual.
* checking files in 'vignettes' ... OK
* checking examples ...
** running examples for arch 'i386' ... OK
Examples with CPU (user + system) or elapsed time > 5s
                    user system elapsed
groupCorr-methods  13.58   0.31   13.89
getIsotopeCluster   2.95   0.08   15.93
annotateDiffreport  1.99   0.02   14.30
** running examples for arch 'x64' ... OK
Examples with CPU (user + system) or elapsed time > 5s
                    user system elapsed
groupCorr-methods  12.28   0.39   12.67
getIsotopeCluster   3.15   0.06   18.64
annotateDiffreport  1.64   0.03   15.48
* checking for unstated dependencies in 'tests' ... OK
* checking tests ...
** running tests for arch 'i386' ...
  Running 'runTests.R'
 OK
** running tests for arch 'x64' ...
  Running 'runTests.R'
 OK
* checking for unstated dependencies in vignettes ... OK
* checking package vignettes in 'inst/doc' ... OK
* checking running R code from vignettes ... SKIPPED
* checking re-building of vignette outputs ... SKIPPED
* checking PDF version of manual ... OK
* DONE

Status: 8 NOTEs
See
  'D:/biocbuild/bbs-3.14-bioc/meat/CAMERA.Rcheck/00check.log'
for details.



Installation output

CAMERA.Rcheck/00install.out

##############################################################################
##############################################################################
###
### Running command:
###
###   C:\cygwin\bin\curl.exe -O http://155.52.207.166/BBS/3.14/bioc/src/contrib/CAMERA_1.49.0.tar.gz && rm -rf CAMERA.buildbin-libdir && mkdir CAMERA.buildbin-libdir && D:\biocbuild\bbs-3.14-bioc\R\bin\R.exe CMD INSTALL --merge-multiarch --build --library=CAMERA.buildbin-libdir CAMERA_1.49.0.tar.gz && D:\biocbuild\bbs-3.14-bioc\R\bin\R.exe CMD INSTALL CAMERA_1.49.0.zip && rm CAMERA_1.49.0.tar.gz CAMERA_1.49.0.zip
###
##############################################################################
##############################################################################


  % Total    % Received % Xferd  Average Speed   Time    Time     Time  Current
                                 Dload  Upload   Total   Spent    Left  Speed

  0     0    0     0    0     0      0      0 --:--:-- --:--:-- --:--:--     0
100 1801k  100 1801k    0     0  4438k      0 --:--:-- --:--:-- --:--:-- 4438k

install for i386

* installing *source* package 'CAMERA' ...
** using staged installation
** libs
"C:/rtools40/mingw32/bin/"gcc  -I"D:/biocbuild/bbs-3.14-bioc/R/include" -DNDEBUG     -I"C:/extsoft/include"     -O2 -Wall  -std=gnu99 -mfpmath=sse -msse2 -mstackrealign  -c fastMatch.c -o fastMatch.o
C:/rtools40/mingw32/bin/gcc -shared -s -static-libgcc -o CAMERA.dll tmp.def fastMatch.o -LC:/extsoft/lib/i386 -LC:/extsoft/lib -LD:/biocbuild/bbs-3.14-bioc/R/bin/i386 -lR
installing to D:/biocbuild/bbs-3.14-bioc/meat/CAMERA.buildbin-libdir/00LOCK-CAMERA/00new/CAMERA/libs/i386
** R
** data
** inst
** byte-compile and prepare package for lazy loading
** help
*** installing help indices
  converting help for package 'CAMERA'
    finding HTML links ... done
    annotate-methods                        html  
    annotateDiffreport                      html  
    finding level-2 HTML links ... done

    calcCaS-methods                         html  
    calcCiS-methods                         html  
    calcIsotopes-methods                    html  
    calcPC-methods                          html  
    calcPC.hcs-methods                      html  
    calcPC.lpc-methods                      html  
    cleanParallel                           html  
    combinexsAnnos                          html  
    compoundLibraries                       html  
    compoundQuantiles-class                 html  
    compoundQuantiles                       html  
    findAdducts-methods                     html  
    findIsotopes-methods                    html  
    findIsotopesWithValidation-methods      html  
    findKendrickMasses                      html  
    findNeutralLoss                         html  
    findNeutralLossSpecs                    html  
    getAllPeakEICs-methods                  html  
    getAtomCount-compoundQuantiles-method   html  
    getIsotopeCluster                       html  
    getIsotopeProportion-compoundQuantiles-method
                                            html  
    getPeaklist-methods                     html  
    getReducedPeaklist-methods              html  
    getpspectra                             html  
    groupCorr-methods                       html  
    groupDen-methods                        html  
    groupFWHM-methods                       html  
    massWindowSizes                         html  
    mm14                                    html  
    plotEIC.xsAnnotate                      html  
    plotPsSpectrum.xsAnnotate               html  
    psDist-methods                          html  
    pspec2metfrag                           html  
    ruleSet-class                           html  
REDIRECT:topic	 class:ruleSet -> ruleSet-class.html [ FAIL ]
    xsAnnotate-class                        html  
    xsAnnotate                              html  
** building package indices
** installing vignettes
** testing if installed package can be loaded from temporary location
** testing if installed package can be loaded from final location
** testing if installed package keeps a record of temporary installation path

install for x64

* installing *source* package 'CAMERA' ...
** libs
"C:/rtools40/mingw64/bin/"gcc  -I"D:/biocbuild/bbs-3.14-bioc/R/include" -DNDEBUG     -I"C:/extsoft/include"     -O2 -Wall  -std=gnu99 -mfpmath=sse -msse2 -mstackrealign  -c fastMatch.c -o fastMatch.o
C:/rtools40/mingw64/bin/gcc -shared -s -static-libgcc -o CAMERA.dll tmp.def fastMatch.o -LC:/extsoft/lib/x64 -LC:/extsoft/lib -LD:/biocbuild/bbs-3.14-bioc/R/bin/x64 -lR
installing to D:/biocbuild/bbs-3.14-bioc/meat/CAMERA.buildbin-libdir/CAMERA/libs/x64
** testing if installed package can be loaded
* MD5 sums
packaged installation of 'CAMERA' as CAMERA_1.49.0.zip
* DONE (CAMERA)
* installing to library 'D:/biocbuild/bbs-3.14-bioc/R/library'
package 'CAMERA' successfully unpacked and MD5 sums checked

Tests output

CAMERA.Rcheck/tests_i386/runTests.Rout


R version 4.1.0 (2021-05-18) -- "Camp Pontanezen"
Copyright (C) 2021 The R Foundation for Statistical Computing
Platform: i386-w64-mingw32/i386 (32-bit)

R is free software and comes with ABSOLUTELY NO WARRANTY.
You are welcome to redistribute it under certain conditions.
Type 'license()' or 'licence()' for distribution details.

R is a collaborative project with many contributors.
Type 'contributors()' for more information and
'citation()' on how to cite R or R packages in publications.

Type 'demo()' for some demos, 'help()' for on-line help, or
'help.start()' for an HTML browser interface to help.
Type 'q()' to quit R.

> require("CAMERA") || stop("unable to load CAMERA")
Loading required package: CAMERA
Loading required package: Biobase
Loading required package: BiocGenerics

Attaching package: 'BiocGenerics'

The following objects are masked from 'package:stats':

    IQR, mad, sd, var, xtabs

The following objects are masked from 'package:base':

    Filter, Find, Map, Position, Reduce, anyDuplicated, append,
    as.data.frame, basename, cbind, colnames, dirname, do.call,
    duplicated, eval, evalq, get, grep, grepl, intersect, is.unsorted,
    lapply, mapply, match, mget, order, paste, pmax, pmax.int, pmin,
    pmin.int, rank, rbind, rownames, sapply, setdiff, sort, table,
    tapply, union, unique, unsplit, which.max, which.min

Welcome to Bioconductor

    Vignettes contain introductory material; view with
    'browseVignettes()'. To cite Bioconductor, see
    'citation("Biobase")', and for packages 'citation("pkgname")'.

Loading required package: xcms
Loading required package: BiocParallel
Loading required package: MSnbase
Loading required package: mzR
Loading required package: Rcpp
Loading required package: S4Vectors
Loading required package: stats4

Attaching package: 'S4Vectors'

The following objects are masked from 'package:base':

    I, expand.grid, unname

Loading required package: ProtGenerics

Attaching package: 'ProtGenerics'

The following object is masked from 'package:stats':

    smooth


This is MSnbase version 2.19.0 
  Visit https://lgatto.github.io/MSnbase/ to get started.


Attaching package: 'MSnbase'

The following object is masked from 'package:base':

    trimws


This is xcms version 3.15.1 


Attaching package: 'xcms'

The following object is masked from 'package:stats':

    sigma

[1] TRUE
> BiocGenerics:::testPackage("CAMERA")
Processing 3195 mz slices ... OK
Loading required package: xcms
Loading required package: BiocParallel
Loading required package: MSnbase
Loading required package: BiocGenerics

Attaching package: 'BiocGenerics'

The following objects are masked from 'package:stats':

    IQR, mad, sd, var, xtabs

The following objects are masked from 'package:base':

    Filter, Find, Map, Position, Reduce, anyDuplicated, append,
    as.data.frame, basename, cbind, colnames, dirname, do.call,
    duplicated, eval, evalq, get, grep, grepl, intersect, is.unsorted,
    lapply, mapply, match, mget, order, paste, pmax, pmax.int, pmin,
    pmin.int, rank, rbind, rownames, sapply, setdiff, sort, table,
    tapply, union, unique, unsplit, which.max, which.min

Loading required package: Biobase
Welcome to Bioconductor

    Vignettes contain introductory material; view with
    'browseVignettes()'. To cite Bioconductor, see
    'citation("Biobase")', and for packages 'citation("pkgname")'.

Loading required package: mzR
Loading required package: Rcpp
Loading required package: S4Vectors
Loading required package: stats4

Attaching package: 'S4Vectors'

The following objects are masked from 'package:base':

    I, expand.grid, unname

Loading required package: ProtGenerics

Attaching package: 'ProtGenerics'

The following object is masked from 'package:stats':

    smooth


This is MSnbase version 2.19.0 
  Visit https://lgatto.github.io/MSnbase/ to get started.


Attaching package: 'MSnbase'

The following object is masked from 'package:base':

    trimws


This is xcms version 3.15.1 


Attaching package: 'xcms'

The following object is masked from 'package:stats':

    sigma

D:/biocbuild/bbs-3.14-bioc/R/library/faahKO/cdf/WT/wt15.CDF 
method:  bin 
step:  0.1 
D:/biocbuild/bbs-3.14-bioc/R/library/faahKO/cdf/WT/wt16.CDF 
method:  bin 
step:  0.1 
D:/biocbuild/bbs-3.14-bioc/R/library/faahKO/cdf/WT/wt18.CDF 
method:  bin 
step:  0.1 
Loading required package: xcms
Loading required package: BiocParallel
Loading required package: MSnbase
Loading required package: BiocGenerics

Attaching package: 'BiocGenerics'

The following objects are masked from 'package:stats':

    IQR, mad, sd, var, xtabs

The following objects are masked from 'package:base':

    Filter, Find, Map, Position, Reduce, anyDuplicated, append,
    as.data.frame, basename, cbind, colnames, dirname, do.call,
    duplicated, eval, evalq, get, grep, grepl, intersect, is.unsorted,
    lapply, mapply, match, mget, order, paste, pmax, pmax.int, pmin,
    pmin.int, rank, rbind, rownames, sapply, setdiff, sort, table,
    tapply, union, unique, unsplit, which.max, which.min

Loading required package: Biobase
Welcome to Bioconductor

    Vignettes contain introductory material; view with
    'browseVignettes()'. To cite Bioconductor, see
    'citation("Biobase")', and for packages 'citation("pkgname")'.

Loading required package: mzR
Loading required package: Rcpp
Loading required package: S4Vectors
Loading required package: stats4

Attaching package: 'S4Vectors'

The following objects are masked from 'package:base':

    I, expand.grid, unname

Loading required package: ProtGenerics

Attaching package: 'ProtGenerics'

The following object is masked from 'package:stats':

    smooth


This is MSnbase version 2.19.0 
  Visit https://lgatto.github.io/MSnbase/ to get started.


Attaching package: 'MSnbase'

The following object is masked from 'package:base':

    trimws


This is xcms version 3.15.1 


Attaching package: 'xcms'

The following object is masked from 'package:stats':

    sigma

D:/biocbuild/bbs-3.14-bioc/R/library/faahKO/cdf/KO/ko19.CDF 
method:  bin 
step:  0.1 
D:/biocbuild/bbs-3.14-bioc/R/library/faahKO/cdf/KO/ko21.CDF 
method:  bin 
step:  0.1 
D:/biocbuild/bbs-3.14-bioc/R/library/faahKO/cdf/KO/ko22.CDF 
method:  bin 
step:  0.1 
Loading required package: xcms
Loading required package: BiocParallel
Loading required package: MSnbase
Loading required package: BiocGenerics

Attaching package: 'BiocGenerics'

The following objects are masked from 'package:stats':

    IQR, mad, sd, var, xtabs

The following objects are masked from 'package:base':

    Filter, Find, Map, Position, Reduce, anyDuplicated, append,
    as.data.frame, basename, cbind, colnames, dirname, do.call,
    duplicated, eval, evalq, get, grep, grepl, intersect, is.unsorted,
    lapply, mapply, match, mget, order, paste, pmax, pmax.int, pmin,
    pmin.int, rank, rbind, rownames, sapply, setdiff, sort, table,
    tapply, union, unique, unsplit, which.max, which.min

Loading required package: Biobase
Welcome to Bioconductor

    Vignettes contain introductory material; view with
    'browseVignettes()'. To cite Bioconductor, see
    'citation("Biobase")', and for packages 'citation("pkgname")'.

Loading required package: mzR
Loading required package: Rcpp
Loading required package: S4Vectors
Loading required package: stats4

Attaching package: 'S4Vectors'

The following objects are masked from 'package:base':

    I, expand.grid, unname

Loading required package: ProtGenerics

Attaching package: 'ProtGenerics'

The following object is masked from 'package:stats':

    smooth


This is MSnbase version 2.19.0 
  Visit https://lgatto.github.io/MSnbase/ to get started.


Attaching package: 'MSnbase'

The following object is masked from 'package:base':

    trimws


This is xcms version 3.15.1 


Attaching package: 'xcms'

The following object is masked from 'package:stats':

    sigma

D:/biocbuild/bbs-3.14-bioc/R/library/faahKO/cdf/KO/ko15.CDF 
method:  bin 
step:  0.1 
D:/biocbuild/bbs-3.14-bioc/R/library/faahKO/cdf/KO/ko16.CDF 
method:  bin 
step:  0.1 
D:/biocbuild/bbs-3.14-bioc/R/library/faahKO/cdf/KO/ko18.CDF 
method:  bin 
step:  0.1 
Loading required package: xcms
Loading required package: BiocParallel
Loading required package: MSnbase
Loading required package: BiocGenerics

Attaching package: 'BiocGenerics'

The following objects are masked from 'package:stats':

    IQR, mad, sd, var, xtabs

The following objects are masked from 'package:base':

    Filter, Find, Map, Position, Reduce, anyDuplicated, append,
    as.data.frame, basename, cbind, colnames, dirname, do.call,
    duplicated, eval, evalq, get, grep, grepl, intersect, is.unsorted,
    lapply, mapply, match, mget, order, paste, pmax, pmax.int, pmin,
    pmin.int, rank, rbind, rownames, sapply, setdiff, sort, table,
    tapply, union, unique, unsplit, which.max, which.min

Loading required package: Biobase
Welcome to Bioconductor

    Vignettes contain introductory material; view with
    'browseVignettes()'. To cite Bioconductor, see
    'citation("Biobase")', and for packages 'citation("pkgname")'.

Loading required package: mzR
Loading required package: Rcpp
Loading required package: S4Vectors
Loading required package: stats4

Attaching package: 'S4Vectors'

The following objects are masked from 'package:base':

    I, expand.grid, unname

Loading required package: ProtGenerics

Attaching package: 'ProtGenerics'

The following object is masked from 'package:stats':

    smooth


This is MSnbase version 2.19.0 
  Visit https://lgatto.github.io/MSnbase/ to get started.


Attaching package: 'MSnbase'

The following object is masked from 'package:base':

    trimws


This is xcms version 3.15.1 


Attaching package: 'xcms'

The following object is masked from 'package:stats':

    sigma

D:/biocbuild/bbs-3.14-bioc/R/library/faahKO/cdf/WT/wt19.CDF 
method:  bin 
step:  0.1 
D:/biocbuild/bbs-3.14-bioc/R/library/faahKO/cdf/WT/wt21.CDF 
method:  bin 
step:  0.1 
D:/biocbuild/bbs-3.14-bioc/R/library/faahKO/cdf/WT/wt22.CDF 
method:  bin 
step:  0.1 
Warning message:
In .getPeaks_new(object, peakrange, step = step) :
  getPeaks: Peak  m/z:246.05-246.1,  RT:2501.378-2531.8945is out of retention time range for this sample (D:/biocbuild/bbs-3.14-bioc/R/library/faahKO/cdf/KO/ko18.CDF), using zero intensity value.

Start grouping after retention time.
Created 133 pseudospectra.
Generating peak matrix!
Run isotope peak annotation
 % finished: 10  20  30  40  50  60  70  80  90  100  
Found isotopes: 61 
Start grouping after correlation.
Generating EIC's .. 

Calculating peak correlations in 133 Groups... 
 % finished: 10  20  30  40  50  60  70  80  90  100  

Calculating graph cross linking in 133 Groups... 
 % finished: 10  20  30  40  50  60  70  80  90  100  
New number of ps-groups:  321 
xsAnnotate has now 321 groups, instead of 133 
Generating peak matrix for peak annotation!

Calculating possible adducts in 321 Groups... 
 % finished: 10  20  30  40  50  60  70  80  90  100  
Start grouping after retention time.
Created 133 pseudospectra.
Generating peak matrix!
Run isotope peak annotation
 % finished: 10  20  30  40  50  60  70  80  90  100  
Found isotopes: 61 
Start grouping after correlation.
Generating EIC's .. 

Calculating peak correlations in 133 Groups... 
 % finished: 10  20  30  40  50  60  70  80  90  100  

Calculating peak correlations across samples.
 % finished: 10  20  30  40  50  60  70  80  90  100  

Calculating graph cross linking in 133 Groups... 
 % finished: 10  20  30  40  50  60  70  80  90  100  
New number of ps-groups:  229 
xsAnnotate has now 229 groups, instead of 133 
Generating peak matrix for peak annotation!

Calculating possible adducts in 229 Groups... 
 % finished: 10  20  30  40  50  60  70  80  90  100  
Start grouping after retention time.
Created 133 pseudospectra.
Generating peak matrix!
Run isotope peak annotation
 % finished: 10  20  30  40  50  60  70  80  90  100  
Found isotopes: 61 
Start grouping after retention time.
Created 133 pseudospectra.
Generating peak matrix!
Run isotope peak annotation
 % finished: 10  20  30  40  50  60  70  80  90  100  
Found isotopes: 61 
Start grouping after correlation.

Calculating peak correlations across samples.
 % finished: 10  20  30  40  50  60  70  80  90  100  

Calculating graph cross linking in 133 Groups... 
 % finished: 10  20  30  40  50  60  70  80  90  100  
New number of ps-groups:  244 
xsAnnotate has now 244 groups, instead of 133 
Generating peak matrix for peak annotation!

Calculating possible adducts in 244 Groups... 
 % finished: 10  20  30  40  50  60  70  80  90  100  
Start grouping after retention time.
Created 133 pseudospectra.
Generating peak matrix!
Run isotope peak annotation
 % finished: 10  20  30  40  50  60  70  80  90  100  
Found isotopes: 61 
Start grouping after correlation.
Generating EIC's .. 

Calculating peak correlations in 133 Groups... 
 % finished: 10  20  30  40  50  60  70  80  90  100  

Calculating graph cross linking in 133 Groups... 
 % finished: 10  20  30  40  50  60  70  80  90  100  
New number of ps-groups:  321 
xsAnnotate has now 321 groups, instead of 133 
Generating peak matrix for peak annotation!

Calculating possible adducts in 321 Groups... 
 % finished: 10  20  30  40  50  60  70  80  90  100  
Start grouping after retention time.
Created 133 pseudospectra.
Generating peak matrix!
Run isotope peak annotation
 % finished: 10  20  30  40  50  60  70  80  90  100  
Found isotopes: 61 
Start grouping after correlation.
Generating EIC's .. 

Calculating peak correlations in 133 Groups... 
 % finished: 10  20  30  40  50  60  70  80  90  100  

Calculating graph cross linking in 133 Groups... 
 % finished: 10  20  30  40  50  60  70  80  90  100  
New number of ps-groups:  321 
xsAnnotate has now 321 groups, instead of 133 
Generating peak matrix for peak annotation!

Calculating possible adducts in 321 Groups... 
 % finished: 10  20  30  40  50  60  70  80  90  100  
Start grouping after retention time.
Created 133 pseudospectra.
Generating peak matrix!
Run isotope peak annotation
 % finished: 10  20  30  40  50  60  70  80  90  100  
Found isotopes: 61 
Start grouping after correlation.
Generating EIC's .. 

Calculating peak correlations in 133 Groups... 
 % finished: 10  20  30  40  50  60  70  80  90  100  

Calculating isotope assignments in 133 Groups... 
 % finished: 10  20  30  40  50  60  70  80  90  100  
Calculating graph cross linking in 133 Groups... 
 % finished: 10  20  30  40  50  60  70  80  90  100  
New number of ps-groups:  289 
xsAnnotate has now 289 groups, instead of 133 
Generating peak matrix for peak annotation!

Calculating possible adducts in 289 Groups... 
 % finished: 10  20  30  40  50  60  70  80  90  100  
Start grouping after retention time.
Created 133 pseudospectra.
Generating peak matrix!
Run isotope peak annotation
 % finished: 10  20  30  40  50  60  70  80  90  100  
Found isotopes: 61 
Start grouping after correlation.
Generating EIC's .. 

Calculating peak correlations in 133 Groups... 
 % finished: 10  20  30  40  50  60  70  80  90  100  

Calculating graph cross linking in 133 Groups... 
 % finished: 10  20  30  40  50  60  70  80  90  100  
New number of ps-groups:  321 
xsAnnotate has now 321 groups, instead of 133 
Generating peak matrix for peak annotation!

Calculating possible adducts in 321 Groups... 
 % finished: 10  20  30  40  50  60  70  80  90  100  
Start grouping after retention time.
Created 133 pseudospectra.
Generating peak matrix!
Run isotope peak annotation
 % finished: 10  20  30  40  50  60  70  80  90  100  
Found isotopes: 61 
Start grouping after correlation.
Generating EIC's .. 

Calculating peak correlations in 133 Groups... 
 % finished: 10  20  30  40  50  60  70  80  90  100  

Calculating graph cross linking in 133 Groups... 
 % finished: 10  20  30  40  50  60  70  80  90  100  
New number of ps-groups:  313 
xsAnnotate has now 313 groups, instead of 133 
Generating peak matrix for peak annotation!

Calculating possible adducts in 313 Groups... 
 % finished: 10  20  30  40  50  60  70  80  90  100  
Start grouping after retention time.
Created 133 pseudospectra.
Generating peak matrix!
Run isotope peak annotation
 % finished: 10  20  30  40  50  60  70  80  90  100  
Found isotopes: 61 
Start grouping after correlation.
Generating EIC's .. 

Calculating peak correlations in 133 Groups... 
 % finished: 10  20  30  40  50  60  70  80  90  100  

Calculating peak correlations across samples.
 % finished: 10  20  30  40  50  60  70  80  90  100  

Calculating graph cross linking in 133 Groups... 
 % finished: 10  20  30  40  50  60  70  80  90  100  
New number of ps-groups:  229 
xsAnnotate has now 229 groups, instead of 133 
Generating peak matrix for peak annotation!

Calculating possible adducts in 229 Groups... 
 % finished: 10  20  30  40  50  60  70  80  90  100  
Start grouping after retention time.
Created 133 pseudospectra.
Generating peak matrix!
Run isotope peak annotation
 % finished: 10  20  30  40  50  60  70  80  90  100  
Found isotopes: 61 
Start grouping after correlation.
Generating EIC's .. 

Calculating peak correlations in 133 Groups... 
 % finished: 10  20  30  40  50  60  70  80  90  100  

Calculating peak correlations across samples.
 % finished: 10  20  30  40  50  60  70  80  90  100  

Calculating graph cross linking in 133 Groups... 
 % finished: 10  20  30  40  50  60  70  80  90  100  
New number of ps-groups:  218 
xsAnnotate has now 218 groups, instead of 133 
Generating peak matrix for peak annotation!

Calculating possible adducts in 218 Groups... 
 % finished: 10  20  30  40  50  60  70  80  90  100  
Start grouping after retention time.
Created 133 pseudospectra.
Generating peak matrix!
Run isotope peak annotation
 % finished: 10  20  30  40  50  60  70  80  90  100  
Found isotopes: 61 
Start grouping after retention time.
Created 133 pseudospectra.
Generating peak matrix!
Run isotope peak annotation
 % finished: 10  20  30  40  50  60  70  80  90  100  
Found isotopes: 61 
Start grouping after retention time.
Created 133 pseudospectra.
Generating peak matrix!
Run isotope peak annotation
 % finished: 10  20  30  40  50  60  70  80  90  100  
Found isotopes: 61 
Start grouping after correlation.
Generating EIC's .. 

Calculating peak correlations in 133 Groups... 
 % finished: 10  20  30  40  50  60  70  80  90  100  

Calculating graph cross linking in 133 Groups... 
 % finished: 10  20  30  40  50  60  70  80  90  100  
New number of ps-groups:  375 
xsAnnotate has now 375 groups, instead of 133 
Generating peak matrix for peak annotation!

Calculating possible adducts in 375 Groups... 
 % finished: 10  20  30  40  50  60  70  80  90  100  
Start grouping after retention time.
Created 133 pseudospectra.
Generating peak matrix!
Run isotope peak annotation
 % finished: 10  20  30  40  50  60  70  80  90  100  
Found isotopes: 61 
Start grouping after correlation.
Generating EIC's .. 

Calculating peak correlations in 133 Groups... 
 % finished: 10  20  30  40  50  60  70  80  90  100  

Calculating graph cross linking in 133 Groups... 
 % finished: 10  20  30  40  50  60  70  80  90  100  
New number of ps-groups:  314 
xsAnnotate has now 314 groups, instead of 133 
Generating peak matrix for peak annotation!

Calculating possible adducts in 314 Groups... 
 % finished: 10  20  30  40  50  60  70  80  90  100  
Start grouping after retention time.
Created 133 pseudospectra.
Generating peak matrix!
Run isotope peak annotation
 % finished: 10  20  30  40  50  60  70  80  90  100  
Found isotopes: 61 
Start grouping after correlation.
Generating EIC's .. 

Calculating peak correlations in 133 Groups... 
 % finished: 10  20  30  40  50  60  70  80  90  100  

Calculating graph cross linking in 133 Groups... 
 % finished: 10  20  30  40  50  60  70  80  90  100  
New number of ps-groups:  375 
xsAnnotate has now 375 groups, instead of 133 
Generating peak matrix for peak annotation!

Calculating possible adducts in 375 Groups... 
 % finished: 10  20  30  40  50  60  70  80  90  100  
Start grouping after retention time.
Created 133 pseudospectra.
Generating peak matrix!
Run isotope peak annotation
 % finished: 10  20  30  40  50  60  70  80  90  100  
Found isotopes: 61 
Start grouping after correlation.
Generating EIC's .. 

Calculating peak correlations in 133 Groups... 
 % finished: 10  20  30  40  50  60  70  80  90  100  

Calculating graph cross linking in 133 Groups... 
 % finished: 10  20  30  40  50  60  70  80  90  100  
New number of ps-groups:  317 
xsAnnotate has now 317 groups, instead of 133 
Generating peak matrix for peak annotation!

Calculating possible adducts in 317 Groups... 
 % finished: 10  20  30  40  50  60  70  80  90  100  
Start grouping after retention time.
Created 133 pseudospectra.
Generating peak matrix!
Run isotope peak annotation
 % finished: 10  20  30  40  50  60  70  80  90  100  
Found isotopes: 61 
Start grouping after correlation.
Generating EIC's .. 

Calculating peak correlations in 133 Groups... 
 % finished: 10  20  30  40  50  60  70  80  90  100  

Calculating graph cross linking in 133 Groups... 
 % finished: 10  20  30  40  50  60  70  80  90  100  
New number of ps-groups:  314 
xsAnnotate has now 314 groups, instead of 133 
Generating peak matrix for peak annotation!

Calculating possible adducts in 314 Groups... 
 % finished: 10  20  30  40  50  60  70  80  90  100  
Processing 3195 mz slices ... OK
Start grouping after retention time.
Created 148 pseudospectra.
Start grouping after correlation.
Generating EIC's .. 
Warning: Found NA peaks in selected sample.

Calculating peak correlations in 148 Groups... 
 % finished: 10  20  30  40  50  60  70  80  90  100  

Calculating graph cross linking in 148 Groups... 
 % finished: 10  20  30  40  50  60  70  80  90  100  
New number of ps-groups:  333 
xsAnnotate has now 333 groups, instead of 148 
Generating peak matrix!
Run isotope peak annotation
 % finished: 10  20  30  40  50  60  70  80  90  100  
Found isotopes: 22 
Generating peak matrix for peak annotation!
Found and use user-defined ruleset!
Calculating possible adducts in 333 Groups... 
 % finished: 10  20  30  40  50  60  70  80  90  100  
Start grouping after retention time.
Created 133 pseudospectra.
Start grouping after correlation.
Generating EIC's .. 
Warning: Found NA peaks in selected sample.

Calculating peak correlations in 133 Groups... 
 % finished: 10  20  30  40  50  60  70  80  90  100  
Generating EIC's .. 
Warning: Found NA peaks in selected sample.

Calculating peak correlations in 133 Groups... 
 % finished: 10  20  30  40  50  60  70  80  90  100  
Generating EIC's .. 
Warning: Found NA peaks in selected sample.

Calculating peak correlations in 133 Groups... 
 % finished: 10  20  30  40  50  60  70  80  90  100  
Generating EIC's .. 
Warning: Found NA peaks in selected sample.

Calculating peak correlations in 133 Groups... 
 % finished: 10  20  30  40  50  60  70  80  90  100  
Generating EIC's .. 
Warning: Found NA peaks in selected sample.

Calculating peak correlations in 133 Groups... 
 % finished: 10  20  30  40  50  60  70  80  90  100  
Generating EIC's .. 
Warning: Found NA peaks in selected sample.

Calculating peak correlations in 133 Groups... 
 % finished: 10  20  30  40  50  60  70  80  90  100  
Generating EIC's .. 
Warning: Found NA peaks in selected sample.

Calculating peak correlations in 133 Groups... 
 % finished: 10  20  30  40  50  60  70  80  90  100  
Generating EIC's .. 
Warning: Found NA peaks in selected sample.

Calculating peak correlations in 133 Groups... 
 % finished: 10  20  30  40  50  60  70  80  90  100  

Calculating graph cross linking in 133 Groups... 
 % finished: 10  20  30  40  50  60  70  80  90  100  
New number of ps-groups:  254 
xsAnnotate has now 254 groups, instead of 133 
Generating peak matrix!
Run isotope peak annotation
 % finished: 10  20  30  40  50  60  70  80  90  100  
Found isotopes: 32 
Generating peak matrix for peak annotation!
Found and use user-defined ruleset!
Calculating possible adducts in 254 Groups... 
 % finished: 10  20  30  40  50  60  70  80  90  100  
Start grouping after retention time.
Created 133 pseudospectra.
Start grouping after correlation.
Generating EIC's .. 
Warning: Found NA peaks in selected sample.

Calculating peak correlations in 133 Groups... 
 % finished: 10  20  30  40  50  60  70  80  90  100  

Calculating graph cross linking in 133 Groups... 
 % finished: 10  20  30  40  50  60  70  80  90  100  
New number of ps-groups:  329 
xsAnnotate has now 329 groups, instead of 133 
Generating peak matrix!
Run isotope peak annotation
 % finished: 10  20  30  40  50  60  70  80  90  100  
Found isotopes: 20 
Generating peak matrix for peak annotation!
Found and use user-defined ruleset!
Calculating possible adducts in 329 Groups... 
 % finished: 10  20  30  40  50  60  70  80  90  100  
Detecting mass traces at 30 ppm ... OK
Detecting chromatographic peaks in 456 regions of interest ... OK: 126 found.
Start grouping after retention time.
Created 14 pseudospectra.
Generating peak matrix!
Run isotope peak annotation
 % finished: 20  50  60  70  80  90  100  
Found isotopes: 32 
Found and use user-defined ruleset!
Calculating possible adducts in 14 Groups... 
 % finished: 20  50  60  70  80  90  100  
Detecting mass traces at 30 ppm ... OK
Detecting chromatographic peaks in 456 regions of interest ... OK: 126 found.
Start grouping after retention time.
Created 14 pseudospectra.
Start grouping after correlation.

Calculating peak correlations in 14 Groups... 
 % finished: 20  50  60  70  80  90  100  

Calculating graph cross linking in 14 Groups... 
 % finished: 20  50  60  70  80  90  100  
New number of ps-groups:  35 
xsAnnotate has now 35 groups, instead of 14 
Detecting mass traces at 30 ppm ... OK
Detecting chromatographic peaks in 456 regions of interest ... OK: 126 found.
Created 11 pseudospectra.
Processing 3195 mz slices ... OK
Start grouping after retention time.
Created 148 pseudospectra.
Start grouping after correlation.
Generating EIC's .. 
Warning: Found NA peaks in selected sample.

Calculating peak correlations in 148 Groups... 
 % finished: 10  20  30  40  50  60  70  80  90  100  

Calculating graph cross linking in 148 Groups... 
 % finished: 10  20  30  40  50  60  70  80  90  100  
New number of ps-groups:  333 
xsAnnotate has now 333 groups, instead of 148 
Start grouping after retention time.
Created 133 pseudospectra.
Start grouping after correlation.
Generating EIC's .. 
Warning: Found NA peaks in selected sample.

Calculating peak correlations in 133 Groups... 
 % finished: 10  20  30  40  50  60  70  80  90  100  

Calculating graph cross linking in 133 Groups... 
 % finished: 10  20  30  40  50  60  70  80  90  100  
New number of ps-groups:  329 
xsAnnotate has now 329 groups, instead of 133 
Start grouping after correlation.
Data was not preprocessed with groupFWHM, creating one pseudospectrum with all peaks.
Generating EIC's .. 
Warning: Found NA peaks in selected sample.

Calculating peak correlations in 1 Groups... 
 % finished: 100  

Calculating graph cross linking in 1 Groups... 
 % finished: 100  
New number of ps-groups:  316 
xsAnnotate has now 316 groups, instead of 1 
Start grouping after correlation.
Data was not preprocessed with groupFWHM, creating one pseudospectrum with all peaks.
Generating EIC's .. 
Warning: Found NA peaks in selected sample.

Calculating peak correlations in 1 Groups... 
 % finished: 100  

Calculating graph cross linking in 1 Groups... 
 % finished: 100  
New number of ps-groups:  316 
xsAnnotate has now 316 groups, instead of 1 
Generating peak matrix!
Run isotope peak annotation
 % finished: 10  20  30  40  50  60  70  80  90  100  
Found isotopes: 22 
Generating peak matrix for peak annotation!
Found and use user-defined ruleset!
Calculating possible adducts in 316 Groups... 
 % finished: 10  20  30  40  50  60  70  80  90  100  
Detecting mass traces at 30 ppm ... OK
Detecting chromatographic peaks in 456 regions of interest ... OK: 126 found.
Start grouping after retention time.
Created 14 pseudospectra.
Start grouping after correlation.
Data was not preprocessed with groupFWHM, creating one pseudospectrum with all peaks.

Calculating peak correlations in 1 Groups... 
 % finished: 100  

Calculating graph cross linking in 1 Groups... 
 % finished: 100  
New number of ps-groups:  48 
xsAnnotate has now 48 groups, instead of 1 
Start grouping after correlation.

Calculating peak correlations in 14 Groups... 
 % finished: 20  50  60  70  80  90  100  

Calculating graph cross linking in 14 Groups... 
 % finished: 20  50  60  70  80  90  100  
New number of ps-groups:  48 
xsAnnotate has now 48 groups, instead of 14 
Start grouping after correlation.

Calculating peak correlations in 8 Groups... 
 % finished: 30  60  70  80  90  100  

Calculating graph cross linking in 8 Groups... 
 % finished: 30  60  70  80  90  100  
New number of ps-groups:  29 
xsAnnotate has now 29 groups, instead of 14 
Generating peak matrix!
Run isotope peak annotation
 % finished: 20  50  60  70  80  90  100  
Found isotopes: 32 
Start grouping after correlation.

Calculating peak correlations in 14 Groups... 
 % finished: 20  50  60  70  80  90  100  

Calculating graph cross linking in 14 Groups... 
 % finished: 20  50  60  70  80  90  100  
New number of ps-groups:  48 
xsAnnotate has now 48 groups, instead of 14 
xsAnnotate contains no pseudospectra. Regroup all peaks into one!
Generating peak matrix!
Run isotope peak annotation
 % finished: 100  
Found isotopes: 32 
Found and use user-defined ruleset!
Calculating possible adducts in 1 Groups... 
 % finished: 100  
Generating peak matrix!
Run isotope peak annotation
 % finished: 20  40  50  60  70  80  90  100  
Found isotopes: 23 

Calculating possible adducts in 48 Groups... 
 % finished: 20  40  50  60  70  80  90  100  

Calculating possible adducts in 8 Groups... 
 % finished: 10  
Processing 3195 mz slices ... OK
Detecting mass traces at 30 ppm ... OK
Detecting chromatographic peaks in 456 regions of interest ... OK: 126 found.
Start grouping after retention time.
Created 14 pseudospectra.
Detecting mass traces at 30 ppm ... OK
Detecting chromatographic peaks in 456 regions of interest ... OK: 126 found.
Start grouping after retention time.
Created 14 pseudospectra.
Generating peak matrix!
Run isotope peak annotation
 % finished: 20  50  60  70  80  90  100  
Found isotopes: 32 

Calculating possible adducts in 14 Groups... 
 % finished: 20  50  60  70  80  90  100  


RUNIT TEST PROTOCOL -- Wed Jun 16 23:31:03 2021 
*********************************************** 
Number of test functions: 20 
Number of errors: 0 
Number of failures: 0 

 
1 Test Suite : 
CAMERA RUnit Tests - 20 test functions, 0 errors, 0 failures
Number of test functions: 20 
Number of errors: 0 
Number of failures: 0 
> 
> proc.time()
   user  system elapsed 
 177.48    4.17  197.64 

CAMERA.Rcheck/tests_x64/runTests.Rout


R version 4.1.0 (2021-05-18) -- "Camp Pontanezen"
Copyright (C) 2021 The R Foundation for Statistical Computing
Platform: x86_64-w64-mingw32/x64 (64-bit)

R is free software and comes with ABSOLUTELY NO WARRANTY.
You are welcome to redistribute it under certain conditions.
Type 'license()' or 'licence()' for distribution details.

R is a collaborative project with many contributors.
Type 'contributors()' for more information and
'citation()' on how to cite R or R packages in publications.

Type 'demo()' for some demos, 'help()' for on-line help, or
'help.start()' for an HTML browser interface to help.
Type 'q()' to quit R.

> require("CAMERA") || stop("unable to load CAMERA")
Loading required package: CAMERA
Loading required package: Biobase
Loading required package: BiocGenerics

Attaching package: 'BiocGenerics'

The following objects are masked from 'package:stats':

    IQR, mad, sd, var, xtabs

The following objects are masked from 'package:base':

    Filter, Find, Map, Position, Reduce, anyDuplicated, append,
    as.data.frame, basename, cbind, colnames, dirname, do.call,
    duplicated, eval, evalq, get, grep, grepl, intersect, is.unsorted,
    lapply, mapply, match, mget, order, paste, pmax, pmax.int, pmin,
    pmin.int, rank, rbind, rownames, sapply, setdiff, sort, table,
    tapply, union, unique, unsplit, which.max, which.min

Welcome to Bioconductor

    Vignettes contain introductory material; view with
    'browseVignettes()'. To cite Bioconductor, see
    'citation("Biobase")', and for packages 'citation("pkgname")'.

Loading required package: xcms
Loading required package: BiocParallel
Loading required package: MSnbase
Loading required package: mzR
Loading required package: Rcpp
Loading required package: S4Vectors
Loading required package: stats4

Attaching package: 'S4Vectors'

The following objects are masked from 'package:base':

    I, expand.grid, unname

Loading required package: ProtGenerics

Attaching package: 'ProtGenerics'

The following object is masked from 'package:stats':

    smooth


This is MSnbase version 2.19.0 
  Visit https://lgatto.github.io/MSnbase/ to get started.


Attaching package: 'MSnbase'

The following object is masked from 'package:base':

    trimws


This is xcms version 3.15.1 


Attaching package: 'xcms'

The following object is masked from 'package:stats':

    sigma

[1] TRUE
> BiocGenerics:::testPackage("CAMERA")
Processing 3195 mz slices ... OK
Loading required package: xcms
Loading required package: BiocParallel
Loading required package: MSnbase
Loading required package: BiocGenerics

Attaching package: 'BiocGenerics'

The following objects are masked from 'package:stats':

    IQR, mad, sd, var, xtabs

The following objects are masked from 'package:base':

    Filter, Find, Map, Position, Reduce, anyDuplicated, append,
    as.data.frame, basename, cbind, colnames, dirname, do.call,
    duplicated, eval, evalq, get, grep, grepl, intersect, is.unsorted,
    lapply, mapply, match, mget, order, paste, pmax, pmax.int, pmin,
    pmin.int, rank, rbind, rownames, sapply, setdiff, sort, table,
    tapply, union, unique, unsplit, which.max, which.min

Loading required package: Biobase
Welcome to Bioconductor

    Vignettes contain introductory material; view with
    'browseVignettes()'. To cite Bioconductor, see
    'citation("Biobase")', and for packages 'citation("pkgname")'.

Loading required package: mzR
Loading required package: Rcpp
Loading required package: S4Vectors
Loading required package: stats4

Attaching package: 'S4Vectors'

The following objects are masked from 'package:base':

    I, expand.grid, unname

Loading required package: ProtGenerics

Attaching package: 'ProtGenerics'

The following object is masked from 'package:stats':

    smooth


This is MSnbase version 2.19.0 
  Visit https://lgatto.github.io/MSnbase/ to get started.


Attaching package: 'MSnbase'

The following object is masked from 'package:base':

    trimws


This is xcms version 3.15.1 


Attaching package: 'xcms'

The following object is masked from 'package:stats':

    sigma

D:/biocbuild/bbs-3.14-bioc/R/library/faahKO/cdf/WT/wt19.CDF 
method:  bin 
step:  0.1 
D:/biocbuild/bbs-3.14-bioc/R/library/faahKO/cdf/WT/wt21.CDF 
method:  bin 
step:  0.1 
D:/biocbuild/bbs-3.14-bioc/R/library/faahKO/cdf/WT/wt22.CDF 
method:  bin 
step:  0.1 
Loading required package: xcms
Loading required package: BiocParallel
Loading required package: MSnbase
Loading required package: BiocGenerics

Attaching package: 'BiocGenerics'

The following objects are masked from 'package:stats':

    IQR, mad, sd, var, xtabs

The following objects are masked from 'package:base':

    Filter, Find, Map, Position, Reduce, anyDuplicated, append,
    as.data.frame, basename, cbind, colnames, dirname, do.call,
    duplicated, eval, evalq, get, grep, grepl, intersect, is.unsorted,
    lapply, mapply, match, mget, order, paste, pmax, pmax.int, pmin,
    pmin.int, rank, rbind, rownames, sapply, setdiff, sort, table,
    tapply, union, unique, unsplit, which.max, which.min

Loading required package: Biobase
Welcome to Bioconductor

    Vignettes contain introductory material; view with
    'browseVignettes()'. To cite Bioconductor, see
    'citation("Biobase")', and for packages 'citation("pkgname")'.

Loading required package: mzR
Loading required package: Rcpp
Loading required package: S4Vectors
Loading required package: stats4

Attaching package: 'S4Vectors'

The following objects are masked from 'package:base':

    I, expand.grid, unname

Loading required package: ProtGenerics

Attaching package: 'ProtGenerics'

The following object is masked from 'package:stats':

    smooth


This is MSnbase version 2.19.0 
  Visit https://lgatto.github.io/MSnbase/ to get started.


Attaching package: 'MSnbase'

The following object is masked from 'package:base':

    trimws


This is xcms version 3.15.1 


Attaching package: 'xcms'

The following object is masked from 'package:stats':

    sigma

D:/biocbuild/bbs-3.14-bioc/R/library/faahKO/cdf/WT/wt15.CDF 
method:  bin 
step:  0.1 
D:/biocbuild/bbs-3.14-bioc/R/library/faahKO/cdf/WT/wt16.CDF 
method:  bin 
step:  0.1 
D:/biocbuild/bbs-3.14-bioc/R/library/faahKO/cdf/WT/wt18.CDF 
method:  bin 
step:  0.1 
Loading required package: xcms
Loading required package: BiocParallel
Loading required package: MSnbase
Loading required package: BiocGenerics

Attaching package: 'BiocGenerics'

The following objects are masked from 'package:stats':

    IQR, mad, sd, var, xtabs

The following objects are masked from 'package:base':

    Filter, Find, Map, Position, Reduce, anyDuplicated, append,
    as.data.frame, basename, cbind, colnames, dirname, do.call,
    duplicated, eval, evalq, get, grep, grepl, intersect, is.unsorted,
    lapply, mapply, match, mget, order, paste, pmax, pmax.int, pmin,
    pmin.int, rank, rbind, rownames, sapply, setdiff, sort, table,
    tapply, union, unique, unsplit, which.max, which.min

Loading required package: Biobase
Welcome to Bioconductor

    Vignettes contain introductory material; view with
    'browseVignettes()'. To cite Bioconductor, see
    'citation("Biobase")', and for packages 'citation("pkgname")'.

Loading required package: mzR
Loading required package: Rcpp
Loading required package: S4Vectors
Loading required package: stats4

Attaching package: 'S4Vectors'

The following objects are masked from 'package:base':

    I, expand.grid, unname

Loading required package: ProtGenerics

Attaching package: 'ProtGenerics'

The following object is masked from 'package:stats':

    smooth


This is MSnbase version 2.19.0 
  Visit https://lgatto.github.io/MSnbase/ to get started.


Attaching package: 'MSnbase'

The following object is masked from 'package:base':

    trimws


This is xcms version 3.15.1 


Attaching package: 'xcms'

The following object is masked from 'package:stats':

    sigma

D:/biocbuild/bbs-3.14-bioc/R/library/faahKO/cdf/KO/ko15.CDF 
method:  bin 
step:  0.1 
D:/biocbuild/bbs-3.14-bioc/R/library/faahKO/cdf/KO/ko16.CDF 
method:  bin 
step:  0.1 
D:/biocbuild/bbs-3.14-bioc/R/library/faahKO/cdf/KO/ko18.CDF 
method:  bin 
step:  0.1 
Loading required package: xcms
Loading required package: BiocParallel
Loading required package: MSnbase
Loading required package: BiocGenerics

Attaching package: 'BiocGenerics'

The following objects are masked from 'package:stats':

    IQR, mad, sd, var, xtabs

The following objects are masked from 'package:base':

    Filter, Find, Map, Position, Reduce, anyDuplicated, append,
    as.data.frame, basename, cbind, colnames, dirname, do.call,
    duplicated, eval, evalq, get, grep, grepl, intersect, is.unsorted,
    lapply, mapply, match, mget, order, paste, pmax, pmax.int, pmin,
    pmin.int, rank, rbind, rownames, sapply, setdiff, sort, table,
    tapply, union, unique, unsplit, which.max, which.min

Loading required package: Biobase
Welcome to Bioconductor

    Vignettes contain introductory material; view with
    'browseVignettes()'. To cite Bioconductor, see
    'citation("Biobase")', and for packages 'citation("pkgname")'.

Loading required package: mzR
Loading required package: Rcpp
Loading required package: S4Vectors
Loading required package: stats4

Attaching package: 'S4Vectors'

The following objects are masked from 'package:base':

    I, expand.grid, unname

Loading required package: ProtGenerics

Attaching package: 'ProtGenerics'

The following object is masked from 'package:stats':

    smooth


This is MSnbase version 2.19.0 
  Visit https://lgatto.github.io/MSnbase/ to get started.


Attaching package: 'MSnbase'

The following object is masked from 'package:base':

    trimws


This is xcms version 3.15.1 


Attaching package: 'xcms'

The following object is masked from 'package:stats':

    sigma

D:/biocbuild/bbs-3.14-bioc/R/library/faahKO/cdf/KO/ko19.CDF 
method:  bin 
step:  0.1 
D:/biocbuild/bbs-3.14-bioc/R/library/faahKO/cdf/KO/ko21.CDF 
method:  bin 
step:  0.1 
D:/biocbuild/bbs-3.14-bioc/R/library/faahKO/cdf/KO/ko22.CDF 
method:  bin 
step:  0.1 
Warning message:
In .getPeaks_new(object, peakrange, step = step) :
  getPeaks: Peak  m/z:246.05-246.1,  RT:2501.378-2531.8945is out of retention time range for this sample (D:/biocbuild/bbs-3.14-bioc/R/library/faahKO/cdf/KO/ko18.CDF), using zero intensity value.

Start grouping after retention time.
Created 133 pseudospectra.
Generating peak matrix!
Run isotope peak annotation
 % finished: 10  20  30  40  50  60  70  80  90  100  
Found isotopes: 61 
Start grouping after correlation.
Generating EIC's .. 

Calculating peak correlations in 133 Groups... 
 % finished: 10  20  30  40  50  60  70  80  90  100  

Calculating graph cross linking in 133 Groups... 
 % finished: 10  20  30  40  50  60  70  80  90  100  
New number of ps-groups:  321 
xsAnnotate has now 321 groups, instead of 133 
Generating peak matrix for peak annotation!

Calculating possible adducts in 321 Groups... 
 % finished: 10  20  30  40  50  60  70  80  90  100  
Start grouping after retention time.
Created 133 pseudospectra.
Generating peak matrix!
Run isotope peak annotation
 % finished: 10  20  30  40  50  60  70  80  90  100  
Found isotopes: 61 
Start grouping after correlation.
Generating EIC's .. 

Calculating peak correlations in 133 Groups... 
 % finished: 10  20  30  40  50  60  70  80  90  100  

Calculating peak correlations across samples.
 % finished: 10  20  30  40  50  60  70  80  90  100  

Calculating graph cross linking in 133 Groups... 
 % finished: 10  20  30  40  50  60  70  80  90  100  
New number of ps-groups:  229 
xsAnnotate has now 229 groups, instead of 133 
Generating peak matrix for peak annotation!

Calculating possible adducts in 229 Groups... 
 % finished: 10  20  30  40  50  60  70  80  90  100  
Start grouping after retention time.
Created 133 pseudospectra.
Generating peak matrix!
Run isotope peak annotation
 % finished: 10  20  30  40  50  60  70  80  90  100  
Found isotopes: 61 
Start grouping after retention time.
Created 133 pseudospectra.
Generating peak matrix!
Run isotope peak annotation
 % finished: 10  20  30  40  50  60  70  80  90  100  
Found isotopes: 61 
Start grouping after correlation.

Calculating peak correlations across samples.
 % finished: 10  20  30  40  50  60  70  80  90  100  

Calculating graph cross linking in 133 Groups... 
 % finished: 10  20  30  40  50  60  70  80  90  100  
New number of ps-groups:  244 
xsAnnotate has now 244 groups, instead of 133 
Generating peak matrix for peak annotation!

Calculating possible adducts in 244 Groups... 
 % finished: 10  20  30  40  50  60  70  80  90  100  
Start grouping after retention time.
Created 133 pseudospectra.
Generating peak matrix!
Run isotope peak annotation
 % finished: 10  20  30  40  50  60  70  80  90  100  
Found isotopes: 61 
Start grouping after correlation.
Generating EIC's .. 

Calculating peak correlations in 133 Groups... 
 % finished: 10  20  30  40  50  60  70  80  90  100  

Calculating graph cross linking in 133 Groups... 
 % finished: 10  20  30  40  50  60  70  80  90  100  
New number of ps-groups:  321 
xsAnnotate has now 321 groups, instead of 133 
Generating peak matrix for peak annotation!

Calculating possible adducts in 321 Groups... 
 % finished: 10  20  30  40  50  60  70  80  90  100  
Start grouping after retention time.
Created 133 pseudospectra.
Generating peak matrix!
Run isotope peak annotation
 % finished: 10  20  30  40  50  60  70  80  90  100  
Found isotopes: 61 
Start grouping after correlation.
Generating EIC's .. 

Calculating peak correlations in 133 Groups... 
 % finished: 10  20  30  40  50  60  70  80  90  100  

Calculating graph cross linking in 133 Groups... 
 % finished: 10  20  30  40  50  60  70  80  90  100  
New number of ps-groups:  321 
xsAnnotate has now 321 groups, instead of 133 
Generating peak matrix for peak annotation!

Calculating possible adducts in 321 Groups... 
 % finished: 10  20  30  40  50  60  70  80  90  100  
Start grouping after retention time.
Created 133 pseudospectra.
Generating peak matrix!
Run isotope peak annotation
 % finished: 10  20  30  40  50  60  70  80  90  100  
Found isotopes: 61 
Start grouping after correlation.
Generating EIC's .. 

Calculating peak correlations in 133 Groups... 
 % finished: 10  20  30  40  50  60  70  80  90  100  

Calculating isotope assignments in 133 Groups... 
 % finished: 10  20  30  40  50  60  70  80  90  100  
Calculating graph cross linking in 133 Groups... 
 % finished: 10  20  30  40  50  60  70  80  90  100  
New number of ps-groups:  289 
xsAnnotate has now 289 groups, instead of 133 
Generating peak matrix for peak annotation!

Calculating possible adducts in 289 Groups... 
 % finished: 10  20  30  40  50  60  70  80  90  100  
Start grouping after retention time.
Created 133 pseudospectra.
Generating peak matrix!
Run isotope peak annotation
 % finished: 10  20  30  40  50  60  70  80  90  100  
Found isotopes: 61 
Start grouping after correlation.
Generating EIC's .. 

Calculating peak correlations in 133 Groups... 
 % finished: 10  20  30  40  50  60  70  80  90  100  

Calculating graph cross linking in 133 Groups... 
 % finished: 10  20  30  40  50  60  70  80  90  100  
New number of ps-groups:  321 
xsAnnotate has now 321 groups, instead of 133 
Generating peak matrix for peak annotation!

Calculating possible adducts in 321 Groups... 
 % finished: 10  20  30  40  50  60  70  80  90  100  
Start grouping after retention time.
Created 133 pseudospectra.
Generating peak matrix!
Run isotope peak annotation
 % finished: 10  20  30  40  50  60  70  80  90  100  
Found isotopes: 61 
Start grouping after correlation.
Generating EIC's .. 

Calculating peak correlations in 133 Groups... 
 % finished: 10  20  30  40  50  60  70  80  90  100  

Calculating graph cross linking in 133 Groups... 
 % finished: 10  20  30  40  50  60  70  80  90  100  
New number of ps-groups:  312 
xsAnnotate has now 312 groups, instead of 133 
Generating peak matrix for peak annotation!

Calculating possible adducts in 312 Groups... 
 % finished: 10  20  30  40  50  60  70  80  90  100  
Start grouping after retention time.
Created 133 pseudospectra.
Generating peak matrix!
Run isotope peak annotation
 % finished: 10  20  30  40  50  60  70  80  90  100  
Found isotopes: 61 
Start grouping after correlation.
Generating EIC's .. 

Calculating peak correlations in 133 Groups... 
 % finished: 10  20  30  40  50  60  70  80  90  100  

Calculating peak correlations across samples.
 % finished: 10  20  30  40  50  60  70  80  90  100  

Calculating graph cross linking in 133 Groups... 
 % finished: 10  20  30  40  50  60  70  80  90  100  
New number of ps-groups:  229 
xsAnnotate has now 229 groups, instead of 133 
Generating peak matrix for peak annotation!

Calculating possible adducts in 229 Groups... 
 % finished: 10  20  30  40  50  60  70  80  90  100  
Start grouping after retention time.
Created 133 pseudospectra.
Generating peak matrix!
Run isotope peak annotation
 % finished: 10  20  30  40  50  60  70  80  90  100  
Found isotopes: 61 
Start grouping after correlation.
Generating EIC's .. 

Calculating peak correlations in 133 Groups... 
 % finished: 10  20  30  40  50  60  70  80  90  100  

Calculating peak correlations across samples.
 % finished: 10  20  30  40  50  60  70  80  90  100  

Calculating graph cross linking in 133 Groups... 
 % finished: 10  20  30  40  50  60  70  80  90  100  
New number of ps-groups:  218 
xsAnnotate has now 218 groups, instead of 133 
Generating peak matrix for peak annotation!

Calculating possible adducts in 218 Groups... 
 % finished: 10  20  30  40  50  60  70  80  90  100  
Start grouping after retention time.
Created 133 pseudospectra.
Generating peak matrix!
Run isotope peak annotation
 % finished: 10  20  30  40  50  60  70  80  90  100  
Found isotopes: 61 
Start grouping after retention time.
Created 133 pseudospectra.
Generating peak matrix!
Run isotope peak annotation
 % finished: 10  20  30  40  50  60  70  80  90  100  
Found isotopes: 61 
Start grouping after retention time.
Created 133 pseudospectra.
Generating peak matrix!
Run isotope peak annotation
 % finished: 10  20  30  40  50  60  70  80  90  100  
Found isotopes: 61 
Start grouping after correlation.
Generating EIC's .. 

Calculating peak correlations in 133 Groups... 
 % finished: 10  20  30  40  50  60  70  80  90  100  

Calculating graph cross linking in 133 Groups... 
 % finished: 10  20  30  40  50  60  70  80  90  100  
New number of ps-groups:  375 
xsAnnotate has now 375 groups, instead of 133 
Generating peak matrix for peak annotation!

Calculating possible adducts in 375 Groups... 
 % finished: 10  20  30  40  50  60  70  80  90  100  
Start grouping after retention time.
Created 133 pseudospectra.
Generating peak matrix!
Run isotope peak annotation
 % finished: 10  20  30  40  50  60  70  80  90  100  
Found isotopes: 61 
Start grouping after correlation.
Generating EIC's .. 

Calculating peak correlations in 133 Groups... 
 % finished: 10  20  30  40  50  60  70  80  90  100  

Calculating graph cross linking in 133 Groups... 
 % finished: 10  20  30  40  50  60  70  80  90  100  
New number of ps-groups:  314 
xsAnnotate has now 314 groups, instead of 133 
Generating peak matrix for peak annotation!

Calculating possible adducts in 314 Groups... 
 % finished: 10  20  30  40  50  60  70  80  90  100  
Start grouping after retention time.
Created 133 pseudospectra.
Generating peak matrix!
Run isotope peak annotation
 % finished: 10  20  30  40  50  60  70  80  90  100  
Found isotopes: 61 
Start grouping after correlation.
Generating EIC's .. 

Calculating peak correlations in 133 Groups... 
 % finished: 10  20  30  40  50  60  70  80  90  100  

Calculating graph cross linking in 133 Groups... 
 % finished: 10  20  30  40  50  60  70  80  90  100  
New number of ps-groups:  375 
xsAnnotate has now 375 groups, instead of 133 
Generating peak matrix for peak annotation!

Calculating possible adducts in 375 Groups... 
 % finished: 10  20  30  40  50  60  70  80  90  100  
Start grouping after retention time.
Created 133 pseudospectra.
Generating peak matrix!
Run isotope peak annotation
 % finished: 10  20  30  40  50  60  70  80  90  100  
Found isotopes: 61 
Start grouping after correlation.
Generating EIC's .. 

Calculating peak correlations in 133 Groups... 
 % finished: 10  20  30  40  50  60  70  80  90  100  

Calculating graph cross linking in 133 Groups... 
 % finished: 10  20  30  40  50  60  70  80  90  100  
New number of ps-groups:  317 
xsAnnotate has now 317 groups, instead of 133 
Generating peak matrix for peak annotation!

Calculating possible adducts in 317 Groups... 
 % finished: 10  20  30  40  50  60  70  80  90  100  
Start grouping after retention time.
Created 133 pseudospectra.
Generating peak matrix!
Run isotope peak annotation
 % finished: 10  20  30  40  50  60  70  80  90  100  
Found isotopes: 61 
Start grouping after correlation.
Generating EIC's .. 

Calculating peak correlations in 133 Groups... 
 % finished: 10  20  30  40  50  60  70  80  90  100  

Calculating graph cross linking in 133 Groups... 
 % finished: 10  20  30  40  50  60  70  80  90  100  
New number of ps-groups:  314 
xsAnnotate has now 314 groups, instead of 133 
Generating peak matrix for peak annotation!

Calculating possible adducts in 314 Groups... 
 % finished: 10  20  30  40  50  60  70  80  90  100  
Processing 3195 mz slices ... OK
Start grouping after retention time.
Created 148 pseudospectra.
Start grouping after correlation.
Generating EIC's .. 
Warning: Found NA peaks in selected sample.

Calculating peak correlations in 148 Groups... 
 % finished: 10  20  30  40  50  60  70  80  90  100  

Calculating graph cross linking in 148 Groups... 
 % finished: 10  20  30  40  50  60  70  80  90  100  
New number of ps-groups:  333 
xsAnnotate has now 333 groups, instead of 148 
Generating peak matrix!
Run isotope peak annotation
 % finished: 10  20  30  40  50  60  70  80  90  100  
Found isotopes: 22 
Generating peak matrix for peak annotation!
Found and use user-defined ruleset!
Calculating possible adducts in 333 Groups... 
 % finished: 10  20  30  40  50  60  70  80  90  100  
Start grouping after retention time.
Created 133 pseudospectra.
Start grouping after correlation.
Generating EIC's .. 
Warning: Found NA peaks in selected sample.

Calculating peak correlations in 133 Groups... 
 % finished: 10  20  30  40  50  60  70  80  90  100  
Generating EIC's .. 
Warning: Found NA peaks in selected sample.

Calculating peak correlations in 133 Groups... 
 % finished: 10  20  30  40  50  60  70  80  90  100  
Generating EIC's .. 
Warning: Found NA peaks in selected sample.

Calculating peak correlations in 133 Groups... 
 % finished: 10  20  30  40  50  60  70  80  90  100  
Generating EIC's .. 
Warning: Found NA peaks in selected sample.

Calculating peak correlations in 133 Groups... 
 % finished: 10  20  30  40  50  60  70  80  90  100  
Generating EIC's .. 
Warning: Found NA peaks in selected sample.

Calculating peak correlations in 133 Groups... 
 % finished: 10  20  30  40  50  60  70  80  90  100  
Generating EIC's .. 
Warning: Found NA peaks in selected sample.

Calculating peak correlations in 133 Groups... 
 % finished: 10  20  30  40  50  60  70  80  90  100  
Generating EIC's .. 
Warning: Found NA peaks in selected sample.

Calculating peak correlations in 133 Groups... 
 % finished: 10  20  30  40  50  60  70  80  90  100  
Generating EIC's .. 
Warning: Found NA peaks in selected sample.

Calculating peak correlations in 133 Groups... 
 % finished: 10  20  30  40  50  60  70  80  90  100  

Calculating graph cross linking in 133 Groups... 
 % finished: 10  20  30  40  50  60  70  80  90  100  
New number of ps-groups:  254 
xsAnnotate has now 254 groups, instead of 133 
Generating peak matrix!
Run isotope peak annotation
 % finished: 10  20  30  40  50  60  70  80  90  100  
Found isotopes: 32 
Generating peak matrix for peak annotation!
Found and use user-defined ruleset!
Calculating possible adducts in 254 Groups... 
 % finished: 10  20  30  40  50  60  70  80  90  100  
Start grouping after retention time.
Created 133 pseudospectra.
Start grouping after correlation.
Generating EIC's .. 
Warning: Found NA peaks in selected sample.

Calculating peak correlations in 133 Groups... 
 % finished: 10  20  30  40  50  60  70  80  90  100  

Calculating graph cross linking in 133 Groups... 
 % finished: 10  20  30  40  50  60  70  80  90  100  
New number of ps-groups:  329 
xsAnnotate has now 329 groups, instead of 133 
Generating peak matrix!
Run isotope peak annotation
 % finished: 10  20  30  40  50  60  70  80  90  100  
Found isotopes: 20 
Generating peak matrix for peak annotation!
Found and use user-defined ruleset!
Calculating possible adducts in 329 Groups... 
 % finished: 10  20  30  40  50  60  70  80  90  100  
Detecting mass traces at 30 ppm ... OK
Detecting chromatographic peaks in 456 regions of interest ... OK: 126 found.
Start grouping after retention time.
Created 14 pseudospectra.
Generating peak matrix!
Run isotope peak annotation
 % finished: 20  50  60  70  80  90  100  
Found isotopes: 32 
Found and use user-defined ruleset!
Calculating possible adducts in 14 Groups... 
 % finished: 20  50  60  70  80  90  100  
Detecting mass traces at 30 ppm ... OK
Detecting chromatographic peaks in 456 regions of interest ... OK: 126 found.
Start grouping after retention time.
Created 14 pseudospectra.
Start grouping after correlation.

Calculating peak correlations in 14 Groups... 
 % finished: 20  50  60  70  80  90  100  

Calculating graph cross linking in 14 Groups... 
 % finished: 20  50  60  70  80  90  100  
New number of ps-groups:  35 
xsAnnotate has now 35 groups, instead of 14 
Detecting mass traces at 30 ppm ... OK
Detecting chromatographic peaks in 456 regions of interest ... OK: 126 found.
Created 11 pseudospectra.
Processing 3195 mz slices ... OK
Start grouping after retention time.
Created 148 pseudospectra.
Start grouping after correlation.
Generating EIC's .. 
Warning: Found NA peaks in selected sample.

Calculating peak correlations in 148 Groups... 
 % finished: 10  20  30  40  50  60  70  80  90  100  

Calculating graph cross linking in 148 Groups... 
 % finished: 10  20  30  40  50  60  70  80  90  100  
New number of ps-groups:  333 
xsAnnotate has now 333 groups, instead of 148 
Start grouping after retention time.
Created 133 pseudospectra.
Start grouping after correlation.
Generating EIC's .. 
Warning: Found NA peaks in selected sample.

Calculating peak correlations in 133 Groups... 
 % finished: 10  20  30  40  50  60  70  80  90  100  

Calculating graph cross linking in 133 Groups... 
 % finished: 10  20  30  40  50  60  70  80  90  100  
New number of ps-groups:  329 
xsAnnotate has now 329 groups, instead of 133 
Start grouping after correlation.
Data was not preprocessed with groupFWHM, creating one pseudospectrum with all peaks.
Generating EIC's .. 
Warning: Found NA peaks in selected sample.

Calculating peak correlations in 1 Groups... 
 % finished: 100  

Calculating graph cross linking in 1 Groups... 
 % finished: 100  
New number of ps-groups:  316 
xsAnnotate has now 316 groups, instead of 1 
Start grouping after correlation.
Data was not preprocessed with groupFWHM, creating one pseudospectrum with all peaks.
Generating EIC's .. 
Warning: Found NA peaks in selected sample.

Calculating peak correlations in 1 Groups... 
 % finished: 100  

Calculating graph cross linking in 1 Groups... 
 % finished: 100  
New number of ps-groups:  316 
xsAnnotate has now 316 groups, instead of 1 
Generating peak matrix!
Run isotope peak annotation
 % finished: 10  20  30  40  50  60  70  80  90  100  
Found isotopes: 22 
Generating peak matrix for peak annotation!
Found and use user-defined ruleset!
Calculating possible adducts in 316 Groups... 
 % finished: 10  20  30  40  50  60  70  80  90  100  
Detecting mass traces at 30 ppm ... OK
Detecting chromatographic peaks in 456 regions of interest ... OK: 126 found.
Start grouping after retention time.
Created 14 pseudospectra.
Start grouping after correlation.
Data was not preprocessed with groupFWHM, creating one pseudospectrum with all peaks.

Calculating peak correlations in 1 Groups... 
 % finished: 100  

Calculating graph cross linking in 1 Groups... 
 % finished: 100  
New number of ps-groups:  48 
xsAnnotate has now 48 groups, instead of 1 
Start grouping after correlation.

Calculating peak correlations in 14 Groups... 
 % finished: 20  50  60  70  80  90  100  

Calculating graph cross linking in 14 Groups... 
 % finished: 20  50  60  70  80  90  100  
New number of ps-groups:  48 
xsAnnotate has now 48 groups, instead of 14 
Start grouping after correlation.

Calculating peak correlations in 8 Groups... 
 % finished: 30  60  70  80  90  100  

Calculating graph cross linking in 8 Groups... 
 % finished: 30  60  70  80  90  100  
New number of ps-groups:  29 
xsAnnotate has now 29 groups, instead of 14 
Generating peak matrix!
Run isotope peak annotation
 % finished: 20  50  60  70  80  90  100  
Found isotopes: 32 
Start grouping after correlation.

Calculating peak correlations in 14 Groups... 
 % finished: 20  50  60  70  80  90  100  

Calculating graph cross linking in 14 Groups... 
 % finished: 20  50  60  70  80  90  100  
New number of ps-groups:  48 
xsAnnotate has now 48 groups, instead of 14 
xsAnnotate contains no pseudospectra. Regroup all peaks into one!
Generating peak matrix!
Run isotope peak annotation
 % finished: 100  
Found isotopes: 32 
Found and use user-defined ruleset!
Calculating possible adducts in 1 Groups... 
 % finished: 100  
Generating peak matrix!
Run isotope peak annotation
 % finished: 20  40  50  60  70  80  90  100  
Found isotopes: 23 

Calculating possible adducts in 48 Groups... 
 % finished: 20  40  50  60  70  80  90  100  

Calculating possible adducts in 8 Groups... 
 % finished: 10  
Processing 3195 mz slices ... OK
Detecting mass traces at 30 ppm ... OK
Detecting chromatographic peaks in 456 regions of interest ... OK: 126 found.
Start grouping after retention time.
Created 14 pseudospectra.
Detecting mass traces at 30 ppm ... OK
Detecting chromatographic peaks in 456 regions of interest ... OK: 126 found.
Start grouping after retention time.
Created 14 pseudospectra.
Generating peak matrix!
Run isotope peak annotation
 % finished: 20  50  60  70  80  90  100  
Found isotopes: 32 

Calculating possible adducts in 14 Groups... 
 % finished: 20  50  60  70  80  90  100  


RUNIT TEST PROTOCOL -- Wed Jun 16 23:34:30 2021 
*********************************************** 
Number of test functions: 20 
Number of errors: 0 
Number of failures: 0 

 
1 Test Suite : 
CAMERA RUnit Tests - 20 test functions, 0 errors, 0 failures
Number of test functions: 20 
Number of errors: 0 
Number of failures: 0 
> 
> proc.time()
   user  system elapsed 
 189.73    4.65  206.78 

Example timings

CAMERA.Rcheck/examples_i386/CAMERA-Ex.timings

nameusersystemelapsed
annotate-methods2.980.123.11
annotateDiffreport 1.99 0.0214.30
calcCaS-methods1.060.001.06
cleanParallel000
combinexsAnnos000
compoundLibraries000
compoundQuantiles0.050.000.05
findAdducts-methods2.170.062.23
findIsotopes-methods1.140.071.20
findIsotopesWithValidation-methods1.440.041.49
findKendrickMasses1.010.001.01
findNeutralLoss1.160.051.21
findNeutralLossSpecs1.140.031.17
getAllPeakEICs-methods2.250.002.25
getAtomCount-compoundQuantiles-method0.050.000.04
getIsotopeCluster 2.95 0.0815.93
getIsotopeProportion-compoundQuantiles-method0.030.020.04
getPeaklist-methods2.630.112.74
getReducedPeaklist-methods2.290.042.34
getpspectra1.610.051.66
groupCorr-methods13.58 0.3113.89
groupDen-methods3.020.063.08
groupFWHM-methods3.170.053.22
massWindowSizes000
pspec2metfrag2.470.052.51
ruleSet-class0.030.000.03
xsAnnotate1.010.001.02

CAMERA.Rcheck/examples_x64/CAMERA-Ex.timings

nameusersystemelapsed
annotate-methods3.360.253.61
annotateDiffreport 1.64 0.0315.48
calcCaS-methods1.080.001.08
cleanParallel000
combinexsAnnos000
compoundLibraries000
compoundQuantiles0.050.000.05
findAdducts-methods2.510.092.61
findIsotopes-methods1.470.081.54
findIsotopesWithValidation-methods1.750.051.80
findKendrickMasses1.160.001.16
findNeutralLoss1.400.061.47
findNeutralLossSpecs1.330.061.39
getAllPeakEICs-methods2.440.022.45
getAtomCount-compoundQuantiles-method0.020.030.05
getIsotopeCluster 3.15 0.0618.64
getIsotopeProportion-compoundQuantiles-method0.050.000.04
getPeaklist-methods2.300.092.39
getReducedPeaklist-methods2.390.052.44
getpspectra1.310.061.38
groupCorr-methods12.28 0.3912.67
groupDen-methods2.250.072.31
groupFWHM-methods2.370.032.41
massWindowSizes000
pspec2metfrag2.400.052.44
ruleSet-class0.030.000.03
xsAnnotate1.030.001.03