Back to Multiple platform build/check report for BioC 3.14
AB[C]DEFGHIJKLMNOPQRSTUVWXYZ

This page was generated on 2021-06-22 12:05:49 -0400 (Tue, 22 Jun 2021).

BUILD results for CAMERA on riesling1

To the developers/maintainers of the CAMERA package:
- Please allow up to 24 hours (and sometimes 48 hours) for your latest push to git@git.bioconductor.org:packages/CAMERA.git to
reflect on this report. See How and When does the builder pull? When will my changes propagate? here for more information.
- Make sure to use the following settings in order to reproduce any error or warning you see on this page.

raw results

Package 227/1993HostnameOS / ArchINSTALLBUILDCHECKBUILD BIN
CAMERA 1.49.0  (landing page)
Steffen Neumann
Snapshot Date: 2021-06-21 14:50:06 -0400 (Mon, 21 Jun 2021)
URL: https://git.bioconductor.org/packages/CAMERA
Branch: master
Last Commit: b8a89bf
Last Changed Date: 2021-05-19 11:42:44 -0400 (Wed, 19 May 2021)
nebbiolo2Linux (Ubuntu 20.04.2 LTS) / x86_64  OK    OK    OK  UNNEEDED, same version is already published
riesling1Windows Server 2019 Standard / x64  OK    OK    OK    OK  NO, package depends on 'xcms' which is not available
merida1macOS 10.14.6 Mojave / x86_64  OK    OK    OK    OK  UNNEEDED, same version is already published

Summary

Package: CAMERA
Version: 1.49.0
Command: chmod a+r CAMERA -R && D:\biocbuild\bbs-3.14-bioc\R\bin\R.exe CMD build --keep-empty-dirs --no-resave-data CAMERA
StartedAt: 2021-06-21 19:01:38 -0400 (Mon, 21 Jun 2021)
EndedAt: 2021-06-21 19:05:32 -0400 (Mon, 21 Jun 2021)
EllapsedTime: 233.3 seconds
RetCode: 0
Status:   OK  
PackageFile: CAMERA_1.49.0.tar.gz
PackageFileSize: 2.076 MiB

Command output

##############################################################################
##############################################################################
###
### Running command:
###
###   chmod a+r CAMERA -R && D:\biocbuild\bbs-3.14-bioc\R\bin\R.exe CMD build --keep-empty-dirs --no-resave-data CAMERA
###
##############################################################################
##############################################################################


* checking for file 'CAMERA/DESCRIPTION' ... OK
* preparing 'CAMERA':
* checking DESCRIPTION meta-information ... OK
* cleaning src
* installing the package to build vignettes
* creating vignettes ... OK
* cleaning src
* checking for LF line-endings in source and make files and shell scripts
* checking for empty or unneeded directories
* looking to see if a 'data/datalist' file should be added
* building 'CAMERA_1.49.0.tar.gz'