Back to Multiple platform build/check report for BioC 3.14
AB[C]DEFGHIJKLMNOPQRSTUVWXYZ

This page was generated on 2021-08-05 12:05:49 -0400 (Thu, 05 Aug 2021).

BUILD results for CAMERA on nebbiolo2

To the developers/maintainers of the CAMERA package:
- Please allow up to 24 hours (and sometimes 48 hours) for your latest push to git@git.bioconductor.org:packages/CAMERA.git to
reflect on this report. See How and When does the builder pull? When will my changes propagate? here for more information.
- Make sure to use the following settings in order to reproduce any error or warning you see on this page.

raw results

Package 230/2015HostnameOS / ArchINSTALLBUILDCHECKBUILD BIN
CAMERA 1.49.0  (landing page)
Steffen Neumann
Snapshot Date: 2021-08-04 14:50:10 -0400 (Wed, 04 Aug 2021)
URL: https://git.bioconductor.org/packages/CAMERA
Branch: master
Last Commit: b8a89bf
Last Changed Date: 2021-05-19 11:42:44 -0400 (Wed, 19 May 2021)
nebbiolo2Linux (Ubuntu 20.04.2 LTS) / x86_64  OK    OK    OK  UNNEEDED, same version is already published
riesling1Windows Server 2019 Standard / x64  OK    OK    OK    OK  YES
merida1macOS 10.14.6 Mojave / x86_64  OK    OK    OK    OK  UNNEEDED, same version is already published

Summary

Package: CAMERA
Version: 1.49.0
Command: /home/biocbuild/bbs-3.14-bioc/R/bin/R CMD build --keep-empty-dirs --no-resave-data CAMERA
StartedAt: 2021-08-04 16:51:39 -0400 (Wed, 04 Aug 2021)
EndedAt: 2021-08-04 16:52:42 -0400 (Wed, 04 Aug 2021)
EllapsedTime: 62.5 seconds
RetCode: 0
Status:   OK  
PackageFile: CAMERA_1.49.0.tar.gz
PackageFileSize: 2.073 MiB

Command output

##############################################################################
##############################################################################
###
### Running command:
###
###   /home/biocbuild/bbs-3.14-bioc/R/bin/R CMD build --keep-empty-dirs --no-resave-data CAMERA
###
##############################################################################
##############################################################################


* checking for file ‘CAMERA/DESCRIPTION’ ... OK
* preparing ‘CAMERA’:
* checking DESCRIPTION meta-information ... OK
* cleaning src
* installing the package to build vignettes
* creating vignettes ... OK
* cleaning src
* checking for LF line-endings in source and make files and shell scripts
* checking for empty or unneeded directories
* looking to see if a ‘data/datalist’ file should be added
* building ‘CAMERA_1.49.0.tar.gz’