Back to Multiple platform build/check report for BioC 3.14
AB[C]DEFGHIJKLMNOPQRSTUVWXYZ

This page was generated on 2021-08-05 12:06:51 -0400 (Thu, 05 Aug 2021).

INSTALL results for CAMERA on merida1

To the developers/maintainers of the CAMERA package:
- Please allow up to 24 hours (and sometimes 48 hours) for your latest push to git@git.bioconductor.org:packages/CAMERA.git to
reflect on this report. See How and When does the builder pull? When will my changes propagate? here for more information.
- Make sure to use the following settings in order to reproduce any error or warning you see on this page.

raw results

Package 230/2015HostnameOS / ArchINSTALLBUILDCHECKBUILD BIN
CAMERA 1.49.0  (landing page)
Steffen Neumann
Snapshot Date: 2021-08-04 14:50:10 -0400 (Wed, 04 Aug 2021)
URL: https://git.bioconductor.org/packages/CAMERA
Branch: master
Last Commit: b8a89bf
Last Changed Date: 2021-05-19 11:42:44 -0400 (Wed, 19 May 2021)
nebbiolo2Linux (Ubuntu 20.04.2 LTS) / x86_64  OK    OK    OK  UNNEEDED, same version is already published
riesling1Windows Server 2019 Standard / x64  OK    OK    OK    OK  YES
merida1macOS 10.14.6 Mojave / x86_64  OK    OK    OK    OK  UNNEEDED, same version is already published

Summary

Package: CAMERA
Version: 1.49.0
Command: /Library/Frameworks/R.framework/Resources/bin/R CMD INSTALL CAMERA
StartedAt: 2021-08-04 17:02:01 -0400 (Wed, 04 Aug 2021)
EndedAt: 2021-08-04 17:03:19 -0400 (Wed, 04 Aug 2021)
EllapsedTime: 77.4 seconds
RetCode: 0
Status:   OK  

Command output

##############################################################################
##############################################################################
###
### Running command:
###
###   /Library/Frameworks/R.framework/Resources/bin/R CMD INSTALL CAMERA
###
##############################################################################
##############################################################################


* installing to library ‘/Library/Frameworks/R.framework/Versions/4.1/Resources/library’
* installing *source* package ‘CAMERA’ ...
** using staged installation
** libs
clang -mmacosx-version-min=10.13 -I"/Library/Frameworks/R.framework/Resources/include" -DNDEBUG   -I/usr/local/include   -fPIC  -Wall -g -O2  -c fastMatch.c -o fastMatch.o
clang -mmacosx-version-min=10.13 -dynamiclib -Wl,-headerpad_max_install_names -undefined dynamic_lookup -single_module -multiply_defined suppress -L/Library/Frameworks/R.framework/Resources/lib -L/usr/local/lib -o CAMERA.so fastMatch.o -F/Library/Frameworks/R.framework/.. -framework R -Wl,-framework -Wl,CoreFoundation
installing to /Library/Frameworks/R.framework/Versions/4.1/Resources/library/00LOCK-CAMERA/00new/CAMERA/libs
** R
** data
** inst
** byte-compile and prepare package for lazy loading
** help
*** installing help indices
** building package indices
** installing vignettes
** testing if installed package can be loaded from temporary location
** checking absolute paths in shared objects and dynamic libraries
** testing if installed package can be loaded from final location
** testing if installed package keeps a record of temporary installation path
* DONE (CAMERA)