Back to Multiple platform build/check report for BioC 3.14
AB[C]DEFGHIJKLMNOPQRSTUVWXYZ

All results for package CAGEfightR

This page was generated on 2021-06-14 12:03:30 -0400 (Mon, 14 Jun 2021).

Package 224/1993HostnameOS / ArchINSTALLBUILDCHECKBUILD BIN
CAGEfightR 1.13.0  (landing page)
Malte Thodberg
Snapshot Date: 2021-06-13 14:50:05 -0400 (Sun, 13 Jun 2021)
URL: https://git.bioconductor.org/packages/CAGEfightR
Branch: master
Last Commit: 2685226
Last Changed Date: 2021-05-19 12:35:42 -0400 (Wed, 19 May 2021)
nebbiolo2Linux (Ubuntu 20.04.2 LTS) / x86_64  OK    OK    OK  UNNEEDED, same version is already published
riesling1Windows Server 2019 Standard / x64  OK    OK    OK    OK  UNNEEDED, same version is already published
merida1macOS 10.14.6 Mojave / x86_64  OK    OK    OK    OK  UNNEEDED, same version is already published