Back to Multiple platform build/check report for BioC 3.14
A[B]CDEFGHIJKLMNOPQRSTUVWXYZ

This page was generated on 2021-08-04 12:04:27 -0400 (Wed, 04 Aug 2021).

BUILD results for BiocPkgTools on nebbiolo2

To the developers/maintainers of the BiocPkgTools package:
- Please allow up to 24 hours (and sometimes 48 hours) for your latest push to git@git.bioconductor.org:packages/BiocPkgTools.git to
reflect on this report. See How and When does the builder pull? When will my changes propagate? here for more information.
- Make sure to use the following settings in order to reproduce any error or warning you see on this page.

raw results

Package 164/2015HostnameOS / ArchINSTALLBUILDCHECKBUILD BIN
BiocPkgTools 1.11.6  (landing page)
Sean Davis
Snapshot Date: 2021-08-03 14:50:07 -0400 (Tue, 03 Aug 2021)
URL: https://git.bioconductor.org/packages/BiocPkgTools
Branch: master
Last Commit: 428d110
Last Changed Date: 2021-07-29 17:51:54 -0400 (Thu, 29 Jul 2021)
nebbiolo2Linux (Ubuntu 20.04.2 LTS) / x86_64  OK    OK    OK  UNNEEDED, same version is already published
riesling1Windows Server 2019 Standard / x64  OK    OK    OK    OK  UNNEEDED, same version is already published
merida1macOS 10.14.6 Mojave / x86_64  OK    OK    OK    OK  UNNEEDED, same version is already published

Summary

Package: BiocPkgTools
Version: 1.11.6
Command: /home/biocbuild/bbs-3.14-bioc/R/bin/R CMD build --keep-empty-dirs --no-resave-data BiocPkgTools
StartedAt: 2021-08-03 16:44:37 -0400 (Tue, 03 Aug 2021)
EndedAt: 2021-08-03 16:45:26 -0400 (Tue, 03 Aug 2021)
EllapsedTime: 49.2 seconds
RetCode: 0
Status:   OK  
PackageFile: BiocPkgTools_1.11.6.tar.gz
PackageFileSize: 1.375 MiB

Command output

##############################################################################
##############################################################################
###
### Running command:
###
###   /home/biocbuild/bbs-3.14-bioc/R/bin/R CMD build --keep-empty-dirs --no-resave-data BiocPkgTools
###
##############################################################################
##############################################################################


* checking for file ‘BiocPkgTools/DESCRIPTION’ ... OK
* preparing ‘BiocPkgTools’:
* checking DESCRIPTION meta-information ... OK
* installing the package to build vignettes
* creating vignettes ... OK
* checking for LF line-endings in source and make files and shell scripts
* checking for empty or unneeded directories
Omitted ‘LazyData’ from DESCRIPTION
* building ‘BiocPkgTools_1.11.6.tar.gz’