Back to Multiple platform build/check report for BioC 3.14
A[B]CDEFGHIJKLMNOPQRSTUVWXYZ

This page was generated on 2021-06-19 12:04:44 -0400 (Sat, 19 Jun 2021).

All results for package BiocPkgTools

To the developers/maintainers of the BiocPkgTools package:
- Please allow up to 24 hours (and sometimes 48 hours) for your latest push to git@git.bioconductor.org:packages/BiocPkgTools.git to
reflect on this report. See How and When does the builder pull? When will my changes propagate? here for more information.
- Make sure to use the following settings in order to reproduce any error or warning you see on this page.

raw results

Package 163/1993HostnameOS / ArchINSTALLBUILDCHECKBUILD BIN
BiocPkgTools 1.11.3  (landing page)
Sean Davis
Snapshot Date: 2021-06-18 14:50:08 -0400 (Fri, 18 Jun 2021)
URL: https://git.bioconductor.org/packages/BiocPkgTools
Branch: master
Last Commit: 57c1069
Last Changed Date: 2021-06-11 10:54:04 -0400 (Fri, 11 Jun 2021)
nebbiolo2Linux (Ubuntu 20.04.2 LTS) / x86_64  OK    OK    OK  UNNEEDED, same version is already published
riesling1Windows Server 2019 Standard / x64  OK    OK    OK    OK  UNNEEDED, same version is already published
merida1macOS 10.14.6 Mojave / x86_64  OK    OK    OK    OK  UNNEEDED, same version is already published