Back to Multiple platform build/check report for BioC 3.15
A[B]CDEFGHIJKLMNOPQRSTUVWXYZ

This page was generated on 2021-11-27 14:04:53 -0500 (Sat, 27 Nov 2021).

BUILD results for BiocOncoTK on riesling1

To the developers/maintainers of the BiocOncoTK package:
- Please allow up to 24 hours (and sometimes 48 hours) for your latest push to git@git.bioconductor.org:packages/BiocOncoTK.git to
reflect on this report. See How and When does the builder pull? When will my changes propagate? here for more information.
- Make sure to use the following settings in order to reproduce any error or warning you see on this page.

raw results

Package 160/2068HostnameOS / ArchINSTALLBUILDCHECKBUILD BIN
BiocOncoTK 1.15.0  (landing page)
VJ Carey
Snapshot Date: 2021-11-26 14:50:14 -0500 (Fri, 26 Nov 2021)
git_url: https://git.bioconductor.org/packages/BiocOncoTK
git_branch: master
git_last_commit: 8d8ce4a
git_last_commit_date: 2021-10-26 12:44:33 -0500 (Tue, 26 Oct 2021)
nebbiolo1Linux (Ubuntu 20.04.3 LTS) / x86_64  OK    OK    OK  UNNEEDED, same version is already published
riesling1Windows Server 2019 Standard / x64  OK    OK    OK    OK  
merida1macOS 10.14.6 Mojave / x86_64  OK    OK    OK    OK  UNNEEDED, same version is already published

Summary

Package: BiocOncoTK
Version: 1.15.0
Command: chmod a+r BiocOncoTK -R && D:\biocbuild\bbs-3.15-bioc\R\bin\R.exe CMD build --keep-empty-dirs --no-resave-data BiocOncoTK
StartedAt: 2021-11-26 19:55:15 -0500 (Fri, 26 Nov 2021)
EndedAt: 2021-11-26 19:59:47 -0500 (Fri, 26 Nov 2021)
EllapsedTime: 272.1 seconds
RetCode: 0
Status:   OK  
PackageFile: BiocOncoTK_1.15.0.tar.gz
PackageFileSize: 8.643 MiB

Command output

##############################################################################
##############################################################################
###
### Running command:
###
###   chmod a+r BiocOncoTK -R && D:\biocbuild\bbs-3.15-bioc\R\bin\R.exe CMD build --keep-empty-dirs --no-resave-data BiocOncoTK
###
##############################################################################
##############################################################################


* checking for file 'BiocOncoTK/DESCRIPTION' ... OK
* preparing 'BiocOncoTK':
* checking DESCRIPTION meta-information ... OK
* installing the package to build vignettes
* creating vignettes ... OK
* checking for LF line-endings in source and make files and shell scripts
* checking for empty or unneeded directories
* building 'BiocOncoTK_1.15.0.tar.gz'