Back to Multiple platform build/check report for BioC 3.14
A[B]CDEFGHIJKLMNOPQRSTUVWXYZ

This page was generated on 2021-07-31 12:06:31 -0400 (Sat, 31 Jul 2021).

INSTALL results for BiocOncoTK on merida1

To the developers/maintainers of the BiocOncoTK package:
- Please allow up to 24 hours (and sometimes 48 hours) for your latest push to git@git.bioconductor.org:packages/BiocOncoTK.git to
reflect on this report. See How and When does the builder pull? When will my changes propagate? here for more information.
- Make sure to use the following settings in order to reproduce any error or warning you see on this page.

raw results

Package 161/2015HostnameOS / ArchINSTALLBUILDCHECKBUILD BIN
BiocOncoTK 1.13.2  (landing page)
VJ Carey
Snapshot Date: 2021-07-30 14:50:06 -0400 (Fri, 30 Jul 2021)
URL: https://git.bioconductor.org/packages/BiocOncoTK
Branch: master
Last Commit: 204d642
Last Changed Date: 2021-06-25 16:24:03 -0400 (Fri, 25 Jun 2021)
nebbiolo2Linux (Ubuntu 20.04.2 LTS) / x86_64  OK    OK    OK  UNNEEDED, same version is already published
riesling1Windows Server 2019 Standard / x64  OK    OK    OK    OK  NO, package depends on 'Rgraphviz' which is not available
merida1macOS 10.14.6 Mojave / x86_64  OK    OK    OK    OK  UNNEEDED, same version is already published

Summary

Package: BiocOncoTK
Version: 1.13.2
Command: /Library/Frameworks/R.framework/Resources/bin/R CMD INSTALL BiocOncoTK
StartedAt: 2021-07-30 17:56:55 -0400 (Fri, 30 Jul 2021)
EndedAt: 2021-07-30 17:58:11 -0400 (Fri, 30 Jul 2021)
EllapsedTime: 75.6 seconds
RetCode: 0
Status:   OK  

Command output

##############################################################################
##############################################################################
###
### Running command:
###
###   /Library/Frameworks/R.framework/Resources/bin/R CMD INSTALL BiocOncoTK
###
##############################################################################
##############################################################################


* installing to library ‘/Library/Frameworks/R.framework/Versions/4.1/Resources/library’
* installing *source* package ‘BiocOncoTK’ ...
** using staged installation
** R
** data
*** moving datasets to lazyload DB
** inst
** byte-compile and prepare package for lazy loading
** help
*** installing help indices
** building package indices
** installing vignettes
** testing if installed package can be loaded from temporary location
** testing if installed package can be loaded from final location
** testing if installed package keeps a record of temporary installation path
* DONE (BiocOncoTK)