Back to Multiple platform build/check report for BioC 3.14
A[B]CDEFGHIJKLMNOPQRSTUVWXYZ

This page was generated on 2021-07-31 12:06:31 -0400 (Sat, 31 Jul 2021).

BUILD BIN results for BiocCheck on merida1

To the developers/maintainers of the BiocCheck package:
- Please allow up to 24 hours (and sometimes 48 hours) for your latest push to git@git.bioconductor.org:packages/BiocCheck.git to
reflect on this report. See How and When does the builder pull? When will my changes propagate? here for more information.
- Make sure to use the following settings in order to reproduce any error or warning you see on this page.

raw results

Package 154/2015HostnameOS / ArchINSTALLBUILDCHECKBUILD BIN
BiocCheck 1.29.10  (landing page)
Bioconductor Package Maintainer
Snapshot Date: 2021-07-30 14:50:06 -0400 (Fri, 30 Jul 2021)
URL: https://git.bioconductor.org/packages/BiocCheck
Branch: master
Last Commit: 3f958af
Last Changed Date: 2021-07-19 16:06:45 -0400 (Mon, 19 Jul 2021)
nebbiolo2Linux (Ubuntu 20.04.2 LTS) / x86_64  OK    OK    OK  UNNEEDED, same version is already published
riesling1Windows Server 2019 Standard / x64  OK    OK    OK    OK  UNNEEDED, same version is already published
merida1macOS 10.14.6 Mojave / x86_64  OK    OK    OK    OK  UNNEEDED, same version is already published

Summary

Package: BiocCheck
Version: 1.29.10
Command: rm -rf BiocCheck.buildbin-libdir && mkdir BiocCheck.buildbin-libdir && /Users/biocbuild/BBS/utils/build-universal.sh BiocCheck_1.29.10.tar.gz /Library/Frameworks/R.framework/Resources/bin/R BiocCheck.buildbin-libdir
StartedAt: 2021-07-31 08:36:07 -0400 (Sat, 31 Jul 2021)
EndedAt: 2021-07-31 08:37:03 -0400 (Sat, 31 Jul 2021)
EllapsedTime: 55.7 seconds
RetCode: 0
Status:   OK  
PackageFile: BiocCheck_1.29.10.tgz
PackageFileSize: 4.381 MiB

Command output

##############################################################################
##############################################################################
###
### Running command:
###
###   rm -rf BiocCheck.buildbin-libdir && mkdir BiocCheck.buildbin-libdir && /Users/biocbuild/BBS/utils/build-universal.sh BiocCheck_1.29.10.tar.gz /Library/Frameworks/R.framework/Resources/bin/R BiocCheck.buildbin-libdir
###
##############################################################################
##############################################################################


>>>>>>> 
>>>>>>> INSTALLATION WITH 'R CMD INSTALL --preclean --no-multiarch --library=BiocCheck.buildbin-libdir BiocCheck_1.29.10.tar.gz'
>>>>>>> 

* installing *source* package ‘BiocCheck’ ...
** using staged installation
** R
** inst
** byte-compile and prepare package for lazy loading
** help
*** installing help indices
** building package indices
** installing vignettes
** testing if installed package can be loaded from temporary location
** testing if installed package can be loaded from final location
** testing if installed package keeps a record of temporary installation path
* DONE (BiocCheck)