Back to Multiple platform build/check report for BioC 3.14
A[B]CDEFGHIJKLMNOPQRSTUVWXYZ

BUILD results for BioNet on riesling1

This page was generated on 2021-06-12 12:04:57 -0400 (Sat, 12 Jun 2021).

Package 180/1993HostnameOS / ArchINSTALLBUILDCHECKBUILD BIN
BioNet 1.53.0  (landing page)
Marcus Dittrich
Snapshot Date: 2021-06-11 14:50:09 -0400 (Fri, 11 Jun 2021)
URL: https://git.bioconductor.org/packages/BioNet
Branch: master
Last Commit: 03b89bc
Last Changed Date: 2021-05-19 11:46:01 -0400 (Wed, 19 May 2021)
nebbiolo2Linux (Ubuntu 20.04.2 LTS) / x86_64  OK    OK    OK  UNNEEDED, same version is already published
riesling1Windows Server 2019 Standard / x64  OK    OK    OK    OK  UNNEEDED, same version is already published
merida1macOS 10.14.6 Mojave / x86_64  OK    OK    OK    OK  UNNEEDED, same version is already published
To the developers/maintainers of the BioNet package:
- Please allow up to 24 hours (and sometimes 48 hours) for your latest push to git@git.bioconductor.org:packages/BioNet.git to
reflect on this report. See How and When does the builder pull? When will my changes propagate? here for more information.
- Make sure to use the following settings in order to reproduce any error or warning you see on this page.

Summary

Package: BioNet
Version: 1.53.0
Command: chmod a+r BioNet -R && D:\biocbuild\bbs-3.14-bioc\R\bin\R.exe CMD build --keep-empty-dirs --no-resave-data BioNet
StartedAt: 2021-06-11 19:02:14 -0400 (Fri, 11 Jun 2021)
EndedAt: 2021-06-11 19:06:09 -0400 (Fri, 11 Jun 2021)
EllapsedTime: 235.6 seconds
RetCode: 0
Status:   OK   
PackageFile: BioNet_1.53.0.tar.gz
PackageFileSize: 1.682 MiB

Command output

##############################################################################
##############################################################################
###
### Running command:
###
###   chmod a+r BioNet -R && D:\biocbuild\bbs-3.14-bioc\R\bin\R.exe CMD build --keep-empty-dirs --no-resave-data BioNet
###
##############################################################################
##############################################################################


* checking for file 'BioNet/DESCRIPTION' ... OK
* preparing 'BioNet':
* checking DESCRIPTION meta-information ... OK
* installing the package to build vignettes
* creating vignettes ... OK
* checking for LF line-endings in source and make files and shell scripts
* checking for empty or unneeded directories
* looking to see if a 'data/datalist' file should be added
* building 'BioNet_1.53.0.tar.gz'