Back to Multiple platform build/check report for BioC 3.14
A[B]CDEFGHIJKLMNOPQRSTUVWXYZ

This page was generated on 2021-06-18 12:04:46 -0400 (Fri, 18 Jun 2021).

BUILD BIN results for BioMVCClass on riesling1

To the developers/maintainers of the BioMVCClass package:
- Please allow up to 24 hours (and sometimes 48 hours) for your latest push to git@git.bioconductor.org:packages/BioMVCClass.git to
reflect on this report. See How and When does the builder pull? When will my changes propagate? here for more information.
- Make sure to use the following settings in order to reproduce any error or warning you see on this page.

raw results

Package 177/1993HostnameOS / ArchINSTALLBUILDCHECKBUILD BIN
BioMVCClass 1.61.0  (landing page)
Elizabeth Whalen
Snapshot Date: 2021-06-17 14:50:06 -0400 (Thu, 17 Jun 2021)
URL: https://git.bioconductor.org/packages/BioMVCClass
Branch: master
Last Commit: 0590fa5
Last Changed Date: 2021-05-19 11:37:57 -0400 (Wed, 19 May 2021)
nebbiolo2Linux (Ubuntu 20.04.2 LTS) / x86_64  OK    OK    OK  UNNEEDED, same version is already published
riesling1Windows Server 2019 Standard / x64  OK    OK    OK    OK  NO, package depends on 'Rgraphviz' which is not available
merida1macOS 10.14.6 Mojave / x86_64  OK    OK    OK    OK  UNNEEDED, same version is already published

Summary

Package: BioMVCClass
Version: 1.61.0
Command: rm -rf BioMVCClass.buildbin-libdir && mkdir BioMVCClass.buildbin-libdir && D:\biocbuild\bbs-3.14-bioc\R\bin\R.exe CMD INSTALL --merge-multiarch --build --library=BioMVCClass.buildbin-libdir BioMVCClass_1.61.0.tar.gz
StartedAt: 2021-06-18 03:20:07 -0400 (Fri, 18 Jun 2021)
EndedAt: 2021-06-18 03:24:03 -0400 (Fri, 18 Jun 2021)
EllapsedTime: 236.4 seconds
RetCode: 0
Status:   OK  
PackageFile: BioMVCClass_1.61.0.zip
PackageFileSize: 192 KiB

Command output

##############################################################################
##############################################################################
###
### Running command:
###
###   rm -rf BioMVCClass.buildbin-libdir && mkdir BioMVCClass.buildbin-libdir && D:\biocbuild\bbs-3.14-bioc\R\bin\R.exe CMD INSTALL --merge-multiarch --build --library=BioMVCClass.buildbin-libdir BioMVCClass_1.61.0.tar.gz
###
##############################################################################
##############################################################################



install for i386

* installing *source* package 'BioMVCClass' ...
** using staged installation
** R
** inst
** byte-compile and prepare package for lazy loading
** help
*** installing help indices
  converting help for package 'BioMVCClass'
    finding HTML links ... done
    GSE-class                               html  
REDIRECT:topic	 incidMat<-,GSE-method -> GSE-class.html [ FAIL ]
REDIRECT:topic	 incidMat<- -> GSE-class.html [ FAIL ]
REDIRECT:topic	 gTestStat<-,GSE-method -> GSE-class.html [ FAIL ]
REDIRECT:topic	 gTestStat<- -> GSE-class.html [ FAIL ]
REDIRECT:topic	 gsTestStat<-,GSE-method -> GSE-class.html [ FAIL ]
REDIRECT:topic	 gsTestStat<- -> GSE-class.html [ FAIL ]
REDIRECT:topic	 expData<-,GSE-method -> GSE-class.html [ FAIL ]
REDIRECT:topic	 expData<- -> GSE-class.html [ FAIL ]
REDIRECT:topic	 descr<-,GSE-method -> GSE-class.html [ FAIL ]
REDIRECT:topic	 descr<- -> GSE-class.html [ FAIL ]
    exprModel-class                         html  
    graphModel-class                        html  
    graphView-class                         html  
REDIRECT:topic	 grLayout<-,graphView-method -> graphView-class.html [ FAIL ]
REDIRECT:topic	 grLayout<- -> graphView-class.html [ FAIL ]
    gseModel-class                          html  
    heatmapView-class                       html  
REDIRECT:topic	 ordering<-,heatmapView-method -> heatmapView-class.html [ FAIL ]
REDIRECT:topic	 ordering<- -> heatmapView-class.html [ FAIL ]
REDIRECT:topic	 rNames<-,heatmapView-method -> heatmapView-class.html [ FAIL ]
REDIRECT:topic	 rNames<- -> heatmapView-class.html [ FAIL ]
** building package indices
** installing vignettes
** testing if installed package can be loaded from temporary location
** testing if installed package can be loaded from final location
** testing if installed package keeps a record of temporary installation path

install for x64

* installing *source* package 'BioMVCClass' ...
** testing if installed package can be loaded
* MD5 sums
packaged installation of 'BioMVCClass' as BioMVCClass_1.61.0.zip
* DONE (BioMVCClass)