Index of /checkResults/devel/bioc-LATEST/BiGGR/raw-results/riesling1

[ICO]NameLast modifiedSizeDescription

[DIR]Parent Directory  -  
[TXT]buildbin-out.txt29-Jan-2022 01:07 2.7K 
[   ]buildbin-summary.dcf29-Jan-2022 01:07 503  
[TXT]buildsrc-out.txt29-Jan-2022 01:07 1.0K 
[   ]buildsrc-summary.dcf29-Jan-2022 01:07 444  
[TXT]checksrc-out.txt29-Jan-2022 01:07 5.3K 
[   ]checksrc-summary.dcf29-Jan-2022 01:07 439  
[TXT]install-out.txt29-Jan-2022 01:07 3.2K 
[   ]install-summary.dcf29-Jan-2022 01:07 264