Index of /checkResults/devel/bioc-LATEST/BiGGR/raw-results/palomino4

[ICO]NameLast modifiedSizeDescription

[DIR]Parent Directory  -  
[   ]install-summary.dcf12-Jun-2024 04:40 264  
[   ]checksrc-summary.dcf12-Jun-2024 04:40 439  
[   ]buildsrc-summary.dcf12-Jun-2024 04:40 444  
[   ]buildbin-summary.dcf12-Jun-2024 04:40 503  
[TXT]install-out.txt12-Jun-2024 04:40 965  
[TXT]buildsrc-out.txt12-Jun-2024 04:40 1.0K 
[TXT]buildbin-out.txt12-Jun-2024 04:40 1.1K 
[TXT]checksrc-out.txt12-Jun-2024 04:40 5.4K