Index of /checkResults/devel/bioc-LATEST/BiGGR/raw-results/nebbiolo2

[ICO]NameLast modifiedSizeDescription

[DIR]Parent Directory  -  
[   ]install-summary.dcf13-Jul-2024 01:29 254  
[TXT]install-out.txt13-Jul-2024 01:29 954  
[   ]checksrc-summary.dcf13-Jul-2024 01:29 406  
[TXT]checksrc-out.txt13-Jul-2024 01:29 5.4K 
[   ]buildsrc-summary.dcf13-Jul-2024 01:29 417  
[TXT]buildsrc-out.txt13-Jul-2024 01:29 1.1K