Index of /checkResults/devel/bioc-LATEST/BiGGR/raw-results/nebbiolo2

[ICO]NameLast modifiedSizeDescription

[DIR]Parent Directory  -  
[TXT]buildsrc-out.txt30-Jun-2022 00:04 1.0K 
[   ]buildsrc-summary.dcf30-Jun-2022 00:04 411  
[TXT]checksrc-out.txt30-Jun-2022 00:04 5.3K 
[   ]checksrc-summary.dcf30-Jun-2022 00:04 416  
[TXT]install-out.txt30-Jun-2022 00:04 949  
[   ]install-summary.dcf30-Jun-2022 00:04 254