Index of /checkResults/devel/bioc-LATEST/BiGGR/raw-results/nebbiolo1

[ICO]NameLast modifiedSizeDescription

[DIR]Parent Directory  -  
[   ]install-summary.dcf29-Mar-2024 00:36 255  
[   ]checksrc-summary.dcf29-Mar-2024 00:36 406  
[   ]buildsrc-summary.dcf29-Mar-2024 00:36 411  
[TXT]install-out.txt29-Mar-2024 00:36 954  
[TXT]buildsrc-out.txt29-Mar-2024 00:36 1.0K 
[TXT]checksrc-out.txt29-Mar-2024 00:36 5.4K