Index of /checkResults/devel/bioc-LATEST/BiGGR/raw-results/nebbiolo1

[ICO]NameLast modifiedSizeDescription

[DIR]Parent Directory  -  
[TXT]buildsrc-out.txt29-Jan-2022 01:05 1.0K 
[   ]buildsrc-summary.dcf29-Jan-2022 01:05 411  
[TXT]checksrc-out.txt29-Jan-2022 01:05 5.3K 
[   ]checksrc-summary.dcf29-Jan-2022 01:05 416  
[TXT]install-out.txt29-Jan-2022 01:05 949  
[   ]install-summary.dcf29-Jan-2022 01:05 254