Index of /checkResults/devel/bioc-LATEST/BiGGR/raw-results/kunpeng2

[ICO]NameLast modifiedSizeDescription

[DIR]Parent Directory  -  
[   ]install-summary.dcf16-May-2024 02:46 269  
[TXT]install-out.txt16-May-2024 02:46 660  
[   ]buildsrc-summary.dcf16-May-2024 02:46 339  
[TXT]buildsrc-out.txt16-May-2024 02:46 888