Index of /checkResults/devel/bioc-LATEST/BiGGR/raw-results

[ICO]NameLast modifiedSizeDescription

[DIR]Parent Directory  -  
[   ]info.dcf29-Jan-2022 01:09 272  
[DIR]nebbiolo1/29-Jan-2022 01:05 -  
[DIR]palomino3/29-Jan-2022 01:09 -  
[DIR]riesling1/29-Jan-2022 01:07 -