Index of /checkResults/devel/bioc-LATEST/BiGGR/raw-results
Name
Last modified
Size
Description
Parent Directory
-
info.dcf
07-Aug-2022 00:05
272
nebbiolo2/
07-Aug-2022 00:04
-
palomino4/
07-Aug-2022 00:05
-