Back to Multiple platform build/check report for BioC 3.14
A[B]CDEFGHIJKLMNOPQRSTUVWXYZ

This page was generated on 2021-10-23 14:05:54 -0400 (Sat, 23 Oct 2021).

CHECK results for BiGGR on nebbiolo2

To the developers/maintainers of the BiGGR package:
- Please allow up to 24 hours (and sometimes 48 hours) for your latest push to git@git.bioconductor.org:packages/BiGGR.git to
reflect on this report. See How and When does the builder pull? When will my changes propagate? here for more information.
- Make sure to use the following settings in order to reproduce any error or warning you see on this page.

raw results

Package 147/2083HostnameOS / ArchINSTALLBUILDCHECKBUILD BIN
BiGGR 1.29.0  (landing page)
Anand K. Gavai
Snapshot Date: 2021-10-22 14:50:11 -0400 (Fri, 22 Oct 2021)
git_url: https://git.bioconductor.org/packages/BiGGR
git_branch: master
git_last_commit: 9b0501a
git_last_commit_date: 2021-05-19 12:00:29 -0400 (Wed, 19 May 2021)
nebbiolo2Linux (Ubuntu 20.04.2 LTS) / x86_64  OK    OK    OK  UNNEEDED, same version is already published
riesling1Windows Server 2019 Standard / x64  OK    OK    OK    OK  UNNEEDED, same version is already published
merida1macOS 10.14.6 Mojave / x86_64... NOT SUPPORTED ...

Summary

Package: BiGGR
Version: 1.29.0
Command: /home/biocbuild/bbs-3.14-bioc/R/bin/R CMD check --install=check:BiGGR.install-out.txt --library=/home/biocbuild/bbs-3.14-bioc/R/library --no-vignettes --timings BiGGR_1.29.0.tar.gz
StartedAt: 2021-10-22 19:13:17 -0400 (Fri, 22 Oct 2021)
EndedAt: 2021-10-22 19:17:04 -0400 (Fri, 22 Oct 2021)
EllapsedTime: 227.8 seconds
RetCode: 0
Status:   OK  
CheckDir: BiGGR.Rcheck
Warnings: 0

Command output

##############################################################################
##############################################################################
###
### Running command:
###
###   /home/biocbuild/bbs-3.14-bioc/R/bin/R CMD check --install=check:BiGGR.install-out.txt --library=/home/biocbuild/bbs-3.14-bioc/R/library --no-vignettes --timings BiGGR_1.29.0.tar.gz
###
##############################################################################
##############################################################################


* using log directory ‘/home/biocbuild/bbs-3.14-bioc/meat/BiGGR.Rcheck’
* using R version 4.1.1 (2021-08-10)
* using platform: x86_64-pc-linux-gnu (64-bit)
* using session charset: UTF-8
* using option ‘--no-vignettes’
* checking for file ‘BiGGR/DESCRIPTION’ ... OK
* checking extension type ... Package
* this is package ‘BiGGR’ version ‘1.29.0’
* checking package namespace information ... OK
* checking package dependencies ... OK
* checking if this is a source package ... OK
* checking if there is a namespace ... OK
* checking for hidden files and directories ... NOTE
Found the following hidden files and directories:
  .BBSoptions
These were most likely included in error. See section ‘Package
structure’ in the ‘Writing R Extensions’ manual.
* checking for portable file names ... OK
* checking for sufficient/correct file permissions ... OK
* checking whether package ‘BiGGR’ can be installed ... OK
* checking installed package size ... OK
* checking package directory ... OK
* checking ‘build’ directory ... OK
* checking DESCRIPTION meta-information ... OK
* checking top-level files ... OK
* checking for left-over files ... OK
* checking index information ... OK
* checking package subdirectories ... OK
* checking R files for non-ASCII characters ... OK
* checking R files for syntax errors ... OK
* checking whether the package can be loaded ... OK
* checking whether the package can be loaded with stated dependencies ... OK
* checking whether the package can be unloaded cleanly ... OK
* checking whether the namespace can be loaded with stated dependencies ... OK
* checking whether the namespace can be unloaded cleanly ... OK
* checking dependencies in R code ... NOTE
Package in Depends field not imported from: ‘stringr’
  These packages need to be imported from (in the NAMESPACE file)
  for when this namespace is loaded but not attached.
* checking S3 generic/method consistency ... OK
* checking replacement functions ... OK
* checking foreign function calls ... OK
* checking R code for possible problems ... NOTE
.buildSubModel: no visible global function definition for ‘new’
buildSBMLFromBiGG: no visible global function definition for
  ‘read.delim’
buildSBMLFromBiGG : <anonymous>: no visible global function definition
  for ‘new’
buildSBMLFromBiGG: no visible global function definition for ‘new’
createLIMFromSBML: no visible global function definition for ‘hasArg’
gprMapping: no visible global function definition for ‘str_detect’
gprMapping: no visible global function definition for ‘na.omit’
gprMappingAvg: no visible global function definition for ‘na.omit’
sampleFluxEnsemble: no visible global function definition for ‘Xsample’
sbml2hyperdraw : <anonymous>: no visible binding for global variable
  ‘species’
sbml2hyperdraw: no visible global function definition for ‘hasArg’
sbml2hyperdraw: no visible global function definition for ‘graphLayout’
sbml2hyperdraw: no visible global function definition for
  ‘nodeDataDefaults<-’
sbml2hyperdraw: no visible global function definition for
  ‘edgeDataDefaults<-’
sbml2hyperdraw: no visible global function definition for
  ‘graphDataDefaults<-’
sbml2hyperdraw : <anonymous>: no visible global function definition for
  ‘edgeData<-’
Undefined global functions or variables:
  Xsample edgeData<- edgeDataDefaults<- graphDataDefaults<- graphLayout
  hasArg na.omit new nodeDataDefaults<- read.delim species str_detect
Consider adding
  importFrom("methods", "hasArg", "new")
  importFrom("stats", "na.omit")
  importFrom("utils", "read.delim")
to your NAMESPACE file (and ensure that your DESCRIPTION Imports field
contains 'methods').
* checking Rd files ... OK
* checking Rd metadata ... OK
* checking Rd cross-references ... OK
* checking for missing documentation entries ... OK
* checking for code/documentation mismatches ... OK
* checking Rd \usage sections ... OK
* checking Rd contents ... OK
* checking for unstated dependencies in examples ... OK
* checking contents of ‘data’ directory ... OK
* checking data for non-ASCII characters ... OK
* checking data for ASCII and uncompressed saves ... OK
* checking installed files from ‘inst/doc’ ... OK
* checking files in ‘vignettes’ ... OK
* checking examples ... OK
Examples with CPU (user + system) or elapsed time > 5s
                 user system elapsed
gprMapping    113.195  1.015 114.220
gprMappingAvg  14.136  0.076  14.213
* checking for unstated dependencies in vignettes ... OK
* checking package vignettes in ‘inst/doc’ ... OK
* checking running R code from vignettes ... SKIPPED
* checking re-building of vignette outputs ... SKIPPED
* checking PDF version of manual ... OK
* DONE

Status: 3 NOTEs
See
  ‘/home/biocbuild/bbs-3.14-bioc/meat/BiGGR.Rcheck/00check.log’
for details.



Installation output

BiGGR.Rcheck/00install.out

##############################################################################
##############################################################################
###
### Running command:
###
###   /home/biocbuild/bbs-3.14-bioc/R/bin/R CMD INSTALL BiGGR
###
##############################################################################
##############################################################################


* installing to library ‘/home/biocbuild/bbs-3.14-bioc/R/library’
* installing *source* package ‘BiGGR’ ...
** using staged installation
** R
** data
** inst
** byte-compile and prepare package for lazy loading
** help
*** installing help indices
** building package indices
** installing vignettes
** testing if installed package can be loaded from temporary location
** testing if installed package can be loaded from final location
** testing if installed package keeps a record of temporary installation path
* DONE (BiGGR)

Tests output


Example timings

BiGGR.Rcheck/BiGGR-Ex.timings

nameusersystemelapsed
BiGGR-package1.9120.0651.978
E.coli_iAF12600.6130.0120.625
E.coli_iJR9040.3490.0040.353
E.coli_textbook0.020.000.02
H.pylori_ilT3410.1380.0000.138
H.sapiens_Recon11.1430.0191.163
M.barkeri_iAF6920.2260.0070.233
M.tuberculosis_iNJ6610.2520.0040.256
P.putida_iJN7460.2860.0010.286
Recon21.9800.1072.089
S.aureus_iSB6190.1690.0240.193
S.cerevisiae_iND7500.3000.0120.311
buildSBMLFromBiGG0.0710.0150.087
buildSBMLFromGenes4.5760.0684.644
buildSBMLFromPathways3.6170.0113.629
buildSBMLFromReactionIDs1.8270.0041.831
createLIMFromBiGG0.0680.0000.068
createLIMFromSBML0.8570.0040.862
extractGeneAssociations2.2100.0072.218
extractPathways2.1360.0132.149
getPathwaysForSBML2.4810.0112.493
getRates0.0020.0010.002
gprMapping113.195 1.015114.220
gprMappingAvg14.136 0.07614.213
lying.tunell.data0.0000.0020.001
rmvSpliceVariant2.2170.0022.219
sampleFluxEnsemble1.7830.0281.812
sbml2hyperdraw2.5710.0002.571