Back to Multiple platform build/check report for BioC 3.14
A[B]CDEFGHIJKLMNOPQRSTUVWXYZ

This page was generated on 2021-06-24 12:05:39 -0400 (Thu, 24 Jun 2021).

BUILD BIN results for BgeeDB on riesling1

To the developers/maintainers of the BgeeDB package:
- Please allow up to 24 hours (and sometimes 48 hours) for your latest push to git@git.bioconductor.org:packages/BgeeDB.git to
reflect on this report. See How and When does the builder pull? When will my changes propagate? here for more information.
- Make sure to use the following settings in order to reproduce any error or warning you see on this page.

raw results

Package 139/1993HostnameOS / ArchINSTALLBUILDCHECKBUILD BIN
BgeeDB 2.19.1  (landing page)
Julien Wollbrett , Julien Roux , Andrea Komljenovic , Frederic Bastian
Snapshot Date: 2021-06-23 14:50:10 -0400 (Wed, 23 Jun 2021)
URL: https://git.bioconductor.org/packages/BgeeDB
Branch: master
Last Commit: 272abd8
Last Changed Date: 2021-06-15 22:46:38 -0400 (Tue, 15 Jun 2021)
nebbiolo2Linux (Ubuntu 20.04.2 LTS) / x86_64  OK    OK    OK  UNNEEDED, same version is already published
riesling1Windows Server 2019 Standard / x64  OK    OK    OK    OK  UNNEEDED, same version is already published
merida1macOS 10.14.6 Mojave / x86_64  OK    OK    OK    OK  UNNEEDED, same version is already published

Summary

Package: BgeeDB
Version: 2.19.1
Command: rm -rf BgeeDB.buildbin-libdir && mkdir BgeeDB.buildbin-libdir && D:\biocbuild\bbs-3.14-bioc\R\bin\R.exe CMD INSTALL --merge-multiarch --build --library=BgeeDB.buildbin-libdir BgeeDB_2.19.1.tar.gz
StartedAt: 2021-06-24 03:08:31 -0400 (Thu, 24 Jun 2021)
EndedAt: 2021-06-24 03:12:40 -0400 (Thu, 24 Jun 2021)
EllapsedTime: 248.5 seconds
RetCode: 0
Status:   OK  
PackageFile: BgeeDB_2.19.1.zip
PackageFileSize: 339.1 KiB

Command output

##############################################################################
##############################################################################
###
### Running command:
###
###   rm -rf BgeeDB.buildbin-libdir && mkdir BgeeDB.buildbin-libdir && D:\biocbuild\bbs-3.14-bioc\R\bin\R.exe CMD INSTALL --merge-multiarch --build --library=BgeeDB.buildbin-libdir BgeeDB_2.19.1.tar.gz
###
##############################################################################
##############################################################################



install for i386

* installing *source* package 'BgeeDB' ...
** using staged installation
** R
** data
** inst
** byte-compile and prepare package for lazy loading

groupGOTerms: 	GOBPTerm, GOMFTerm, GOCCTerm environments built.
** help
*** installing help indices
  converting help for package 'BgeeDB'
    finding HTML links ... done
    Bgee-class                              html  
    deleteLocalData                         html  
    deleteOldData                           html  
    formatData                              html  
    geneList                                html  
    getAnnotation                           html  
    getData                                 html  
    listBgeeRelease                         html  
    listBgeeSpecies                         html  
    loadTopAnatData                         html  
    makeTable                               html  
    topAnat                                 html  
** building package indices
** installing vignettes
** testing if installed package can be loaded from temporary location

groupGOTerms: 	GOBPTerm, GOMFTerm, GOCCTerm environments built.
** testing if installed package can be loaded from final location

groupGOTerms: 	GOBPTerm, GOMFTerm, GOCCTerm environments built.
** testing if installed package keeps a record of temporary installation path

install for x64

* installing *source* package 'BgeeDB' ...
** testing if installed package can be loaded

groupGOTerms: 	GOBPTerm, GOMFTerm, GOCCTerm environments built.
* MD5 sums
packaged installation of 'BgeeDB' as BgeeDB_2.19.1.zip
* DONE (BgeeDB)