Back to Multiple platform build/check report for BioC 3.14
A[B]CDEFGHIJKLMNOPQRSTUVWXYZ

This page was generated on 2021-06-19 12:05:42 -0400 (Sat, 19 Jun 2021).

BUILD BIN results for BLMA on riesling1

To the developers/maintainers of the BLMA package:
- Please allow up to 24 hours (and sometimes 48 hours) for your latest push to git@git.bioconductor.org:packages/BLMA.git to
reflect on this report. See How and When does the builder pull? When will my changes propagate? here for more information.
- Make sure to use the following settings in order to reproduce any error or warning you see on this page.

raw results

Package 194/1993HostnameOS / ArchINSTALLBUILDCHECKBUILD BIN
BLMA 1.17.0  (landing page)
Hung Nguyen
Snapshot Date: 2021-06-18 14:50:08 -0400 (Fri, 18 Jun 2021)
URL: https://git.bioconductor.org/packages/BLMA
Branch: master
Last Commit: 20a44ab
Last Changed Date: 2021-05-19 12:27:28 -0400 (Wed, 19 May 2021)
nebbiolo2Linux (Ubuntu 20.04.2 LTS) / x86_64  OK    OK    OK  UNNEEDED, same version is already published
riesling1Windows Server 2019 Standard / x64  OK    OK    OK    OK  NO, package depends on 'ROntoTools' which is not available
merida1macOS 10.14.6 Mojave / x86_64  OK    OK    OK    OK  UNNEEDED, same version is already published

Summary

Package: BLMA
Version: 1.17.0
Command: rm -rf BLMA.buildbin-libdir && mkdir BLMA.buildbin-libdir && D:\biocbuild\bbs-3.14-bioc\R\bin\R.exe CMD INSTALL --merge-multiarch --build --library=BLMA.buildbin-libdir BLMA_1.17.0.tar.gz
StartedAt: 2021-06-19 03:19:27 -0400 (Sat, 19 Jun 2021)
EndedAt: 2021-06-19 03:23:25 -0400 (Sat, 19 Jun 2021)
EllapsedTime: 237.6 seconds
RetCode: 0
Status:   OK  
PackageFile: BLMA_1.17.0.zip
PackageFileSize: 2.791 MiB

Command output

##############################################################################
##############################################################################
###
### Running command:
###
###   rm -rf BLMA.buildbin-libdir && mkdir BLMA.buildbin-libdir && D:\biocbuild\bbs-3.14-bioc\R\bin\R.exe CMD INSTALL --merge-multiarch --build --library=BLMA.buildbin-libdir BLMA_1.17.0.tar.gz
###
##############################################################################
##############################################################################



install for i386

* installing *source* package 'BLMA' ...
** using staged installation
** R
** data
** inst
** byte-compile and prepare package for lazy loading
** help
*** installing help indices
  converting help for package 'BLMA'
    finding HTML links ... done
    GSE17054                                html  
    GSE33223                                html  
    GSE42140                                html  
    GSE57194                                html  
    addCLT                                  html  
    bilevelAnalysisClassic                  html  
    bilevelAnalysisGene                     html  
    bilevelAnalysisGeneset                  html  
    finding level-2 HTML links ... done

    bilevelAnalysisPathway                  html  
    fisherMethod                            html  
    getStatistics                           html  
    intraAnalysisClassic                    html  
    intraAnalysisGene                       html  
    loadKEGGPathways                        html  
    pORACalc                                html  
    stoufferMethod                          html  
** building package indices
** installing vignettes
** testing if installed package can be loaded from temporary location
** testing if installed package can be loaded from final location
** testing if installed package keeps a record of temporary installation path

install for x64

* installing *source* package 'BLMA' ...
** testing if installed package can be loaded
* MD5 sums
packaged installation of 'BLMA' as BLMA_1.17.0.zip
* DONE (BLMA)