Index of /checkResults/devel/bioc-LATEST/BANDITS/raw-results

[ICO]NameLast modifiedSizeDescription

[DIR]Parent Directory  -  
[   ]info.dcf08-Jun-2024 09:24 265  
[DIR]kjohnson1/08-Jun-2024 09:29 -  
[DIR]kunpeng2/16-May-2024 02:46 -  
[DIR]merida1/08-Jun-2024 09:28 -  
[DIR]nebbiolo2/08-Jun-2024 09:25 -  
[DIR]palomino4/08-Jun-2024 09:26 -