Back to Multiple platform build/check report for BioC 3.14
[A]BCDEFGHIJKLMNOPQRSTUVWXYZ

This page was generated on 2021-06-17 12:05:22 -0400 (Thu, 17 Jun 2021).

INSTALL results for AnnotationHubData on riesling1

To the developers/maintainers of the AnnotationHubData package:
- Please allow up to 24 hours (and sometimes 48 hours) for your latest push to git@git.bioconductor.org:packages/AnnotationHubData.git to
reflect on this report. See How and When does the builder pull? When will my changes propagate? here for more information.
- Make sure to use the following settings in order to reproduce any error or warning you see on this page.

raw results

Package 64/1993HostnameOS / ArchINSTALLBUILDCHECKBUILD BIN
AnnotationHubData 1.23.0  (landing page)
Bioconductor Package Maintainer
Snapshot Date: 2021-06-16 14:50:06 -0400 (Wed, 16 Jun 2021)
URL: https://git.bioconductor.org/packages/AnnotationHubData
Branch: master
Last Commit: 18dc885
Last Changed Date: 2021-05-19 12:15:22 -0400 (Wed, 19 May 2021)
nebbiolo2Linux (Ubuntu 20.04.2 LTS) / x86_64  OK    OK    WARNINGS  UNNEEDED, same version is already published
riesling1Windows Server 2019 Standard / x64  OK    OK    ERROR    OK  
merida1macOS 10.14.6 Mojave / x86_64  OK    OK    WARNINGS    OK  UNNEEDED, same version is already published

Summary

Package: AnnotationHubData
Version: 1.23.0
Command: C:\cygwin\bin\curl.exe -O http://155.52.207.166/BBS/3.14/bioc/src/contrib/AnnotationHubData_1.23.0.tar.gz && rm -rf AnnotationHubData.buildbin-libdir && mkdir AnnotationHubData.buildbin-libdir && D:\biocbuild\bbs-3.14-bioc\R\bin\R.exe CMD INSTALL --merge-multiarch --build --library=AnnotationHubData.buildbin-libdir AnnotationHubData_1.23.0.tar.gz && D:\biocbuild\bbs-3.14-bioc\R\bin\R.exe CMD INSTALL AnnotationHubData_1.23.0.zip && rm AnnotationHubData_1.23.0.tar.gz AnnotationHubData_1.23.0.zip
StartedAt: 2021-06-16 18:05:12 -0400 (Wed, 16 Jun 2021)
EndedAt: 2021-06-16 18:07:42 -0400 (Wed, 16 Jun 2021)
EllapsedTime: 150.2 seconds
RetCode: 0
Status:   OK  

Command output

##############################################################################
##############################################################################
###
### Running command:
###
###   C:\cygwin\bin\curl.exe -O http://155.52.207.166/BBS/3.14/bioc/src/contrib/AnnotationHubData_1.23.0.tar.gz && rm -rf AnnotationHubData.buildbin-libdir && mkdir AnnotationHubData.buildbin-libdir && D:\biocbuild\bbs-3.14-bioc\R\bin\R.exe CMD INSTALL --merge-multiarch --build --library=AnnotationHubData.buildbin-libdir AnnotationHubData_1.23.0.tar.gz && D:\biocbuild\bbs-3.14-bioc\R\bin\R.exe CMD INSTALL AnnotationHubData_1.23.0.zip && rm AnnotationHubData_1.23.0.tar.gz AnnotationHubData_1.23.0.zip
###
##############################################################################
##############################################################################


  % Total    % Received % Xferd  Average Speed   Time    Time     Time  Current
                                 Dload  Upload   Total   Spent    Left  Speed

  0     0    0     0    0     0      0      0 --:--:-- --:--:-- --:--:--     0
100  183k  100  183k    0     0  1516k      0 --:--:-- --:--:-- --:--:-- 1516k

install for i386

* installing *source* package 'AnnotationHubData' ...
** using staged installation
** R
** inst
** byte-compile and prepare package for lazy loading
** help
*** installing help indices
  converting help for package 'AnnotationHubData'
    finding HTML links ... done
    AnnotationHubData-package               html  
    AnnotationHubMetadata-class             html  
REDIRECT:topic	 class:HubMetadata -> AnnotationHubMetadata-class.html [ FAIL ]
REDIRECT:topic	 class:AnnotationHubMetadata -> AnnotationHubMetadata-class.html [ FAIL ]
REDIRECT:topic	 metadata<- -> AnnotationHubMetadata-class.html [ FAIL ]
REDIRECT:topic	 metadata<-,HubMetadata,list-method -> AnnotationHubMetadata-class.html [ FAIL ]
REDIRECT:topic	 hubError<- -> AnnotationHubMetadata-class.html [ FAIL ]
REDIRECT:topic	 hubError<-,list,character-method -> AnnotationHubMetadata-class.html [ FAIL ]
REDIRECT:topic	 hubError<-,HubMetadata,character-method -> AnnotationHubMetadata-class.html [ FAIL ]
    ImportPreparer-class                    html  
    flog                                    html  
    makeAnnotationHubMetadata               html  
    makeEnsemblFasta                        html  
    makeGencodeFasta                        html  
    makeStandardOrgDbs                      html  
    updateResources                         html  
    upload_to_S3                            html  
    validationFunctions                     html  
** building package indices
** installing vignettes
** testing if installed package can be loaded from temporary location
** testing if installed package can be loaded from final location
** testing if installed package keeps a record of temporary installation path

install for x64

* installing *source* package 'AnnotationHubData' ...
** testing if installed package can be loaded
* MD5 sums
packaged installation of 'AnnotationHubData' as AnnotationHubData_1.23.0.zip
* DONE (AnnotationHubData)
* installing to library 'D:/biocbuild/bbs-3.14-bioc/R/library'
package 'AnnotationHubData' successfully unpacked and MD5 sums checked