Index of /checkResults/devel/bioc-LATEST/AlpsNMR/raw-results/palomino4

[ICO]NameLast modifiedSizeDescription

[DIR]Parent Directory  -  
[TXT]buildbin-out.txt12-Jun-2024 04:40 1.1K 
[   ]buildbin-summary.dcf12-Jun-2024 04:40 512  
[TXT]buildsrc-out.txt12-Jun-2024 04:40 898  
[   ]buildsrc-summary.dcf12-Jun-2024 04:40 451  
[TXT]checksrc-out.txt12-Jun-2024 04:40 5.6K 
[   ]checksrc-summary.dcf12-Jun-2024 04:40 449  
[TXT]install-out.txt12-Jun-2024 04:40 1.0K 
[   ]install-summary.dcf12-Jun-2024 04:40 267