Index of /checkResults/devel/bioc-LATEST/AlpsNMR/raw-results/lconway

[ICO]NameLast modifiedSizeDescription

[DIR]Parent Directory  -  
[TXT]buildbin-out.txt17-Jul-2024 00:41 1.2K 
[   ]buildbin-summary.dcf17-Jul-2024 00:41 527  
[TXT]buildsrc-out.txt17-Jul-2024 00:41 878  
[   ]buildsrc-summary.dcf17-Jul-2024 00:41 426  
[TXT]checksrc-out.txt17-Jul-2024 00:41 3.7K 
[   ]checksrc-summary.dcf17-Jul-2024 00:41 442  
[TXT]install-out.txt17-Jul-2024 00:41 1.0K 
[   ]install-summary.dcf17-Jul-2024 00:41 268