Index of /checkResults/devel/bioc-LATEST/AlpsNMR/raw-results

[ICO]NameLast modifiedSizeDescription

[DIR]Parent Directory  -  
[DIR]palomino8/14-Jul-2024 00:44 -  
[DIR]palomino6/14-Jul-2024 00:39 -  
[DIR]palomino4/12-Jun-2024 04:40 -  
[DIR]nebbiolo2/14-Jul-2024 00:38 -  
[DIR]merida1/12-Jun-2024 04:41 -  
[DIR]lconway/14-Jul-2024 00:41 -  
[DIR]kunpeng2/09-Jul-2024 00:44 -  
[DIR]kjohnson3/14-Jul-2024 00:42 -  
[DIR]kjohnson1/12-Jun-2024 04:42 -  
[   ]info.dcf14-Jul-2024 00:37 270