Back to Multiple platform build/check report for BioC 3.20:   simplified   long
[A]BCDEFGHIJKLMNOPQRSTUVWXYZ

This page was generated on 2024-06-21 11:35 -0400 (Fri, 21 Jun 2024).

HostnameOSArch (*)R versionInstalled pkgs
nebbiolo2Linux (Ubuntu 22.04.3 LTS)x86_644.4.0 RC (2024-04-16 r86468) -- "Puppy Cup" 4690
lconwaymacOS 12.7.1 Montereyx86_644.4.1 RC (2024-06-06 r86719) -- "Race for Your Life" 4404
Click on any hostname to see more info about the system (e.g. compilers)      (*) as reported by 'uname -p', except on Windows and Mac OS X

Package 57/2242HostnameOS / ArchINSTALLBUILDCHECKBUILD BIN
AlpsNMR 4.7.1  (landing page)
Sergio Oller Moreno
Snapshot Date: 2024-06-20 14:00 -0400 (Thu, 20 Jun 2024)
git_url: https://git.bioconductor.org/packages/AlpsNMR
git_branch: devel
git_last_commit: ac7cb18
git_last_commit_date: 2024-06-09 06:57:22 -0400 (Sun, 09 Jun 2024)
nebbiolo2Linux (Ubuntu 22.04.3 LTS) / x86_64  OK    OK    OK  UNNEEDED, same version is already published
lconwaymacOS 12.7.1 Monterey / x86_64  OK    ERROR  skippedskipped


INSTALL results for AlpsNMR on nebbiolo2

To the developers/maintainers of the AlpsNMR package:
- Allow up to 24 hours (and sometimes 48 hours) for your latest push to git@git.bioconductor.org:packages/AlpsNMR.git to reflect on this report. See Troubleshooting Build Report for more information.
- Use the following Renviron settings to reproduce errors and warnings.
- If 'R CMD check' started to fail recently on the Linux builder(s) over a missing dependency, add the missing dependency to 'Suggests:' in your DESCRIPTION file. See Renviron.bioc for more information.

raw results


Summary

Package: AlpsNMR
Version: 4.7.1
Command: /home/biocbuild/bbs-3.20-bioc/R/bin/R CMD INSTALL AlpsNMR
StartedAt: 2024-06-20 15:34:34 -0400 (Thu, 20 Jun 2024)
EndedAt: 2024-06-20 15:34:46 -0400 (Thu, 20 Jun 2024)
EllapsedTime: 12.3 seconds
RetCode: 0
Status:   OK  

Command output

##############################################################################
##############################################################################
###
### Running command:
###
###   /home/biocbuild/bbs-3.20-bioc/R/bin/R CMD INSTALL AlpsNMR
###
##############################################################################
##############################################################################


* installing to library ‘/home/biocbuild/bbs-3.20-bioc/R/site-library’
* installing *source* package ‘AlpsNMR’ ...
** using staged installation
** R
** data
** inst
** byte-compile and prepare package for lazy loading
** help
*** installing help indices
*** copying figures
** building package indices
** installing vignettes
** testing if installed package can be loaded from temporary location
** testing if installed package can be loaded from final location
** testing if installed package keeps a record of temporary installation path
* DONE (AlpsNMR)