Back to Multiple platform build/check report for BioC 3.14
[A]BCDEFGHIJKLMNOPQRSTUVWXYZ

This page was generated on 2021-10-21 12:05:12 -0400 (Thu, 21 Oct 2021).

BUILD BIN results for ATACseqQC on merida1

To the developers/maintainers of the ATACseqQC package:
- Please allow up to 24 hours (and sometimes 48 hours) for your latest push to git@git.bioconductor.org:packages/ATACseqQC.git to
reflect on this report. See How and When does the builder pull? When will my changes propagate? here for more information.
- Make sure to use the following settings in order to reproduce any error or warning you see on this page.

raw results

Package 94/2075HostnameOS / ArchINSTALLBUILDCHECKBUILD BIN
ATACseqQC 1.17.1  (landing page)
Jianhong Ou
Snapshot Date: 2021-10-20 14:50:05 -0400 (Wed, 20 Oct 2021)
git_url: https://git.bioconductor.org/packages/ATACseqQC
git_branch: master
git_last_commit: 165e0bf
git_last_commit_date: 2021-10-08 14:01:07 -0400 (Fri, 08 Oct 2021)
nebbiolo2Linux (Ubuntu 20.04.2 LTS) / x86_64  OK    OK    OK  UNNEEDED, same version is already published
riesling1Windows Server 2019 Standard / x64  OK    OK    OK    OK  UNNEEDED, same version is already published
merida1macOS 10.14.6 Mojave / x86_64  OK    OK    OK    OK  UNNEEDED, same version is already published

Summary

Package: ATACseqQC
Version: 1.17.1
Command: rm -rf ATACseqQC.buildbin-libdir && mkdir ATACseqQC.buildbin-libdir && /Users/biocbuild/BBS/utils/build-universal.sh ATACseqQC_1.17.1.tar.gz /Library/Frameworks/R.framework/Resources/bin/R ATACseqQC.buildbin-libdir
StartedAt: 2021-10-21 11:06:34 -0400 (Thu, 21 Oct 2021)
EndedAt: 2021-10-21 11:07:42 -0400 (Thu, 21 Oct 2021)
EllapsedTime: 67.9 seconds
RetCode: 0
Status:   OK  
PackageFile: ATACseqQC_1.17.1.tgz
PackageFileSize: 12.49 MiB

Command output

##############################################################################
##############################################################################
###
### Running command:
###
###   rm -rf ATACseqQC.buildbin-libdir && mkdir ATACseqQC.buildbin-libdir && /Users/biocbuild/BBS/utils/build-universal.sh ATACseqQC_1.17.1.tar.gz /Library/Frameworks/R.framework/Resources/bin/R ATACseqQC.buildbin-libdir
###
##############################################################################
##############################################################################


>>>>>>> 
>>>>>>> INSTALLATION WITH 'R CMD INSTALL --preclean --no-multiarch --library=ATACseqQC.buildbin-libdir ATACseqQC_1.17.1.tar.gz'
>>>>>>> 

* installing *source* package ‘ATACseqQC’ ...
** using staged installation
** R
** inst
** byte-compile and prepare package for lazy loading
** help
*** installing help indices
** building package indices
** installing vignettes
** testing if installed package can be loaded from temporary location
** testing if installed package can be loaded from final location
** testing if installed package keeps a record of temporary installation path
* DONE (ATACseqQC)