Back to Multiple platform build/check report for BioC 3.20:   simplified   long
[A]BCDEFGHIJKLMNOPQRSTUVWXYZ

This page was generated on 2024-05-15 13:46:27 -0400 (Wed, 15 May 2024).

HostnameOSArch (*)R versionInstalled pkgs
nebbiolo2Linux (Ubuntu 22.04.3 LTS)x86_644.4.0 RC (2024-04-16 r86468) -- "Puppy Cup" 4663
kunpeng2Linux (openEuler 22.03 LTS-SP1)aarch644.4.0 beta (2024-04-15 r86425) -- "Puppy Cup" 4480
Click on any hostname to see more info about the system (e.g. compilers)      (*) as reported by 'uname -p', except on Windows and Mac OS X

Package 106/2230HostnameOS / ArchINSTALLBUILDCHECKBUILD BIN
ATACseqQC 1.29.0  (landing page)
Jianhong Ou
Snapshot Date: 2024-05-13 14:05:07 -0400 (Mon, 13 May 2024)
git_url: https://git.bioconductor.org/packages/ATACseqQC
git_branch: devel
git_last_commit: 96f0204
git_last_commit_date: 2024-04-30 10:58:06 -0400 (Tue, 30 Apr 2024)
nebbiolo2Linux (Ubuntu 22.04.3 LTS) / x86_64  OK    OK    OK  UNNEEDED, same version is already published
kunpeng2Linux (openEuler 22.03 LTS-SP1) / aarch64  OK    OK    OK  
kjohnson1macOS 13.6.6 Ventura / arm64see weekly results here

CHECK results for ATACseqQC on kunpeng2


To the developers/maintainers of the ATACseqQC package:
- Allow up to 24 hours (and sometimes 48 hours) for your latest push to git@git.bioconductor.org:packages/ATACseqQC.git to reflect on this report. See Troubleshooting Build Report for more information.
- Use the following Renviron settings to reproduce errors and warnings.
- If 'R CMD check' started to fail recently on the Linux builder(s) over a missing dependency, add the missing dependency to 'Suggests:' in your DESCRIPTION file. See Renviron.bioc for more information.
- See Martin Grigorov's blog post for how to debug Linux ARM64 related issues on a x86_64 host.

raw results


Summary

Package: ATACseqQC
Version: 1.28.0
Command: /home/biocbuild/R/R-beta-2024-04-15_r86425/bin/R CMD check --install=check:ATACseqQC.install-out.txt --library=/home/biocbuild/R/R-beta-2024-04-15_r86425/site-library --no-vignettes --timings ATACseqQC_1.28.0.tar.gz
StartedAt: 2024-05-09 04:50:58 -0000 (Thu, 09 May 2024)
EndedAt: 2024-05-09 05:04:58 -0000 (Thu, 09 May 2024)
EllapsedTime: 840.3 seconds
RetCode: 0
Status:   OK  
CheckDir: ATACseqQC.Rcheck
Warnings: 0

Command output

##############################################################################
##############################################################################
###
### Running command:
###
###   /home/biocbuild/R/R-beta-2024-04-15_r86425/bin/R CMD check --install=check:ATACseqQC.install-out.txt --library=/home/biocbuild/R/R-beta-2024-04-15_r86425/site-library --no-vignettes --timings ATACseqQC_1.28.0.tar.gz
###
##############################################################################
##############################################################################


* using log directory ‘/home/biocbuild/bbs-3.19-bioc/meat/ATACseqQC.Rcheck’
* using R version 4.4.0 beta (2024-04-15 r86425)
* using platform: aarch64-unknown-linux-gnu
* R was compiled by
    gcc (GCC) 10.3.1
    GNU Fortran (GCC) 10.3.1
* running under: openEuler 22.03 (LTS-SP1)
* using session charset: UTF-8
* using option ‘--no-vignettes’
* checking for file ‘ATACseqQC/DESCRIPTION’ ... OK
* checking extension type ... Package
* this is package ‘ATACseqQC’ version ‘1.28.0’
* package encoding: UTF-8
* checking package namespace information ... OK
* checking package dependencies ... OK
* checking if this is a source package ... OK
* checking if there is a namespace ... OK
* checking for hidden files and directories ... OK
* checking for portable file names ... OK
* checking for sufficient/correct file permissions ... OK
* checking whether package ‘ATACseqQC’ can be installed ... OK
* checking installed package size ... NOTE
  installed size is 12.4Mb
  sub-directories of 1Mb or more:
    extdata  12.1Mb
* checking package directory ... OK
* checking ‘build’ directory ... OK
* checking DESCRIPTION meta-information ... OK
* checking top-level files ... OK
* checking for left-over files ... OK
* checking index information ... OK
* checking package subdirectories ... OK
* checking code files for non-ASCII characters ... OK
* checking R files for syntax errors ... OK
* checking whether the package can be loaded ... OK
* checking whether the package can be loaded with stated dependencies ... OK
* checking whether the package can be unloaded cleanly ... OK
* checking whether the namespace can be loaded with stated dependencies ... OK
* checking whether the namespace can be unloaded cleanly ... OK
* checking loading without being on the library search path ... OK
* checking dependencies in R code ... OK
* checking S3 generic/method consistency ... OK
* checking replacement functions ... OK
* checking foreign function calls ... OK
* checking R code for possible problems ... OK
* checking Rd files ... OK
* checking Rd metadata ... OK
* checking Rd cross-references ... OK
* checking for missing documentation entries ... OK
* checking for code/documentation mismatches ... OK
* checking Rd \usage sections ... OK
* checking Rd contents ... OK
* checking for unstated dependencies in examples ... OK
* checking files in ‘vignettes’ ... OK
* checking examples ... OK
Examples with CPU (user + system) or elapsed time > 5s
                         user system elapsed
enrichedFragments     103.709  0.918 104.864
factorFootprints       29.038  0.698  29.933
distanceDyad           27.540  0.611  28.186
splitGAlignmentsByCut  27.049  0.583  27.696
vPlot                  20.421  0.231  20.677
footprintsScanner      16.029  0.658  16.723
shiftGAlignments        9.400  0.311   9.729
estimateLibComplexity   6.080  0.052   6.145
shiftGAlignmentsList    5.227  0.088   5.331
* checking for unstated dependencies in ‘tests’ ... OK
* checking tests ...
  Running ‘runTests.R’
 OK
* checking for unstated dependencies in vignettes ... OK
* checking package vignettes ... OK
* checking running R code from vignettes ... SKIPPED
* checking re-building of vignette outputs ... SKIPPED
* checking PDF version of manual ... OK
* DONE

Status: 1 NOTE
See
  ‘/home/biocbuild/bbs-3.19-bioc/meat/ATACseqQC.Rcheck/00check.log’
for details.


Installation output

ATACseqQC.Rcheck/00install.out

##############################################################################
##############################################################################
###
### Running command:
###
###   /home/biocbuild/R/R-beta-2024-04-15_r86425/bin/R CMD INSTALL ATACseqQC
###
##############################################################################
##############################################################################


* installing to library ‘/home/biocbuild/R/R-beta-2024-04-15_r86425/site-library’
* installing *source* package ‘ATACseqQC’ ...
** using staged installation
** R
** inst
** byte-compile and prepare package for lazy loading
** help
*** installing help indices
** building package indices
** installing vignettes
** testing if installed package can be loaded from temporary location
** testing if installed package can be loaded from final location
** testing if installed package keeps a record of temporary installation path
* DONE (ATACseqQC)

Tests output

ATACseqQC.Rcheck/tests/runTests.Rout


R version 4.4.0 beta (2024-04-15 r86425) -- "Puppy Cup"
Copyright (C) 2024 The R Foundation for Statistical Computing
Platform: aarch64-unknown-linux-gnu

R is free software and comes with ABSOLUTELY NO WARRANTY.
You are welcome to redistribute it under certain conditions.
Type 'license()' or 'licence()' for distribution details.

R is a collaborative project with many contributors.
Type 'contributors()' for more information and
'citation()' on how to cite R or R packages in publications.

Type 'demo()' for some demos, 'help()' for on-line help, or
'help.start()' for an HTML browser interface to help.
Type 'q()' to quit R.

> require("ATACseqQC") || stop("unable to load Package:ATACseqQC")
Loading required package: ATACseqQC
Loading required package: BiocGenerics

Attaching package: 'BiocGenerics'

The following objects are masked from 'package:stats':

    IQR, mad, sd, var, xtabs

The following objects are masked from 'package:base':

    Filter, Find, Map, Position, Reduce, anyDuplicated, aperm, append,
    as.data.frame, basename, cbind, colnames, dirname, do.call,
    duplicated, eval, evalq, get, grep, grepl, intersect, is.unsorted,
    lapply, mapply, match, mget, order, paste, pmax, pmax.int, pmin,
    pmin.int, rank, rbind, rownames, sapply, setdiff, table, tapply,
    union, unique, unsplit, which.max, which.min

Loading required package: S4Vectors
Loading required package: stats4

Attaching package: 'S4Vectors'

The following object is masked from 'package:utils':

    findMatches

The following objects are masked from 'package:base':

    I, expand.grid, unname


[1] TRUE
> require("GenomicAlignments") || stop("unable to load Package:GenomicAlignments")
Loading required package: GenomicAlignments
Loading required package: IRanges
Loading required package: GenomeInfoDb
Loading required package: GenomicRanges
Loading required package: SummarizedExperiment
Loading required package: MatrixGenerics
Loading required package: matrixStats

Attaching package: 'MatrixGenerics'

The following objects are masked from 'package:matrixStats':

    colAlls, colAnyNAs, colAnys, colAvgsPerRowSet, colCollapse,
    colCounts, colCummaxs, colCummins, colCumprods, colCumsums,
    colDiffs, colIQRDiffs, colIQRs, colLogSumExps, colMadDiffs,
    colMads, colMaxs, colMeans2, colMedians, colMins, colOrderStats,
    colProds, colQuantiles, colRanges, colRanks, colSdDiffs, colSds,
    colSums2, colTabulates, colVarDiffs, colVars, colWeightedMads,
    colWeightedMeans, colWeightedMedians, colWeightedSds,
    colWeightedVars, rowAlls, rowAnyNAs, rowAnys, rowAvgsPerColSet,
    rowCollapse, rowCounts, rowCummaxs, rowCummins, rowCumprods,
    rowCumsums, rowDiffs, rowIQRDiffs, rowIQRs, rowLogSumExps,
    rowMadDiffs, rowMads, rowMaxs, rowMeans2, rowMedians, rowMins,
    rowOrderStats, rowProds, rowQuantiles, rowRanges, rowRanks,
    rowSdDiffs, rowSds, rowSums2, rowTabulates, rowVarDiffs, rowVars,
    rowWeightedMads, rowWeightedMeans, rowWeightedMedians,
    rowWeightedSds, rowWeightedVars

Loading required package: Biobase
Welcome to Bioconductor

    Vignettes contain introductory material; view with
    'browseVignettes()'. To cite Bioconductor, see
    'citation("Biobase")', and for packages 'citation("pkgname")'.


Attaching package: 'Biobase'

The following object is masked from 'package:MatrixGenerics':

    rowMedians

The following objects are masked from 'package:matrixStats':

    anyMissing, rowMedians

Loading required package: Biostrings
Loading required package: XVector

Attaching package: 'Biostrings'

The following object is masked from 'package:base':

    strsplit

Loading required package: Rsamtools
[1] TRUE
> require("BSgenome") || stop("unable to load Package:BSgenome")
Loading required package: BSgenome
Loading required package: BiocIO
Loading required package: rtracklayer

Attaching package: 'rtracklayer'

The following object is masked from 'package:BiocIO':

    FileForFormat

[1] TRUE
> require("rtracklayer") || stop("unable to load Package:rtracklayer")
[1] TRUE
> require("utils") || stop("unable to load Package:utils")
[1] TRUE
> require("testthat") || stop("unable to load testthat")
Loading required package: testthat
[1] TRUE
> test_check("ATACseqQC")

  |                                                                            
  |                                                                      |   0%
  |                                                                            
  |==============                                                        |  20%
  |                                                                            
  |============================                                          |  40%
  |                                                                            
  |==========================================                            |  60%
  |                                                                            
  |========================================================              |  80%
  |                                                                            
  |======================================================================| 100%
[ FAIL 0 | WARN 0 | SKIP 1 | PASS 25 ]

══ Skipped tests (1) ═══════════════════════════════════════════════════════════
• empty test (1): 'test_factorFootprints.R:1:1'

[ FAIL 0 | WARN 0 | SKIP 1 | PASS 25 ]
> 
> proc.time()
   user  system elapsed 
 84.145   1.524  85.810 

Example timings

ATACseqQC.Rcheck/ATACseqQC-Ex.timings

nameusersystemelapsed
NFRscore3.2510.1883.450
PTscore1.0120.0401.053
TSSEscore1.2150.0241.241
bamQC3.3260.0643.398
distanceDyad27.540 0.61128.186
enrichedFragments103.709 0.918104.864
estimateLibComplexity6.0800.0526.145
factorFootprints29.038 0.69829.933
footprintsScanner16.029 0.65816.723
fragSizeDist0.6650.0040.678
plotCorrelation1.7450.0361.784
plotFootprints0.8860.0200.908
pseudoPausingIndex1.7040.0201.728
readBamFile1.1180.0241.144
readsDupFreq0.4300.0160.447
saturationPlot0.0000.0000.001
shiftGAlignments9.4000.3119.729
shiftGAlignmentsList5.2270.0885.331
splitBam0.0010.0000.001
splitGAlignmentsByCut27.049 0.58327.696
vPlot20.421 0.23120.677
writeListOfGAlignments0.3250.0050.330