Back to Multiple platform build/check report for BioC 3.20:   simplified   long
[A]BCDEFGHIJKLMNOPQRSTUVWXYZ

This page was generated on 2024-07-13 11:41 -0400 (Sat, 13 Jul 2024).

HostnameOSArch (*)R versionInstalled pkgs
nebbiolo2Linux (Ubuntu 22.04.3 LTS)x86_644.4.1 (2024-06-14) -- "Race for Your Life" 4677
palomino6Windows Server 2022 Datacenterx644.4.1 (2024-06-14 ucrt) -- "Race for Your Life" 4416
lconwaymacOS 12.7.1 Montereyx86_644.4.1 (2024-06-14) -- "Race for Your Life" 4444
kjohnson3macOS 13.6.5 Venturaarm644.4.1 (2024-06-14) -- "Race for Your Life" 4393
palomino8Windows Server 2022 Datacenterx644.4.1 (2024-06-14 ucrt) -- "Race for Your Life" 4373
Click on any hostname to see more info about the system (e.g. compilers)      (*) as reported by 'uname -p', except on Windows and Mac OS X

Package 97/2243HostnameOS / ArchINSTALLBUILDCHECKBUILD BIN
ASEB 1.49.0  (landing page)
Likun Wang
Snapshot Date: 2024-07-12 14:00 -0400 (Fri, 12 Jul 2024)
git_url: https://git.bioconductor.org/packages/ASEB
git_branch: devel
git_last_commit: cdcd402
git_last_commit_date: 2024-04-30 10:26:29 -0400 (Tue, 30 Apr 2024)
nebbiolo2Linux (Ubuntu 22.04.3 LTS) / x86_64  OK    OK    WARNINGS  UNNEEDED, same version is already published
palomino6Windows Server 2022 Datacenter / x64  OK    OK    OK    OK  
lconwaymacOS 12.7.1 Monterey / x86_64  OK    OK    WARNINGS    OK  UNNEEDED, same version is already published
kjohnson3macOS 13.6.5 Ventura / arm64  OK    OK    WARNINGS    OK  UNNEEDED, same version is already published
palomino8Windows Server 2022 Datacenter / x64  OK    OK    OK    OK  


BUILD BIN results for ASEB on lconway

To the developers/maintainers of the ASEB package:
- Allow up to 24 hours (and sometimes 48 hours) for your latest push to git@git.bioconductor.org:packages/ASEB.git to reflect on this report. See Troubleshooting Build Report for more information.
- Use the following Renviron settings to reproduce errors and warnings.
- If 'R CMD check' started to fail recently on the Linux builder(s) over a missing dependency, add the missing dependency to 'Suggests:' in your DESCRIPTION file. See Renviron.bioc for more information.

raw results


Summary

Package: ASEB
Version: 1.49.0
Command: rm -rf ASEB.buildbin-libdir && mkdir ASEB.buildbin-libdir && /Users/biocbuild/BBS/utils/build-universal.sh ASEB_1.49.0.tar.gz /Library/Frameworks/R.framework/Resources/bin/R ASEB.buildbin-libdir
StartedAt: 2024-07-13 00:29:16 -0400 (Sat, 13 Jul 2024)
EndedAt: 2024-07-13 00:29:27 -0400 (Sat, 13 Jul 2024)
EllapsedTime: 11.4 seconds
RetCode: 0
Status:   OK  
PackageFile: ASEB_1.49.0.tgz
PackageFileSize: 774.9 KiB

Command output

##############################################################################
##############################################################################
###
### Running command:
###
###   rm -rf ASEB.buildbin-libdir && mkdir ASEB.buildbin-libdir && /Users/biocbuild/BBS/utils/build-universal.sh ASEB_1.49.0.tar.gz /Library/Frameworks/R.framework/Resources/bin/R ASEB.buildbin-libdir
###
##############################################################################
##############################################################################


>>>>>>> 
>>>>>>> INSTALLATION WITH 'R CMD INSTALL --preclean --no-multiarch --library=ASEB.buildbin-libdir ASEB_1.49.0.tar.gz'
>>>>>>> 

* installing *source* package ‘ASEB’ ...
** using staged installation
** libs
using C++ compiler: ‘Apple clang version 14.0.0 (clang-1400.0.29.202)’
using SDK: ‘MacOSX11.3.sdk’
clang++ -arch x86_64 -std=gnu++17 -I"/Library/Frameworks/R.framework/Resources/include" -DNDEBUG   -I/opt/R/x86_64/include    -fPIC  -falign-functions=64 -Wall -g -O2   -c asebC.cpp -o asebC.o
clang++ -arch x86_64 -std=gnu++17 -dynamiclib -Wl,-headerpad_max_install_names -undefined dynamic_lookup -L/Library/Frameworks/R.framework/Resources/lib -L/opt/R/x86_64/lib -o ASEB.so asebC.o -F/Library/Frameworks/R.framework/.. -framework R -Wl,-framework -Wl,CoreFoundation
installing to /Users/biocbuild/bbs-3.20-bioc/meat/ASEB.buildbin-libdir/00LOCK-ASEB/00new/ASEB/libs
** R
** inst
** byte-compile and prepare package for lazy loading
** help
*** installing help indices
** building package indices
** installing vignettes
** testing if installed package can be loaded from temporary location
** checking absolute paths in shared objects and dynamic libraries
** testing if installed package can be loaded from final location
** testing if installed package keeps a record of temporary installation path
* DONE (ASEB)


>>>>>>> 
>>>>>>> FIXING PATHS TO DYNAMIC LIBRARIES FOR ASEB.buildbin-libdir/ASEB/libs/ASEB.so
>>>>>>> 

>>>>>>> Paths before fix:
ASEB.buildbin-libdir/ASEB/libs/ASEB.so:
	ASEB.so (compatibility version 0.0.0, current version 0.0.0)
	/Library/Frameworks/R.framework/Versions/4.4-x86_64/Resources/lib/libR.dylib (compatibility version 4.4.0, current version 4.4.1)
	/System/Library/Frameworks/CoreFoundation.framework/Versions/A/CoreFoundation (compatibility version 150.0.0, current version 1775.118.101)
	/usr/lib/libc++.1.dylib (compatibility version 1.0.0, current version 905.6.0)
	/usr/lib/libSystem.B.dylib (compatibility version 1.0.0, current version 1292.100.5)

>>>>>>> Fix with install_name_tool:
install_name_tool -change "/usr/local/lib/libgcc_s.1.1.dylib" "/Library/Frameworks/R.framework/Versions/4.4-x86_64/Resources/lib/libgcc_s.1.1.dylib" "ASEB.buildbin-libdir/ASEB/libs/ASEB.so"
install_name_tool -change "/usr/local/lib/libgfortran.5.dylib" "/Library/Frameworks/R.framework/Versions/4.4-x86_64/Resources/lib/libgfortran.5.dylib" "ASEB.buildbin-libdir/ASEB/libs/ASEB.so"
install_name_tool -change "/usr/local/lib/libquadmath.0.dylib" "/Library/Frameworks/R.framework/Versions/4.4-x86_64/Resources/lib/libquadmath.0.dylib" "ASEB.buildbin-libdir/ASEB/libs/ASEB.so"

>>>>>>> Paths after fix:
ASEB.buildbin-libdir/ASEB/libs/ASEB.so:
	ASEB.so (compatibility version 0.0.0, current version 0.0.0)
	/Library/Frameworks/R.framework/Versions/4.4-x86_64/Resources/lib/libR.dylib (compatibility version 4.4.0, current version 4.4.1)
	/System/Library/Frameworks/CoreFoundation.framework/Versions/A/CoreFoundation (compatibility version 150.0.0, current version 1775.118.101)
	/usr/lib/libc++.1.dylib (compatibility version 1.0.0, current version 905.6.0)
	/usr/lib/libSystem.B.dylib (compatibility version 1.0.0, current version 1292.100.5)