Back to Multiple platform build/check report for BioC 3.14
[A]BCDEFGHIJKLMNOPQRSTUVWXYZ

This page was generated on 2021-09-21 12:05:54 -0400 (Tue, 21 Sep 2021).

BUILD BIN results for APAlyzer on riesling1

To the developers/maintainers of the APAlyzer package:
- Please allow up to 24 hours (and sometimes 48 hours) for your latest push to git@git.bioconductor.org:packages/APAlyzer.git to
reflect on this report. See How and When does the builder pull? When will my changes propagate? here for more information.
- Make sure to use the following settings in order to reproduce any error or warning you see on this page.

raw results

Package 73/2029HostnameOS / ArchINSTALLBUILDCHECKBUILD BIN
APAlyzer 1.7.3  (landing page)
Ruijia Wang
Snapshot Date: 2021-09-20 14:50:09 -0400 (Mon, 20 Sep 2021)
git_url: https://git.bioconductor.org/packages/APAlyzer
git_branch: master
git_last_commit: f77faaa
git_last_commit_date: 2021-07-31 11:50:33 -0400 (Sat, 31 Jul 2021)
nebbiolo2Linux (Ubuntu 20.04.2 LTS) / x86_64  OK    OK    ERROR  
riesling1Windows Server 2019 Standard / x64  OK    OK    ERROR    OK  
merida1macOS 10.14.6 Mojave / x86_64  OK    OK    ERROR    OK  

Summary

Package: APAlyzer
Version: 1.7.3
Command: rm -rf APAlyzer.buildbin-libdir && mkdir APAlyzer.buildbin-libdir && D:\biocbuild\bbs-3.14-bioc\R\bin\R.exe CMD INSTALL --merge-multiarch --build --library=APAlyzer.buildbin-libdir APAlyzer_1.7.3.tar.gz
StartedAt: 2021-09-21 04:07:14 -0400 (Tue, 21 Sep 2021)
EndedAt: 2021-09-21 04:11:19 -0400 (Tue, 21 Sep 2021)
EllapsedTime: 245.0 seconds
RetCode: 0
Status:   OK  
PackageFile: APAlyzer_1.7.3.zip
PackageFileSize: 3.588 MiB

Command output

##############################################################################
##############################################################################
###
### Running command:
###
###   rm -rf APAlyzer.buildbin-libdir && mkdir APAlyzer.buildbin-libdir && D:\biocbuild\bbs-3.14-bioc\R\bin\R.exe CMD INSTALL --merge-multiarch --build --library=APAlyzer.buildbin-libdir APAlyzer_1.7.3.tar.gz
###
##############################################################################
##############################################################################



install for i386

* installing *source* package 'APAlyzer' ...
** using staged installation
** R
** inst
** byte-compile and prepare package for lazy loading
** help
*** installing help indices
  converting help for package 'APAlyzer'
    finding HTML links ... done
    APABox                                  html  
    APAVolcano                              html  
    APAdiff                                 html  
    GENEXP_CDS                              html  
    PAS2GEF                                 html  
    PASEXP_3UTR                             html  
    PASEXP_IPA                              html  
    REF3UTR                                 html  
    REF4PAS                                 html  
    REFCDS                                  html  
    ThreeMostPairBam                        html  
    download_testbam                        html  
** building package indices
** installing vignettes
** testing if installed package can be loaded from temporary location
** testing if installed package can be loaded from final location
** testing if installed package keeps a record of temporary installation path

install for x64

* installing *source* package 'APAlyzer' ...
** testing if installed package can be loaded
* MD5 sums
packaged installation of 'APAlyzer' as APAlyzer_1.7.3.zip
* DONE (APAlyzer)