Back to Multiple platform build/check report for BioC 3.20:   simplified   long
AB[C]DEFGHIJKLMNOPQRSTUVWXYZ

This page was generated on 2024-07-18 11:37 -0400 (Thu, 18 Jul 2024).

HostnameOSArch (*)R versionInstalled pkgs
nebbiolo2Linux (Ubuntu 22.04.3 LTS)x86_644.4.1 (2024-06-14) -- "Race for Your Life" 4683
palomino8Windows Server 2022 Datacenterx644.4.1 (2024-06-14 ucrt) -- "Race for Your Life" 4379
lconwaymacOS 12.7.1 Montereyx86_644.4.1 (2024-06-14) -- "Race for Your Life" 4450
kjohnson3macOS 13.6.5 Venturaarm644.4.1 (2024-06-14) -- "Race for Your Life" 4399
Click on any hostname to see more info about the system (e.g. compilers)      (*) as reported by 'uname -p', except on Windows and Mac OS X

All results for package Category


To the developers/maintainers of the Category package:
- Allow up to 24 hours (and sometimes 48 hours) for your latest push to git@git.bioconductor.org:packages/Category.git to reflect on this report. See Troubleshooting Build Report for more information.
- Use the following Renviron settings to reproduce errors and warnings.
- If 'R CMD check' started to fail recently on the Linux builder(s) over a missing dependency, add the missing dependency to 'Suggests:' in your DESCRIPTION file. See Renviron.bioc for more information.

raw results

Package 276/2248HostnameOS / ArchINSTALLBUILDCHECKBUILD BIN
Category 2.71.0  (landing page)
Bioconductor Package Maintainer
Snapshot Date: 2024-07-17 14:00 -0400 (Wed, 17 Jul 2024)
git_url: https://git.bioconductor.org/packages/Category
git_branch: devel
git_last_commit: 685e74f
git_last_commit_date: 2024-04-30 10:14:10 -0400 (Tue, 30 Apr 2024)
nebbiolo2Linux (Ubuntu 22.04.3 LTS) / x86_64  OK    OK    OK  UNNEEDED, same version is already published
palomino8Windows Server 2022 Datacenter / x64  OK    OK    OK    OK  UNNEEDED, same version is already published
lconwaymacOS 12.7.1 Monterey / x86_64  OK    OK    OK    OK  UNNEEDED, same version is already published
kjohnson3macOS 13.6.5 Ventura / arm64  OK    OK    OK    OK  UNNEEDED, same version is already published



Results for Bioconductor software packages that depend directly on package Category

QUICK STATSOS / ArchINSTALLBUILDCHECKBUILD BIN
nebbiolo2Linux (Ubuntu 22.04.3 LTS) / x86_64
009
009
0036
palomino8Windows Server 2022 Datacenter / x64
009
009
0036
009
lconwaymacOS 12.7.1 Monterey / x86_64
009
018
0026
008
kjohnson3macOS 13.6.5 Ventura / arm64
009
009
0036
009
Package 1/9HostnameOS / ArchINSTALLBUILDCHECKBUILD BIN
categoryCompare 1.49.0  (landing page)
Robert M. Flight
git_last_commit: 0551947
git_last_commit_date: 2024-04-30 10:27:40 -0400
nebbiolo2Linux (Ubuntu 22.04.3 LTS) / x86_64  OK    OK    OK  UNNEEDED, same version is already published
palomino8Windows Server 2022 Datacenter / x64  OK    OK    OK    OK  UNNEEDED, same version is already published
lconwaymacOS 12.7.1 Monterey / x86_64  OK    OK    OK    OK  UNNEEDED, same version is already published
kjohnson3macOS 13.6.5 Ventura / arm64  OK    OK    OK    OK  UNNEEDED, same version is already published
Package 2/9HostnameOS / ArchINSTALLBUILDCHECKBUILD BIN
GmicR 1.19.0  (landing page)
Richard Virgen-Slane
git_last_commit: 304a4a7
git_last_commit_date: 2024-04-30 11:17:51 -0400
nebbiolo2Linux (Ubuntu 22.04.3 LTS) / x86_64  OK    OK    WARNINGS  UNNEEDED, same version is already published
palomino8Windows Server 2022 Datacenter / x64  OK    OK    WARNINGS    OK  UNNEEDED, same version is already published
lconwaymacOS 12.7.1 Monterey / x86_64  OK    OK    WARNINGS    OK  UNNEEDED, same version is already published
kjohnson3macOS 13.6.5 Ventura / arm64  OK    OK    WARNINGS    OK  UNNEEDED, same version is already published
Package 3/9HostnameOS / ArchINSTALLBUILDCHECKBUILD BIN
GOstats 2.71.0  (landing page)
Bioconductor Package Maintainer
git_last_commit: f8c38a1
git_last_commit_date: 2024-04-30 10:12:40 -0400
nebbiolo2Linux (Ubuntu 22.04.3 LTS) / x86_64  OK    OK    OK  UNNEEDED, same version is already published
palomino8Windows Server 2022 Datacenter / x64  OK    OK    OK    OK  UNNEEDED, same version is already published
lconwaymacOS 12.7.1 Monterey / x86_64  OK    OK    OK    OK  UNNEEDED, same version is already published
kjohnson3macOS 13.6.5 Ventura / arm64  OK    OK    OK    OK  UNNEEDED, same version is already published
Package 4/9HostnameOS / ArchINSTALLBUILDCHECKBUILD BIN
interactiveDisplay 1.43.0  (landing page)
Bioconductor Package Maintainer
git_last_commit: 21b31e0
git_last_commit_date: 2024-04-30 10:34:12 -0400
nebbiolo2Linux (Ubuntu 22.04.3 LTS) / x86_64  OK    OK    OK  UNNEEDED, same version is already published
palomino8Windows Server 2022 Datacenter / x64  OK    OK    OK    OK  UNNEEDED, same version is already published
lconwaymacOS 12.7.1 Monterey / x86_64  OK    OK    OK    OK  UNNEEDED, same version is already published
kjohnson3macOS 13.6.5 Ventura / arm64  OK    OK    OK    OK  UNNEEDED, same version is already published
Package 5/9HostnameOS / ArchINSTALLBUILDCHECKBUILD BIN
meshr 2.11.0  (landing page)
Koki Tsuyuzaki
git_last_commit: ce0f2de
git_last_commit_date: 2024-04-30 10:36:24 -0400
nebbiolo2Linux (Ubuntu 22.04.3 LTS) / x86_64  OK    OK    OK  UNNEEDED, same version is already published
palomino8Windows Server 2022 Datacenter / x64  OK    OK    OK    OK  UNNEEDED, same version is already published
lconwaymacOS 12.7.1 Monterey / x86_64  OK    OK    OK    OK  UNNEEDED, same version is already published
kjohnson3macOS 13.6.5 Ventura / arm64  OK    OK    OK    OK  UNNEEDED, same version is already published
Package 6/9HostnameOS / ArchINSTALLBUILDCHECKBUILD BIN
miRLAB 1.35.0  (landing page)
Thuc Duy Le
git_last_commit: 71301a0
git_last_commit_date: 2024-04-30 10:44:45 -0400
nebbiolo2Linux (Ubuntu 22.04.3 LTS) / x86_64  OK    OK    WARNINGS  UNNEEDED, same version is already published
palomino8Windows Server 2022 Datacenter / x64  OK    OK    WARNINGS    OK  UNNEEDED, same version is already published
lconwaymacOS 12.7.1 Monterey / x86_64  OK    OK    WARNINGS    OK  UNNEEDED, same version is already published
kjohnson3macOS 13.6.5 Ventura / arm64  OK    OK    WARNINGS    OK  UNNEEDED, same version is already published
Package 7/9HostnameOS / ArchINSTALLBUILDCHECKBUILD BIN
phenoTest 1.53.0  (landing page)
Evarist Planet
git_last_commit: 6054a5d
git_last_commit_date: 2024-04-30 10:23:22 -0400
nebbiolo2Linux (Ubuntu 22.04.3 LTS) / x86_64  OK    OK    OK  UNNEEDED, same version is already published
palomino8Windows Server 2022 Datacenter / x64  OK    OK    OK    OK  UNNEEDED, same version is already published
lconwaymacOS 12.7.1 Monterey / x86_64  OK    OK    OK    OK  UNNEEDED, same version is already published
kjohnson3macOS 13.6.5 Ventura / arm64  OK    OK    OK    OK  UNNEEDED, same version is already published
Package 8/9HostnameOS / ArchINSTALLBUILDCHECKBUILD BIN
ReportingTools 2.45.0  (landing page)
Jason A. Hackney , Gabriel Becker
git_last_commit: 1690137
git_last_commit_date: 2024-04-30 10:29:01 -0400
nebbiolo2Linux (Ubuntu 22.04.3 LTS) / x86_64  OK    OK    OK  UNNEEDED, same version is already published
palomino8Windows Server 2022 Datacenter / x64  OK    OK    OK    OK  UNNEEDED, same version is already published
lconwaymacOS 12.7.1 Monterey / x86_64  OK    OK    OK    OK  UNNEEDED, same version is already published
kjohnson3macOS 13.6.5 Ventura / arm64  OK    OK    OK    OK  UNNEEDED, same version is already published
Package 9/9HostnameOS / ArchINSTALLBUILDCHECKBUILD BIN
scTensor 2.15.0  (landing page)
Koki Tsuyuzaki
git_last_commit: 29f39d9
git_last_commit_date: 2024-04-30 11:11:19 -0400
nebbiolo2Linux (Ubuntu 22.04.3 LTS) / x86_64  OK    OK    WARNINGS  UNNEEDED, same version is already published
palomino8Windows Server 2022 Datacenter / x64  OK    OK    WARNINGS    OK  UNNEEDED, same version is already published
lconwaymacOS 12.7.1 Monterey / x86_64  OK    ERROR  skippedskipped
kjohnson3macOS 13.6.5 Ventura / arm64  OK    OK    WARNINGS    OK  UNNEEDED, same version is already published