Index of /checkResults/3.19/data-experiment-LATEST/frmaExampleData/raw-results

[ICO]NameLast modifiedSizeDescription

[DIR]Parent Directory  -  
[   ]info.dcf17-May-2024 03:51 289  
[DIR]nebbiolo1/17-May-2024 03:51 -