Index of /checkResults/3.19/data-experiment-LATEST/curatedAdipoChIP/raw-results

[ICO]NameLast modifiedSizeDescription

[DIR]Parent Directory  -  
[   ]info.dcf12-Jul-2024 03:51 312  
[DIR]nebbiolo1/12-Jul-2024 03:51 -