Back to Build/check report for BioC 3.19 experimental data
ABCDEFGHIJKLMNOPQRS[T]UVWXYZ

This page was generated on 2024-05-21 14:51:33 -0400 (Tue, 21 May 2024).

HostnameOSArch (*)R versionInstalled pkgs
nebbiolo1Linux (Ubuntu 22.04.3 LTS)x86_644.4.0 (2024-04-24) -- "Puppy Cup" 4751
Click on any hostname to see more info about the system (e.g. compilers)      (*) as reported by 'uname -p', except on Windows and Mac OS X

All results for package TENxVisiumData


To the developers/maintainers of the TENxVisiumData package:
- Use the following Renviron settings to reproduce errors and warnings.
- If 'R CMD check' started to fail recently on the Linux builder(s) over a missing dependency, add the missing dependency to 'Suggests:' in your DESCRIPTION file. See Renviron.bioc for more information.

raw results

Package 402/430HostnameOS / ArchINSTALLBUILDCHECK
TENxVisiumData 1.12.0  (landing page)
Helena L. Crowell
Snapshot Date: 2024-05-21 07:30:02 -0400 (Tue, 21 May 2024)
git_url: https://git.bioconductor.org/packages/TENxVisiumData
git_branch: RELEASE_3_19
git_last_commit: ff945aa
git_last_commit_date: 2024-04-30 11:09:03 -0400 (Tue, 30 Apr 2024)
nebbiolo1Linux (Ubuntu 22.04.3 LTS) / x86_64  OK    OK    OK  UNNEEDED, same version is already published