Index of /checkResults/3.19/data-experiment-LATEST/HMP2Data/raw-results

[ICO]NameLast modifiedSizeDescription

[DIR]Parent Directory  -  
[   ]info.dcf21-Jun-2024 03:51 331  
[DIR]nebbiolo1/21-Jun-2024 03:51 -