Index of /checkResults/3.19/data-experiment-LATEST/HMP16SData/raw-results

[ICO]NameLast modifiedSizeDescription

[DIR]Parent Directory  -  
[   ]info.dcf12-Jul-2024 03:51 283  
[DIR]nebbiolo1/12-Jul-2024 03:51 -